Workbook
Name BandMin: 'Rubric and Maturity Reference'!$A$14:$A$17
Name BandName: 'Rubric and Maturity Reference'!$C$14:$C$17
Name TargetScore: 'Rubric and Maturity Reference'!$C$21

Sheet Dashboard
B2: 5S / 7S Audit Dashboard
B3: ='Audit Checklist'!$C$2&" audit · Area: "&IF('Audit Checklist'!$C$5="","not set",'Audit Checklist'!$C$5)&" · Auditor: "&IF('Audit Checklist'!$C$4="","not set",'Audit Checklist'!$C$4)&" · Audit date: "&IF('Audit Checklist'!$C$3="","not set",TEXT('Audit Checklist'!$C$3,"mmm d, yyyy")) -> 7S audit · Area: not set · Auditor: not set · Audit date: not set
B6: OVERALL SCORE | D6: MATURITY BAND | F6: WEAKEST PILLAR | H6: OPEN ACTIONS | J6: AUDIT COMPLETION | L6: VS LAST LOGGED AUDIT
B7: =IF('Audit Checklist'!$C$55="","–",'Audit Checklist'!$C$55) -> 50 | D7: ='Audit Checklist'!$C$56 -> Developing | F7: ='Audit Checklist'!$C$57 -> Sustain | H7: ='Audit Checklist'!$C$58 -> 9 | J7: =IF('Audit Checklist'!$C$62=0,"–",'Audit Checklist'!$C$61/'Audit Checklist'!$C$62) -> 1 | L7: {=IFERROR('Audit Checklist'!$C$55-INDEX(ScoreTrend[Overall Score (%)],ROWS(ScoreTrend[Overall Score (%)])),"–")} -> -8
B8: =IF('Audit Checklist'!$C$55="","",TEXT('Audit Checklist'!$C$55-TargetScore,"+0.0;-0.0")&" pts vs "&TargetScore&"% target") -> -30.0 pts vs 80% target | D8: {=IFERROR("Next band at "&INDEX(BandMin,MATCH(D7,BandName,0)+1)&"%","Top band reached")} -> Next band at 70% | F8: =IFERROR("Scoring "&TEXT(INDEX('Audit Checklist'!$B$47:$B$53,MATCH(F7,'Audit Checklist'!$A$47:$A$53,0)),"0")&"%","") -> Scoring 30% | H8: ='Audit Checklist'!$C$59&" overdue · "&'Audit Checklist'!$C$60&" gaps, no action" -> 0 overdue · 17 gaps, no action | J8: ='Audit Checklist'!$C$61&" of "&'Audit Checklist'!$C$62&" items scored" -> 35 of 35 items scored | L8: {=IFERROR("vs "&TEXT(INDEX(ScoreTrend[Audit Date],ROWS(ScoreTrend[Audit Date])),"mmm d, yyyy"),"")} -> vs Aug 1, 2026
B10: SCORE BY PILLAR | H10: SCORE TREND vs TARGET
B27: OPEN CORRECTIVE ACTIONS — LOWEST SCORES FIRST
B28: Pillar | C28: Score | D28: Checklist Item | H28: Action Required | K28: Owner | L28: Due Date | M28: Status
B29: =IF('Corrective Action Tracker'!A9="","",'Corrective Action Tracker'!A9) -> Shine | C29: =IF('Corrective Action Tracker'!B9="","",'Corrective Action Tracker'!B9) -> 1 | D29: =IF('Corrective Action Tracker'!C9="","",'Corrective Action Tracker'!C9) -> Leak, wear, and contamination sources are addressed, not just masked. | H29: =IF('Corrective Action Tracker'!G9="","",'Corrective Action Tracker'!G9) -> Root-cause and repair recurring leak sources. | K29: =IF('Corrective Action Tracker'!J9="","",'Corrective Action Tracker'!J9) -> Maintenance | L29: =IF('Corrective Action Tracker'!K9="","",'Corrective Action Tracker'!K9) | M29: =IF('Corrective Action Tracker'!L9="","",'Corrective Action Tracker'!L9) -> Open
B30: =IF('Corrective Action Tracker'!A10="","",'Corrective Action Tracker'!A10) -> Standardize | C30: =IF('Corrective Action Tracker'!B10="","",'Corrective Action Tracker'!B10) -> 1 | D30: =IF('Corrective Action Tracker'!C10="","",'Corrective Action Tracker'!C10) -> Standards are current and match the actual expected condition. | H30: =IF('Corrective Action Tracker'!G10="","",'Corrective Action Tracker'!G10) -> Refresh outdated visual standards. | K30: =IF('Corrective Action Tracker'!J10="","",'Corrective Action Tracker'!J10) -> Area Lead | L30: =IF('Corrective Action Tracker'!K10="","",'Corrective Action Tracker'!K10) | M30: =IF('Corrective Action Tracker'!L10="","",'Corrective Action Tracker'!L10) -> Open
B31: =IF('Corrective Action Tracker'!A11="","",'Corrective Action Tracker'!A11) -> Standardize | C31: =IF('Corrective Action Tracker'!B11="","",'Corrective Action Tracker'!B11) -> 1 | D31: =IF('Corrective Action Tracker'!C11="","",'Corrective Action Tracker'!C11) -> A new operator could learn the standard from what is visible, without a binder. | H31: =IF('Corrective Action Tracker'!G11="","",'Corrective Action Tracker'!G11) -> Add photo-based visual aids at each station. | K31: =IF('Corrective Action Tracker'!J11="","",'Corrective Action Tracker'!J11) -> Trainer | L31: =IF('Corrective Action Tracker'!K11="","",'Corrective Action Tracker'!K11) | M31: =IF('Corrective Action Tracker'!L11="","",'Corrective Action Tracker'!L11) -> Open
B32: =IF('Corrective Action Tracker'!A12="","",'Corrective Action Tracker'!A12) -> Sustain | C32: =IF('Corrective Action Tracker'!B12="","",'Corrective Action Tracker'!B12) -> 1 | D32: =IF('Corrective Action Tracker'!C12="","",'Corrective Action Tracker'!C12) -> Layered audits (operator, supervisor, leadership) happen on their defined cadence. | H32: =IF('Corrective Action Tracker'!G12="","",'Corrective Action Tracker'!G12) -> Publish the layered audit calendar. | K32: =IF('Corrective Action Tracker'!J12="","",'Corrective Action Tracker'!J12) -> Plant Manager | L32: =IF('Corrective Action Tracker'!K12="","",'Corrective Action Tracker'!K12) | M32: =IF('Corrective Action Tracker'!L12="","",'Corrective Action Tracker'!L12) -> Open
B33: =IF('Corrective Action Tracker'!A13="","",'Corrective Action Tracker'!A13) -> Sustain | C33: =IF('Corrective Action Tracker'!B13="","",'Corrective Action Tracker'!B13) -> 1 | D33: =IF('Corrective Action Tracker'!C13="","",'Corrective Action Tracker'!C13) -> Audit findings are closed out visibly and on time, not just logged. | H33: =IF('Corrective Action Tracker'!G13="","",'Corrective Action Tracker'!G13) -> Track findings to closure on the Corrective Action Tracker. | K33: =IF('Corrective Action Tracker'!J13="","",'Corrective Action Tracker'!J13) -> Area Lead | L33: =IF('Corrective Action Tracker'!K13="","",'Corrective Action Tracker'!K13) | M33: =IF('Corrective Action Tracker'!L13="","",'Corrective Action Tracker'!L13) -> In Progress
B34: =IF('Corrective Action Tracker'!A14="","",'Corrective Action Tracker'!A14) -> Sustain | C34: =IF('Corrective Action Tracker'!B14="","",'Corrective Action Tracker'!B14) -> 1 | D34: =IF('Corrective Action Tracker'!C14="","",'Corrective Action Tracker'!C14) -> 5S/7S performance is visible on a shared metric or scorecard. | H34: =IF('Corrective Action Tracker'!G14="","",'Corrective Action Tracker'!G14) -> Post the Dashboard tab on the shop-floor board. | K34: =IF('Corrective Action Tracker'!J14="","",'Corrective Action Tracker'!J14) -> Area Lead | L34: =IF('Corrective Action Tracker'!K14="","",'Corrective Action Tracker'!K14) | M34: =IF('Corrective Action Tracker'!L14="","",'Corrective Action Tracker'!L14) -> Open
B35: =IF('Corrective Action Tracker'!A15="","",'Corrective Action Tracker'!A15) -> Security | C35: =IF('Corrective Action Tracker'!B15="","",'Corrective Action Tracker'!B15) -> 1 | D35: =IF('Corrective Action Tracker'!C15="","",'Corrective Action Tracker'!C15) -> Sensitive documents and data are protected from unauthorized access. | H35: =IF('Corrective Action Tracker'!G15="","",'Corrective Action Tracker'!G15) -> Move sensitive documents to access-controlled storage. | K35: =IF('Corrective Action Tracker'!J15="","",'Corrective Action Tracker'!J15) -> IT / Security | L35: =IF('Corrective Action Tracker'!K15="","",'Corrective Action Tracker'!K15) | M35: =IF('Corrective Action Tracker'!L15="","",'Corrective Action Tracker'!L15) -> Open
B36: =IF('Corrective Action Tracker'!A16="","",'Corrective Action Tracker'!A16) -> Sort | C36: =IF('Corrective Action Tracker'!B16="","",'Corrective Action Tracker'!B16) -> 2 | D36: =IF('Corrective Action Tracker'!C16="","",'Corrective Action Tracker'!C16) -> Unneeded items are red-tagged and moved through a disposition process on schedule. | H36: =IF('Corrective Action Tracker'!G16="","",'Corrective Action Tracker'!G16) -> Set a recurring red-tag review date. | K36: =IF('Corrective Action Tracker'!J16="","",'Corrective Action Tracker'!J16) -> Area Lead | L36: =IF('Corrective Action Tracker'!K16="","",'Corrective Action Tracker'!K16) | M36: =IF('Corrective Action Tracker'!L16="","",'Corrective Action Tracker'!L16) -> Open
B37: =IF('Corrective Action Tracker'!A17="","",'Corrective Action Tracker'!A17) -> Shine | C37: =IF('Corrective Action Tracker'!B17="","",'Corrective Action Tracker'!B17) -> 2 | D37: =IF('Corrective Action Tracker'!C17="","",'Corrective Action Tracker'!C17) -> Cleaning doubles as inspection — abnormalities are caught and logged. | H37: =IF('Corrective Action Tracker'!G17="","",'Corrective Action Tracker'!G17) -> Add an inspection checklist to the cleaning routine. | K37: =IF('Corrective Action Tracker'!J17="","",'Corrective Action Tracker'!J17) -> Maintenance | L37: =IF('Corrective Action Tracker'!K17="","",'Corrective Action Tracker'!K17) | M37: =IF('Corrective Action Tracker'!L17="","",'Corrective Action Tracker'!L17) -> In Progress
B38: =IF('Corrective Action Tracker'!A18="","",'Corrective Action Tracker'!A18) | C38: =IF('Corrective Action Tracker'!B18="","",'Corrective Action Tracker'!B18) | D38: =IF('Corrective Action Tracker'!C18="","",'Corrective Action Tracker'!C18) | H38: =IF('Corrective Action Tracker'!G18="","",'Corrective Action Tracker'!G18) | K38: =IF('Corrective Action Tracker'!J18="","",'Corrective Action Tracker'!J18) | L38: =IF('Corrective Action Tracker'!K18="","",'Corrective Action Tracker'!K18) | M38: =IF('Corrective Action Tracker'!L18="","",'Corrective Action Tracker'!L18)
B39: =IF(H7>10,"+ "&(H7-10)&" more open actions — see the Corrective Action Tracker for the full list.","Full detail, owners and due dates live on the Corrective Action Tracker.") -> Full detail, owners and due dates live on the Corrective Action Tracker.
B41: MATURITY BANDS
B42: ='Rubric and Maturity Reference'!$C$14&" · "&'Rubric and Maturity Reference'!$B$14&IF($D$7='Rubric and Maturity Reference'!$C$14," ◄ current","") -> Reactive · 0–39% | E42: ='Rubric and Maturity Reference'!$C$15&" · "&'Rubric and Maturity Reference'!$B$15&IF($D$7='Rubric and Maturity Reference'!$C$15," ◄ current","") -> Developing · 40–69% ◄ current | H42: ='Rubric and Maturity Reference'!$C$16&" · "&'Rubric and Maturity Reference'!$B$16&IF($D$7='Rubric and Maturity Reference'!$C$16," ◄ current","") -> Managed · 70–89% | K42: ='Rubric and Maturity Reference'!$C$17&" · "&'Rubric and Maturity Reference'!$B$17&IF($D$7='Rubric and Maturity Reference'!$C$17," ◄ current","") -> Sustained · 90–100%

Sheet How-To
B2: 5S / 7S Audit Checklist
B3: Score workplace organization, track corrective actions, and prove improvement over time.
B5: What this workbook does
B6: Scores a workplace-organization audit pillar by pillar on a 0–4 scale, calculates an overall percentage and maturity band, tracks every corrective action to closure, and logs each audit so the trend is visible over time. Choose 5S for the five core pillars or 7S to add Safety and Security.
B8: Quick start
B9: 1 | C9: On the Audit Checklist, choose 5S or 7S and fill in the yellow cells: audit date, auditor and area.
B10: 2 | C10: Score every item from 0 (no evidence) to 4 (fully embedded) using the dropdown. Log each gap as an Action Required with an Owner, Due Date and Status.
B11: 3 | C11: Read the result as you go: the live card at the top of the Audit Checklist and the Dashboard show score, maturity band, weakest pillar and open actions.
B12: 4 | C12: Work the Corrective Action Tracker — it lists every open or in-progress action, lowest score first. To close one out, set its Status to Closed on the Audit Checklist.
B13: 5 | C13: When the audit is done, copy the live snapshot row on the Score Trend Log and Paste Special ▸ Values into the next empty row of the history table. Add a note.
B14: 6 | C14: Re-audit on a fixed cadence and compare each result with the target score on the trend chart.
B16: Jump to a tab
B17: → | C17: Dashboard | D17: One-page view: KPIs, pillar scores, trend vs target, open actions.
B18: → | C18: Audit Checklist | D18: Where you score — 35 items across seven pillars, plus pillar summary and results.
B19: → | C19: Corrective Action Tracker | D19: Open and in-progress actions, lowest scores first, with overdue highlighting.
B20: → | C20: Score Trend Log | D20: Live snapshot of the current audit and the history of completed audits.
B21: → | C21: Rubric and Maturity Reference | D21: Scoring rubric, maturity-band thresholds, target score and pillar definitions.
B23: Colour key
C24: Yellow cell | D24: You fill this in (audit details, target score).
C25: Blue text | D25: A value you type — scores, notes, actions, thresholds.
C26: Black text | D26: Calculated. Don't overwrite.
C27: Action needed | D27: Scored 2 or less with no action logged yet.
C28: Overdue | D28: Action is past its due date and not closed.
C29: Grey row | D29: Out of scope — Safety and Security when scope is 5S.
B31: How results are calculated
B32: Pillar score = average item score ÷ 4. Overall score = average of the in-scope pillar scores, so every pillar carries equal weight. The maturity band comes from the thresholds on the Rubric tab. An action is 'open' when an Action Required is entered and its Status is not Closed or N/A. Changing the scope, thresholds or target updates every tab automatically.
B34: Reference
B35: ↗ | C35: Full method and governance guidance | D35: sixsigmakaizen.com/guides/5s-workplace-organization/
B36: ↗ | C36: Companion interactive tool | D36: sixsigmakaizen.com/tools/5s-7s-audit-scorecard/

Sheet Rubric and Maturity Reference
A1: Scoring Rubric & Maturity Reference
A2: Keep scoring consistent across auditors and audit cycles. Band thresholds and the target score below drive every tab.
A4: 1 · Scoring rubric (0–4)
A5: Score | B5: Level | C5: Meaning
A6: 0 | B6: Absent | C6: No evidence of the practice.
A7: 1 | B7: Informal | C7: Happens informally or inconsistently, dependent on individual effort.
A8: 2 | B8: Defined | C8: Defined and documented, but not consistently sustained between audits.
A9: 3 | B9: Sustained | C9: Sustained with only minor gaps.
A10: 4 | B10: Embedded | C10: Fully embedded as the default daily condition.
A12: 2 · Maturity bands (overall score %)
A13: From (%) | B13: Range | C13: Band | D13: What it looks like
A14: 0 | B14: =A14&"–"&(A15-1)&"%" -> 0–39% | C14: Reactive | D14: The system exists on paper. Conditions depend on who's working that day.
A15: 40 | B15: =A15&"–"&(A16-1)&"%" -> 40–69% | C15: Developing | D15: Standards exist and are followed inconsistently. Sustainment is still fragile.
A16: 70 | B16: =A16&"–"&(A17-1)&"%" -> 70–89% | C16: Managed | D16: Layered audits and corrective action are routine.
A17: 90 | B17: =A17&"–100%" -> 90–100% | C17: Sustained | D17: The standard is the default condition.
A18: Blue values are editable thresholds (keep ascending, first band must start at 0).
A20: 3 · Settings
A21: Target overall score (%) | C21: 80 | D21: Assumption — edit to your site goal. Drives gap-to-target on the Dashboard and the target line on the trend charts.
A23: 4 · The seven pillars
A24: Pillar | B24: Origin | C24: Scope | D24: What it means
A25: Sort | B25: Seiri | C25: 5S + 7S | D25: Keep only what the work needs; red-tag and remove the rest.
A26: Set in Order | B26: Seiton | C26: 5S + 7S | D26: A labeled, point-of-use home for everything so nothing is searched for.
A27: Shine | B27: Seiso | C27: 5S + 7S | D27: Clean as inspection — find and fix the source of abnormalities.
A28: Standardize | B28: Seiketsu | C28: 5S + 7S | D28: Make the best-known condition visible, documented, and owned.
A29: Sustain | B29: Shitsuke | C29: 5S + 7S | D29: Layered audits and leadership habits that stop drift between audits.
A30: Safety | B30: — | C30: 7S only | D30: Hazards controlled at source; PPE, emergency equipment, near-miss learning.
A31: Security | B31: — | C31: 7S only | D31: Controlled access to tools, data, assets and visitors.

Sheet Audit Checklist
A1: 5S / 7S Audit Checklist
A2: Audit scope | C2: 7S | E2: Overall score | F2: =IF($C$55="","–",$C$55) -> 50
A3: Audit date | E3: Maturity band | F3: =$C$56 -> Developing
A4: Auditor | E4: Weakest pillar | F4: =$C$57 -> Sustain
A5: Area / Line | E5: Open actions | F5: =$C$58&" · "&$C$59&" overdue · "&$C$60&" gaps w/o action" -> 9 · 0 overdue · 17 gaps w/o action
A6: Yellow cells = audit details to fill in. Blue text in the table = your entries (Score, Notes, Action, Owner, Due Date, Status). Black = calculated — don't overwrite. Safety and Security are scored only when scope = 7S; out-of-scope rows grey out. Scoring guide: see 'Rubric and Maturity Reference'.
A8: Pillar | B8: # | C8: Checklist Item | D8: Score (0-4) | E8: Notes | F8: Action Required | G8: Owner | H8: Due Date | I8: Status | J8: In Scope | K8: Flag
A9: Sort | B9: =COUNTIF($A$9:A9,A9) -> 1 | C9: Only items needed for current work are present in the area. | D9: 3 | I9: Closed | J9: =INDEX($D$47:$D$53,MATCH(AuditItems[[#This Row],[Pillar]],$A$47:$A$53,0)) -> Yes | K9: =IF(AuditItems[[#This Row],[In Scope]]="No","",IF(AND(AuditItems[[#This Row],[Action Required]]="",AuditItems[[#This Row],[Score (0-4)]]<>"",AuditItems[[#This Row],[Score (0-4)]]<=2),"Action needed",IF(AND(AuditItems[[#This Row],[Action Required]]<>"",ISNUMBER(AuditItems[[#This Row],[Due Date]]),AuditItems[[#This Row],[Due Date]]<TODAY(),AuditItems[[#This Row],[Status]]<>"Closed",AuditItems[[#This Row],[Status]]<>"N/A"),"Overdue","")))
A10: Sort | B10: =COUNTIF($A$9:A10,A10) -> 2 | C10: Unneeded items are red-tagged and moved through a disposition process on schedule. | D10: 2 | F10: Set a recurring red-tag review date. | G10: Area Lead | I10: Open | J10: =INDEX($D$47:$D$53,MATCH(AuditItems[[#This Row],[Pillar]],$A$47:$A$53,0)) -> Yes | K10: =IF(AuditItems[[#This Row],[In Scope]]="No","",IF(AND(AuditItems[[#This Row],[Action Required]]="",AuditItems[[#This Row],[Score (0-4)]]<>"",AuditItems[[#This Row],[Score (0-4)]]<=2),"Action needed",IF(AND(AuditItems[[#This Row],[Action Required]]<>"",ISNUMBER(AuditItems[[#This Row],[Due Date]]),AuditItems[[#This Row],[Due Date]]<TODAY(),AuditItems[[#This Row],[Status]]<>"Closed",AuditItems[[#This Row],[Status]]<>"N/A"),"Overdue","")))
A11: Sort | B11: =COUNTIF($A$9:A11,A11) -> 3 | C11: No unknown-ownership material, obsolete documents, or duplicate tools remain. | D11: 3 | I11: Closed | J11: =INDEX($D$47:$D$53,MATCH(AuditItems[[#This Row],[Pillar]],$A$47:$A$53,0)) -> Yes | K11: =IF(AuditItems[[#This Row],[In Scope]]="No","",IF(AND(AuditItems[[#This Row],[Action Required]]="",AuditItems[[#This Row],[Score (0-4)]]<>"",AuditItems[[#This Row],[Score (0-4)]]<=2),"Action needed",IF(AND(AuditItems[[#This Row],[Action Required]]<>"",ISNUMBER(AuditItems[[#This Row],[Due Date]]),AuditItems[[#This Row],[Due Date]]<TODAY(),AuditItems[[#This Row],[Status]]<>"Closed",AuditItems[[#This Row],[Status]]<>"N/A"),"Overdue","")))
A12: Sort | B12: =COUNTIF($A$9:A12,A12) -> 4 | C12: Red-tag reviews happen on a defined, repeating cadence. | D12: 2 | I12: Open | J12: =INDEX($D$47:$D$53,MATCH(AuditItems[[#This Row],[Pillar]],$A$47:$A$53,0)) -> Yes | K12: =IF(AuditItems[[#This Row],[In Scope]]="No","",IF(AND(AuditItems[[#This Row],[Action Required]]="",AuditItems[[#This Row],[Score (0-4)]]<>"",AuditItems[[#This Row],[Score (0-4)]]<=2),"Action needed",IF(AND(AuditItems[[#This Row],[Action Required]]<>"",ISNUMBER(AuditItems[[#This Row],[Due Date]]),AuditItems[[#This Row],[Due Date]]<TODAY(),AuditItems[[#This Row],[Status]]<>"Closed",AuditItems[[#This Row],[Status]]<>"N/A"),"Overdue",""))) -> Action needed
A13: Sort | B13: =COUNTIF($A$9:A13,A13) -> 5 | C13: Storage or floor space freed by removing unneeded items is reused, not immediately refilled. | D13: 2 | I13: Open | J13: =INDEX($D$47:$D$53,MATCH(AuditItems[[#This Row],[Pillar]],$A$47:$A$53,0)) -> Yes | K13: =IF(AuditItems[[#This Row],[In Scope]]="No","",IF(AND(AuditItems[[#This Row],[Action Required]]="",AuditItems[[#This Row],[Score (0-4)]]<>"",AuditItems[[#This Row],[Score (0-4)]]<=2),"Action needed",IF(AND(AuditItems[[#This Row],[Action Required]]<>"",ISNUMBER(AuditItems[[#This Row],[Due Date]]),AuditItems[[#This Row],[Due Date]]<TODAY(),AuditItems[[#This Row],[Status]]<>"Closed",AuditItems[[#This Row],[Status]]<>"N/A"),"Overdue",""))) -> Action needed
A14: Set in Order | B14: =COUNTIF($A$9:A14,A14) -> 1 | C14: Every item has a defined, labeled home location. | D14: 3 | I14: Closed | J14: =INDEX($D$47:$D$53,MATCH(AuditItems[[#This Row],[Pillar]],$A$47:$A$53,0)) -> Yes | K14: =IF(AuditItems[[#This Row],[In Scope]]="No","",IF(AND(AuditItems[[#This Row],[Action Required]]="",AuditItems[[#This Row],[Score (0-4)]]<>"",AuditItems[[#This Row],[Score (0-4)]]<=2),"Action needed",IF(AND(AuditItems[[#This Row],[Action Required]]<>"",ISNUMBER(AuditItems[[#This Row],[Due Date]]),AuditItems[[#This Row],[Due Date]]<TODAY(),AuditItems[[#This Row],[Status]]<>"Closed",AuditItems[[#This Row],[Status]]<>"N/A"),"Overdue","")))
A15: Set in Order | B15: =COUNTIF($A$9:A15,A15) -> 2 | C15: Point-of-use placement or shadow boards are used where practical. | D15: 3 | I15: Closed | J15: =INDEX($D$47:$D$53,MATCH(AuditItems[[#This Row],[Pillar]],$A$47:$A$53,0)) -> Yes | K15: =IF(AuditItems[[#This Row],[In Scope]]="No","",IF(AND(AuditItems[[#This Row],[Action Required]]="",AuditItems[[#This Row],[Score (0-4)]]<>"",AuditItems[[#This Row],[Score (0-4)]]<=2),"Action needed",IF(AND(AuditItems[[#This Row],[Action Required]]<>"",ISNUMBER(AuditItems[[#This Row],[Due Date]]),AuditItems[[#This Row],[Due Date]]<TODAY(),AuditItems[[#This Row],[Status]]<>"Closed",AuditItems[[#This Row],[Status]]<>"N/A"),"Overdue","")))
A16: Set in Order | B16: =COUNTIF($A$9:A16,A16) -> 3 | C16: Operators can retrieve needed items without searching or borrowing. | D16: 2 | I16: Open | J16: =INDEX($D$47:$D$53,MATCH(AuditItems[[#This Row],[Pillar]],$A$47:$A$53,0)) -> Yes | K16: =IF(AuditItems[[#This Row],[In Scope]]="No","",IF(AND(AuditItems[[#This Row],[Action Required]]="",AuditItems[[#This Row],[Score (0-4)]]<>"",AuditItems[[#This Row],[Score (0-4)]]<=2),"Action needed",IF(AND(AuditItems[[#This Row],[Action Required]]<>"",ISNUMBER(AuditItems[[#This Row],[Due Date]]),AuditItems[[#This Row],[Due Date]]<TODAY(),AuditItems[[#This Row],[Status]]<>"Closed",AuditItems[[#This Row],[Status]]<>"N/A"),"Overdue",""))) -> Action needed
A17: Set in Order | B17: =COUNTIF($A$9:A17,A17) -> 4 | C17: Min/max or visual replenishment controls are in place where applicable. | D17: 2 | I17: Open | J17: =INDEX($D$47:$D$53,MATCH(AuditItems[[#This Row],[Pillar]],$A$47:$A$53,0)) -> Yes | K17: =IF(AuditItems[[#This Row],[In Scope]]="No","",IF(AND(AuditItems[[#This Row],[Action Required]]="",AuditItems[[#This Row],[Score (0-4)]]<>"",AuditItems[[#This Row],[Score (0-4)]]<=2),"Action needed",IF(AND(AuditItems[[#This Row],[Action Required]]<>"",ISNUMBER(AuditItems[[#This Row],[Due Date]]),AuditItems[[#This Row],[Due Date]]<TODAY(),AuditItems[[#This Row],[Status]]<>"Closed",AuditItems[[#This Row],[Status]]<>"N/A"),"Overdue",""))) -> Action needed
A18: Set in Order | B18: =COUNTIF($A$9:A18,A18) -> 5 | C18: Walkways, exits, and access to safety equipment are kept clear of obstruction. | D18: 3 | I18: Closed | J18: =INDEX($D$47:$D$53,MATCH(AuditItems[[#This Row],[Pillar]],$A$47:$A$53,0)) -> Yes | K18: =IF(AuditItems[[#This Row],[In Scope]]="No","",IF(AND(AuditItems[[#This Row],[Action Required]]="",AuditItems[[#This Row],[Score (0-4)]]<>"",AuditItems[[#This Row],[Score (0-4)]]<=2),"Action needed",IF(AND(AuditItems[[#This Row],[Action Required]]<>"",ISNUMBER(AuditItems[[#This Row],[Due Date]]),AuditItems[[#This Row],[Due Date]]<TODAY(),AuditItems[[#This Row],[Status]]<>"Closed",AuditItems[[#This Row],[Status]]<>"N/A"),"Overdue","")))
A19: Shine | B19: =COUNTIF($A$9:A19,A19) -> 1 | C19: Routine cleaning is scheduled and completed on cadence. | D19: 2 | I19: Open | J19: =INDEX($D$47:$D$53,MATCH(AuditItems[[#This Row],[Pillar]],$A$47:$A$53,0)) -> Yes | K19: =IF(AuditItems[[#This Row],[In Scope]]="No","",IF(AND(AuditItems[[#This Row],[Action Required]]="",AuditItems[[#This Row],[Score (0-4)]]<>"",AuditItems[[#This Row],[Score (0-4)]]<=2),"Action needed",IF(AND(AuditItems[[#This Row],[Action Required]]<>"",ISNUMBER(AuditItems[[#This Row],[Due Date]]),AuditItems[[#This Row],[Due Date]]<TODAY(),AuditItems[[#This Row],[Status]]<>"Closed",AuditItems[[#This Row],[Status]]<>"N/A"),"Overdue",""))) -> Action needed
A20: Shine | B20: =COUNTIF($A$9:A20,A20) -> 2 | C20: Cleaning doubles as inspection — abnormalities are caught and logged. | D20: 2 | F20: Add an inspection checklist to the cleaning routine. | G20: Maintenance | I20: In Progress | J20: =INDEX($D$47:$D$53,MATCH(AuditItems[[#This Row],[Pillar]],$A$47:$A$53,0)) -> Yes | K20: =IF(AuditItems[[#This Row],[In Scope]]="No","",IF(AND(AuditItems[[#This Row],[Action Required]]="",AuditItems[[#This Row],[Score (0-4)]]<>"",AuditItems[[#This Row],[Score (0-4)]]<=2),"Action needed",IF(AND(AuditItems[[#This Row],[Action Required]]<>"",ISNUMBER(AuditItems[[#This Row],[Due Date]]),AuditItems[[#This Row],[Due Date]]<TODAY(),AuditItems[[#This Row],[Status]]<>"Closed",AuditItems[[#This Row],[Status]]<>"N/A"),"Overdue","")))
A21: Shine | B21: =COUNTIF($A$9:A21,A21) -> 3 | C21: Leak, wear, and contamination sources are addressed, not just masked. | D21: 1 | F21: Root-cause and repair recurring leak sources. | G21: Maintenance | I21: Open | J21: =INDEX($D$47:$D$53,MATCH(AuditItems[[#This Row],[Pillar]],$A$47:$A$53,0)) -> Yes | K21: =IF(AuditItems[[#This Row],[In Scope]]="No","",IF(AND(AuditItems[[#This Row],[Action Required]]="",AuditItems[[#This Row],[Score (0-4)]]<>"",AuditItems[[#This Row],[Score (0-4)]]<=2),"Action needed",IF(AND(AuditItems[[#This Row],[Action Required]]<>"",ISNUMBER(AuditItems[[#This Row],[Due Date]]),AuditItems[[#This Row],[Due Date]]<TODAY(),AuditItems[[#This Row],[Status]]<>"Closed",AuditItems[[#This Row],[Status]]<>"N/A"),"Overdue","")))
A22: Shine | B22: =COUNTIF($A$9:A22,A22) -> 4 | C22: The area's clean appearance reflects real equipment condition, not just tidiness. | D22: 2 | I22: Open | J22: =INDEX($D$47:$D$53,MATCH(AuditItems[[#This Row],[Pillar]],$A$47:$A$53,0)) -> Yes | K22: =IF(AuditItems[[#This Row],[In Scope]]="No","",IF(AND(AuditItems[[#This Row],[Action Required]]="",AuditItems[[#This Row],[Score (0-4)]]<>"",AuditItems[[#This Row],[Score (0-4)]]<=2),"Action needed",IF(AND(AuditItems[[#This Row],[Action Required]]<>"",ISNUMBER(AuditItems[[#This Row],[Due Date]]),AuditItems[[#This Row],[Due Date]]<TODAY(),AuditItems[[#This Row],[Status]]<>"Closed",AuditItems[[#This Row],[Status]]<>"N/A"),"Overdue",""))) -> Action needed
A23: Shine | B23: =COUNTIF($A$9:A23,A23) -> 5 | C23: Cleaning tools and supplies have their own defined, restocked home location. | D23: 2 | I23: Open | J23: =INDEX($D$47:$D$53,MATCH(AuditItems[[#This Row],[Pillar]],$A$47:$A$53,0)) -> Yes | K23: =IF(AuditItems[[#This Row],[In Scope]]="No","",IF(AND(AuditItems[[#This Row],[Action Required]]="",AuditItems[[#This Row],[Score (0-4)]]<>"",AuditItems[[#This Row],[Score (0-4)]]<=2),"Action needed",IF(AND(AuditItems[[#This Row],[Action Required]]<>"",ISNUMBER(AuditItems[[#This Row],[Due Date]]),AuditItems[[#This Row],[Due Date]]<TODAY(),AuditItems[[#This Row],[Status]]<>"Closed",AuditItems[[#This Row],[Status]]<>"N/A"),"Overdue",""))) -> Action needed
A24: Standardize | B24: =COUNTIF($A$9:A24,A24) -> 1 | C24: Visual standards (photos, checklists, floor markings) are posted at point of use. | D24: 2 | I24: Open | J24: =INDEX($D$47:$D$53,MATCH(AuditItems[[#This Row],[Pillar]],$A$47:$A$53,0)) -> Yes | K24: =IF(AuditItems[[#This Row],[In Scope]]="No","",IF(AND(AuditItems[[#This Row],[Action Required]]="",AuditItems[[#This Row],[Score (0-4)]]<>"",AuditItems[[#This Row],[Score (0-4)]]<=2),"Action needed",IF(AND(AuditItems[[#This Row],[Action Required]]<>"",ISNUMBER(AuditItems[[#This Row],[Due Date]]),AuditItems[[#This Row],[Due Date]]<TODAY(),AuditItems[[#This Row],[Status]]<>"Closed",AuditItems[[#This Row],[Status]]<>"N/A"),"Overdue",""))) -> Action needed
A25: Standardize | B25: =COUNTIF($A$9:A25,A25) -> 2 | C25: Standards are current and match the actual expected condition. | D25: 1 | F25: Refresh outdated visual standards. | G25: Area Lead | I25: Open | J25: =INDEX($D$47:$D$53,MATCH(AuditItems[[#This Row],[Pillar]],$A$47:$A$53,0)) -> Yes | K25: =IF(AuditItems[[#This Row],[In Scope]]="No","",IF(AND(AuditItems[[#This Row],[Action Required]]="",AuditItems[[#This Row],[Score (0-4)]]<>"",AuditItems[[#This Row],[Score (0-4)]]<=2),"Action needed",IF(AND(AuditItems[[#This Row],[Action Required]]<>"",ISNUMBER(AuditItems[[#This Row],[Due Date]]),AuditItems[[#This Row],[Due Date]]<TODAY(),AuditItems[[#This Row],[Status]]<>"Closed",AuditItems[[#This Row],[Status]]<>"N/A"),"Overdue","")))
A26: Standardize | B26: =COUNTIF($A$9:A26,A26) -> 3 | C26: Roles and responsibilities for maintaining the standard are clearly assigned. | D26: 2 | I26: Open | J26: =INDEX($D$47:$D$53,MATCH(AuditItems[[#This Row],[Pillar]],$A$47:$A$53,0)) -> Yes | K26: =IF(AuditItems[[#This Row],[In Scope]]="No","",IF(AND(AuditItems[[#This Row],[Action Required]]="",AuditItems[[#This Row],[Score (0-4)]]<>"",AuditItems[[#This Row],[Score (0-4)]]<=2),"Action needed",IF(AND(AuditItems[[#This Row],[Action Required]]<>"",ISNUMBER(AuditItems[[#This Row],[Due Date]]),AuditItems[[#This Row],[Due Date]]<TODAY(),AuditItems[[#This Row],[Status]]<>"Closed",AuditItems[[#This Row],[Status]]<>"N/A"),"Overdue",""))) -> Action needed
A27: Standardize | B27: =COUNTIF($A$9:A27,A27) -> 4 | C27: A new operator could learn the standard from what is visible, without a binder. | D27: 1 | F27: Add photo-based visual aids at each station. | G27: Trainer | I27: Open | J27: =INDEX($D$47:$D$53,MATCH(AuditItems[[#This Row],[Pillar]],$A$47:$A$53,0)) -> Yes | K27: =IF(AuditItems[[#This Row],[In Scope]]="No","",IF(AND(AuditItems[[#This Row],[Action Required]]="",AuditItems[[#This Row],[Score (0-4)]]<>"",AuditItems[[#This Row],[Score (0-4)]]<=2),"Action needed",IF(AND(AuditItems[[#This Row],[Action Required]]<>"",ISNUMBER(AuditItems[[#This Row],[Due Date]]),AuditItems[[#This Row],[Due Date]]<TODAY(),AuditItems[[#This Row],[Status]]<>"Closed",AuditItems[[#This Row],[Status]]<>"N/A"),"Overdue","")))
A28: Standardize | B28: =COUNTIF($A$9:A28,A28) -> 5 | C28: Best practices from one area are captured and shared across similar areas. | D28: 1 | I28: Open | J28: =INDEX($D$47:$D$53,MATCH(AuditItems[[#This Row],[Pillar]],$A$47:$A$53,0)) -> Yes | K28: =IF(AuditItems[[#This Row],[In Scope]]="No","",IF(AND(AuditItems[[#This Row],[Action Required]]="",AuditItems[[#This Row],[Score (0-4)]]<>"",AuditItems[[#This Row],[Score (0-4)]]<=2),"Action needed",IF(AND(AuditItems[[#This Row],[Action Required]]<>"",ISNUMBER(AuditItems[[#This Row],[Due Date]]),AuditItems[[#This Row],[Due Date]]<TODAY(),AuditItems[[#This Row],[Status]]<>"Closed",AuditItems[[#This Row],[Status]]<>"N/A"),"Overdue",""))) -> Action needed
A29: Sustain | B29: =COUNTIF($A$9:A29,A29) -> 1 | C29: Layered audits (operator, supervisor, leadership) happen on their defined cadence. | D29: 1 | F29: Publish the layered audit calendar. | G29: Plant Manager | I29: Open | J29: =INDEX($D$47:$D$53,MATCH(AuditItems[[#This Row],[Pillar]],$A$47:$A$53,0)) -> Yes | K29: =IF(AuditItems[[#This Row],[In Scope]]="No","",IF(AND(AuditItems[[#This Row],[Action Required]]="",AuditItems[[#This Row],[Score (0-4)]]<>"",AuditItems[[#This Row],[Score (0-4)]]<=2),"Action needed",IF(AND(AuditItems[[#This Row],[Action Required]]<>"",ISNUMBER(AuditItems[[#This Row],[Due Date]]),AuditItems[[#This Row],[Due Date]]<TODAY(),AuditItems[[#This Row],[Status]]<>"Closed",AuditItems[[#This Row],[Status]]<>"N/A"),"Overdue","")))
A30: Sustain | B30: =COUNTIF($A$9:A30,A30) -> 2 | C30: Audit findings are closed out visibly and on time, not just logged. | D30: 1 | F30: Track findings to closure on the Corrective Action Tracker. | G30: Area Lead | I30: In Progress | J30: =INDEX($D$47:$D$53,MATCH(AuditItems[[#This Row],[Pillar]],$A$47:$A$53,0)) -> Yes | K30: =IF(AuditItems[[#This Row],[In Scope]]="No","",IF(AND(AuditItems[[#This Row],[Action Required]]="",AuditItems[[#This Row],[Score (0-4)]]<>"",AuditItems[[#This Row],[Score (0-4)]]<=2),"Action needed",IF(AND(AuditItems[[#This Row],[Action Required]]<>"",ISNUMBER(AuditItems[[#This Row],[Due Date]]),AuditItems[[#This Row],[Due Date]]<TODAY(),AuditItems[[#This Row],[Status]]<>"Closed",AuditItems[[#This Row],[Status]]<>"N/A"),"Overdue","")))
A31: Sustain | B31: =COUNTIF($A$9:A31,A31) -> 3 | C31: Leaders visibly participate in and reinforce the standard. | D31: 2 | I31: Open | J31: =INDEX($D$47:$D$53,MATCH(AuditItems[[#This Row],[Pillar]],$A$47:$A$53,0)) -> Yes | K31: =IF(AuditItems[[#This Row],[In Scope]]="No","",IF(AND(AuditItems[[#This Row],[Action Required]]="",AuditItems[[#This Row],[Score (0-4)]]<>"",AuditItems[[#This Row],[Score (0-4)]]<=2),"Action needed",IF(AND(AuditItems[[#This Row],[Action Required]]<>"",ISNUMBER(AuditItems[[#This Row],[Due Date]]),AuditItems[[#This Row],[Due Date]]<TODAY(),AuditItems[[#This Row],[Status]]<>"Closed",AuditItems[[#This Row],[Status]]<>"N/A"),"Overdue",""))) -> Action needed
A32: Sustain | B32: =COUNTIF($A$9:A32,A32) -> 4 | C32: Drift between audits is the exception, not the norm. | D32: 1 | I32: Open | J32: =INDEX($D$47:$D$53,MATCH(AuditItems[[#This Row],[Pillar]],$A$47:$A$53,0)) -> Yes | K32: =IF(AuditItems[[#This Row],[In Scope]]="No","",IF(AND(AuditItems[[#This Row],[Action Required]]="",AuditItems[[#This Row],[Score (0-4)]]<>"",AuditItems[[#This Row],[Score (0-4)]]<=2),"Action needed",IF(AND(AuditItems[[#This Row],[Action Required]]<>"",ISNUMBER(AuditItems[[#This Row],[Due Date]]),AuditItems[[#This Row],[Due Date]]<TODAY(),AuditItems[[#This Row],[Status]]<>"Closed",AuditItems[[#This Row],[Status]]<>"N/A"),"Overdue",""))) -> Action needed
A33: Sustain | B33: =COUNTIF($A$9:A33,A33) -> 5 | C33: 5S/7S performance is visible on a shared metric or scorecard. | D33: 1 | F33: Post the Dashboard tab on the shop-floor board. | G33: Area Lead | I33: Open | J33: =INDEX($D$47:$D$53,MATCH(AuditItems[[#This Row],[Pillar]],$A$47:$A$53,0)) -> Yes | K33: =IF(AuditItems[[#This Row],[In Scope]]="No","",IF(AND(AuditItems[[#This Row],[Action Required]]="",AuditItems[[#This Row],[Score (0-4)]]<>"",AuditItems[[#This Row],[Score (0-4)]]<=2),"Action needed",IF(AND(AuditItems[[#This Row],[Action Required]]<>"",ISNUMBER(AuditItems[[#This Row],[Due Date]]),AuditItems[[#This Row],[Due Date]]<TODAY(),AuditItems[[#This Row],[Status]]<>"Closed",AuditItems[[#This Row],[Status]]<>"N/A"),"Overdue","")))
A34: Safety | B34: =COUNTIF($A$9:A34,A34) -> 1 | C34: Required PPE is available, used, and unexpired. | D34: 3 | I34: Closed | J34: =INDEX($D$47:$D$53,MATCH(AuditItems[[#This Row],[Pillar]],$A$47:$A$53,0)) -> Yes | K34: =IF(AuditItems[[#This Row],[In Scope]]="No","",IF(AND(AuditItems[[#This Row],[Action Required]]="",AuditItems[[#This Row],[Score (0-4)]]<>"",AuditItems[[#This Row],[Score (0-4)]]<=2),"Action needed",IF(AND(AuditItems[[#This Row],[Action Required]]<>"",ISNUMBER(AuditItems[[#This Row],[Due Date]]),AuditItems[[#This Row],[Due Date]]<TODAY(),AuditItems[[#This Row],[Status]]<>"Closed",AuditItems[[#This Row],[Status]]<>"N/A"),"Overdue","")))
A35: Safety | B35: =COUNTIF($A$9:A35,A35) -> 2 | C35: Hazards are marked, guarded, or controlled at the source. | D35: 3 | I35: Closed | J35: =INDEX($D$47:$D$53,MATCH(AuditItems[[#This Row],[Pillar]],$A$47:$A$53,0)) -> Yes | K35: =IF(AuditItems[[#This Row],[In Scope]]="No","",IF(AND(AuditItems[[#This Row],[Action Required]]="",AuditItems[[#This Row],[Score (0-4)]]<>"",AuditItems[[#This Row],[Score (0-4)]]<=2),"Action needed",IF(AND(AuditItems[[#This Row],[Action Required]]<>"",ISNUMBER(AuditItems[[#This Row],[Due Date]]),AuditItems[[#This Row],[Due Date]]<TODAY(),AuditItems[[#This Row],[Status]]<>"Closed",AuditItems[[#This Row],[Status]]<>"N/A"),"Overdue","")))
A36: Safety | B36: =COUNTIF($A$9:A36,A36) -> 3 | C36: Near-misses and incidents are reviewed and drive corrective action. | D36: 2 | I36: Open | J36: =INDEX($D$47:$D$53,MATCH(AuditItems[[#This Row],[Pillar]],$A$47:$A$53,0)) -> Yes | K36: =IF(AuditItems[[#This Row],[In Scope]]="No","",IF(AND(AuditItems[[#This Row],[Action Required]]="",AuditItems[[#This Row],[Score (0-4)]]<>"",AuditItems[[#This Row],[Score (0-4)]]<=2),"Action needed",IF(AND(AuditItems[[#This Row],[Action Required]]<>"",ISNUMBER(AuditItems[[#This Row],[Due Date]]),AuditItems[[#This Row],[Due Date]]<TODAY(),AuditItems[[#This Row],[Status]]<>"Closed",AuditItems[[#This Row],[Status]]<>"N/A"),"Overdue",""))) -> Action needed
A37: Safety | B37: =COUNTIF($A$9:A37,A37) -> 4 | C37: Unsafe shortcuts are not tolerated even under output pressure. | D37: 3 | I37: Closed | J37: =INDEX($D$47:$D$53,MATCH(AuditItems[[#This Row],[Pillar]],$A$47:$A$53,0)) -> Yes | K37: =IF(AuditItems[[#This Row],[In Scope]]="No","",IF(AND(AuditItems[[#This Row],[Action Required]]="",AuditItems[[#This Row],[Score (0-4)]]<>"",AuditItems[[#This Row],[Score (0-4)]]<=2),"Action needed",IF(AND(AuditItems[[#This Row],[Action Required]]<>"",ISNUMBER(AuditItems[[#This Row],[Due Date]]),AuditItems[[#This Row],[Due Date]]<TODAY(),AuditItems[[#This Row],[Status]]<>"Closed",AuditItems[[#This Row],[Status]]<>"N/A"),"Overdue","")))
A38: Safety | B38: =COUNTIF($A$9:A38,A38) -> 5 | C38: Emergency equipment (extinguishers, eyewash, first aid) is accessible and inspected on schedule. | D38: 3 | I38: Closed | J38: =INDEX($D$47:$D$53,MATCH(AuditItems[[#This Row],[Pillar]],$A$47:$A$53,0)) -> Yes | K38: =IF(AuditItems[[#This Row],[In Scope]]="No","",IF(AND(AuditItems[[#This Row],[Action Required]]="",AuditItems[[#This Row],[Score (0-4)]]<>"",AuditItems[[#This Row],[Score (0-4)]]<=2),"Action needed",IF(AND(AuditItems[[#This Row],[Action Required]]<>"",ISNUMBER(AuditItems[[#This Row],[Due Date]]),AuditItems[[#This Row],[Due Date]]<TODAY(),AuditItems[[#This Row],[Status]]<>"Closed",AuditItems[[#This Row],[Status]]<>"N/A"),"Overdue","")))
A39: Security | B39: =COUNTIF($A$9:A39,A39) -> 1 | C39: Access to tools, systems, and material is controlled and authorization-based. | D39: 2 | I39: Open | J39: =INDEX($D$47:$D$53,MATCH(AuditItems[[#This Row],[Pillar]],$A$47:$A$53,0)) -> Yes | K39: =IF(AuditItems[[#This Row],[In Scope]]="No","",IF(AND(AuditItems[[#This Row],[Action Required]]="",AuditItems[[#This Row],[Score (0-4)]]<>"",AuditItems[[#This Row],[Score (0-4)]]<=2),"Action needed",IF(AND(AuditItems[[#This Row],[Action Required]]<>"",ISNUMBER(AuditItems[[#This Row],[Due Date]]),AuditItems[[#This Row],[Due Date]]<TODAY(),AuditItems[[#This Row],[Status]]<>"Closed",AuditItems[[#This Row],[Status]]<>"N/A"),"Overdue",""))) -> Action needed
A40: Security | B40: =COUNTIF($A$9:A40,A40) -> 2 | C40: Lock-and-key or badge logic is enforced consistently. | D40: 2 | I40: Open | J40: =INDEX($D$47:$D$53,MATCH(AuditItems[[#This Row],[Pillar]],$A$47:$A$53,0)) -> Yes | K40: =IF(AuditItems[[#This Row],[In Scope]]="No","",IF(AND(AuditItems[[#This Row],[Action Required]]="",AuditItems[[#This Row],[Score (0-4)]]<>"",AuditItems[[#This Row],[Score (0-4)]]<=2),"Action needed",IF(AND(AuditItems[[#This Row],[Action Required]]<>"",ISNUMBER(AuditItems[[#This Row],[Due Date]]),AuditItems[[#This Row],[Due Date]]<TODAY(),AuditItems[[#This Row],[Status]]<>"Closed",AuditItems[[#This Row],[Status]]<>"N/A"),"Overdue",""))) -> Action needed
A41: Security | B41: =COUNTIF($A$9:A41,A41) -> 3 | C41: Sensitive documents and data are protected from unauthorized access. | D41: 1 | F41: Move sensitive documents to access-controlled storage. | G41: IT / Security | I41: Open | J41: =INDEX($D$47:$D$53,MATCH(AuditItems[[#This Row],[Pillar]],$A$47:$A$53,0)) -> Yes | K41: =IF(AuditItems[[#This Row],[In Scope]]="No","",IF(AND(AuditItems[[#This Row],[Action Required]]="",AuditItems[[#This Row],[Score (0-4)]]<>"",AuditItems[[#This Row],[Score (0-4)]]<=2),"Action needed",IF(AND(AuditItems[[#This Row],[Action Required]]<>"",ISNUMBER(AuditItems[[#This Row],[Due Date]]),AuditItems[[#This Row],[Due Date]]<TODAY(),AuditItems[[#This Row],[Status]]<>"Closed",AuditItems[[#This Row],[Status]]<>"N/A"),"Overdue","")))
...

Sheet Corrective Action Tracker
A1: Corrective Action Tracker
A2: Every in-scope action that is still Open or In Progress, lowest-scoring items first. Update Status on the Audit Checklist to close an item out here.
A4: OPEN | C4: IN PROGRESS | E4: CLOSED | G4: OVERDUE | I4: DUE IN 7 DAYS | K4: GAPS, NO ACTION
A5: =COUNTIFS(AuditItems[Action Required],"<>",AuditItems[Status],"Open",AuditItems[In Scope],"Yes") -> 7 | C5: =COUNTIFS(AuditItems[Action Required],"<>",AuditItems[Status],"In Progress",AuditItems[In Scope],"Yes") -> 2 | E5: =COUNTIFS(AuditItems[Action Required],"<>",AuditItems[Status],"Closed",AuditItems[In Scope],"Yes") -> 0 | G5: =COUNTIFS(AuditItems[Flag],"Overdue") -> 0 | I5: =COUNTIFS(AuditItems[Action Required],"<>",AuditItems[Status],"<>Closed",AuditItems[Status],"<>N/A",AuditItems[In Scope],"Yes",AuditItems[Due Date],">="&TODAY(),AuditItems[Due Date],"<="&TODAY()+7) -> 0 | K5: =COUNTIFS(AuditItems[Flag],"Action needed") -> 17
A6: not yet started | C6: being worked | E6: completed | G6: past due date | I6: coming up | K6: scored 2 or less, none logged
A8: Pillar | B8: Score | C8: Checklist Item | G8: Action Required | J8: Owner | K8: Due Date | L8: Status | M8: Source row
A9: {=IF($M9="","",INDEX(AuditItems[Pillar],$M9))} -> Shine | B9: {=IF($M9="","",INDEX(AuditItems[Score (0-4)],$M9))} -> 1 | C9: {=IF($M9="","No open corrective actions",INDEX(AuditItems[Checklist Item],$M9))} -> Leak, wear, and contamination sources are addressed, not just masked. | G9: {=IF($M9="","",INDEX(AuditItems[Action Required],$M9))} -> Root-cause and repair recurring leak sources. | J9: {=IF($M9="","",INDEX(AuditItems[Owner],$M9)&"")} -> Maintenance | K9: {=IF($M9="","",IF(INDEX(AuditItems[Due Date],$M9)="","",INDEX(AuditItems[Due Date],$M9)))} | L9: {=IF($M9="","",INDEX(AuditItems[Status],$M9)&"")} -> Open | M9: {=IFERROR(MOD(SMALL(IF((AuditItems[Action Required]<>"")*(AuditItems[Status]<>"Closed")*(AuditItems[Status]<>"N/A")*(AuditItems[In Scope]="Yes"),AuditItems[Score (0-4)]*1000+ROW(AuditItems[Score (0-4)])-ROW(AuditItems[#Headers])),ROWS(M$9:M9)),1000),"")} -> 13
A10: {=IF($M10="","",INDEX(AuditItems[Pillar],$M10))} -> Standardize | B10: {=IF($M10="","",INDEX(AuditItems[Score (0-4)],$M10))} -> 1 | C10: {=IF($M10="","",INDEX(AuditItems[Checklist Item],$M10))} -> Standards are current and match the actual expected condition. | G10: {=IF($M10="","",INDEX(AuditItems[Action Required],$M10))} -> Refresh outdated visual standards. | J10: {=IF($M10="","",INDEX(AuditItems[Owner],$M10)&"")} -> Area Lead | K10: {=IF($M10="","",IF(INDEX(AuditItems[Due Date],$M10)="","",INDEX(AuditItems[Due Date],$M10)))} | L10: {=IF($M10="","",INDEX(AuditItems[Status],$M10)&"")} -> Open | M10: {=IFERROR(MOD(SMALL(IF((AuditItems[Action Required]<>"")*(AuditItems[Status]<>"Closed")*(AuditItems[Status]<>"N/A")*(AuditItems[In Scope]="Yes"),AuditItems[Score (0-4)]*1000+ROW(AuditItems[Score (0-4)])-ROW(AuditItems[#Headers])),ROWS(M$9:M10)),1000),"")} -> 17
A11: {=IF($M11="","",INDEX(AuditItems[Pillar],$M11))} -> Standardize | B11: {=IF($M11="","",INDEX(AuditItems[Score (0-4)],$M11))} -> 1 | C11: {=IF($M11="","",INDEX(AuditItems[Checklist Item],$M11))} -> A new operator could learn the standard from what is visible, without a binder. | G11: {=IF($M11="","",INDEX(AuditItems[Action Required],$M11))} -> Add photo-based visual aids at each station. | J11: {=IF($M11="","",INDEX(AuditItems[Owner],$M11)&"")} -> Trainer | K11: {=IF($M11="","",IF(INDEX(AuditItems[Due Date],$M11)="","",INDEX(AuditItems[Due Date],$M11)))} | L11: {=IF($M11="","",INDEX(AuditItems[Status],$M11)&"")} -> Open | M11: {=IFERROR(MOD(SMALL(IF((AuditItems[Action Required]<>"")*(AuditItems[Status]<>"Closed")*(AuditItems[Status]<>"N/A")*(AuditItems[In Scope]="Yes"),AuditItems[Score (0-4)]*1000+ROW(AuditItems[Score (0-4)])-ROW(AuditItems[#Headers])),ROWS(M$9:M11)),1000),"")} -> 19
A12: {=IF($M12="","",INDEX(AuditItems[Pillar],$M12))} -> Sustain | B12: {=IF($M12="","",INDEX(AuditItems[Score (0-4)],$M12))} -> 1 | C12: {=IF($M12="","",INDEX(AuditItems[Checklist Item],$M12))} -> Layered audits (operator, supervisor, leadership) happen on their defined cadence. | G12: {=IF($M12="","",INDEX(AuditItems[Action Required],$M12))} -> Publish the layered audit calendar. | J12: {=IF($M12="","",INDEX(AuditItems[Owner],$M12)&"")} -> Plant Manager | K12: {=IF($M12="","",IF(INDEX(AuditItems[Due Date],$M12)="","",INDEX(AuditItems[Due Date],$M12)))} | L12: {=IF($M12="","",INDEX(AuditItems[Status],$M12)&"")} -> Open | M12: {=IFERROR(MOD(SMALL(IF((AuditItems[Action Required]<>"")*(AuditItems[Status]<>"Closed")*(AuditItems[Status]<>"N/A")*(AuditItems[In Scope]="Yes"),AuditItems[Score (0-4)]*1000+ROW(AuditItems[Score (0-4)])-ROW(AuditItems[#Headers])),ROWS(M$9:M12)),1000),"")} -> 21
A13: {=IF($M13="","",INDEX(AuditItems[Pillar],$M13))} -> Sustain | B13: {=IF($M13="","",INDEX(AuditItems[Score (0-4)],$M13))} -> 1 | C13: {=IF($M13="","",INDEX(AuditItems[Checklist Item],$M13))} -> Audit findings are closed out visibly and on time, not just logged. | G13: {=IF($M13="","",INDEX(AuditItems[Action Required],$M13))} -> Track findings to closure on the Corrective Action Tracker. | J13: {=IF($M13="","",INDEX(AuditItems[Owner],$M13)&"")} -> Area Lead | K13: {=IF($M13="","",IF(INDEX(AuditItems[Due Date],$M13)="","",INDEX(AuditItems[Due Date],$M13)))} | L13: {=IF($M13="","",INDEX(AuditItems[Status],$M13)&"")} -> In Progress | M13: {=IFERROR(MOD(SMALL(IF((AuditItems[Action Required]<>"")*(AuditItems[Status]<>"Closed")*(AuditItems[Status]<>"N/A")*(AuditItems[In Scope]="Yes"),AuditItems[Score (0-4)]*1000+ROW(AuditItems[Score (0-4)])-ROW(AuditItems[#Headers])),ROWS(M$9:M13)),1000),"")} -> 22
A14: {=IF($M14="","",INDEX(AuditItems[Pillar],$M14))} -> Sustain | B14: {=IF($M14="","",INDEX(AuditItems[Score (0-4)],$M14))} -> 1 | C14: {=IF($M14="","",INDEX(AuditItems[Checklist Item],$M14))} -> 5S/7S performance is visible on a shared metric or scorecard. | G14: {=IF($M14="","",INDEX(AuditItems[Action Required],$M14))} -> Post the Dashboard tab on the shop-floor board. | J14: {=IF($M14="","",INDEX(AuditItems[Owner],$M14)&"")} -> Area Lead | K14: {=IF($M14="","",IF(INDEX(AuditItems[Due Date],$M14)="","",INDEX(AuditItems[Due Date],$M14)))} | L14: {=IF($M14="","",INDEX(AuditItems[Status],$M14)&"")} -> Open | M14: {=IFERROR(MOD(SMALL(IF((AuditItems[Action Required]<>"")*(AuditItems[Status]<>"Closed")*(AuditItems[Status]<>"N/A")*(AuditItems[In Scope]="Yes"),AuditItems[Score (0-4)]*1000+ROW(AuditItems[Score (0-4)])-ROW(AuditItems[#Headers])),ROWS(M$9:M14)),1000),"")} -> 25
A15: {=IF($M15="","",INDEX(AuditItems[Pillar],$M15))} -> Security | B15: {=IF($M15="","",INDEX(AuditItems[Score (0-4)],$M15))} -> 1 | C15: {=IF($M15="","",INDEX(AuditItems[Checklist Item],$M15))} -> Sensitive documents and data are protected from unauthorized access. | G15: {=IF($M15="","",INDEX(AuditItems[Action Required],$M15))} -> Move sensitive documents to access-controlled storage. | J15: {=IF($M15="","",INDEX(AuditItems[Owner],$M15)&"")} -> IT / Security | K15: {=IF($M15="","",IF(INDEX(AuditItems[Due Date],$M15)="","",INDEX(AuditItems[Due Date],$M15)))} | L15: {=IF($M15="","",INDEX(AuditItems[Status],$M15)&"")} -> Open | M15: {=IFERROR(MOD(SMALL(IF((AuditItems[Action Required]<>"")*(AuditItems[Status]<>"Closed")*(AuditItems[Status]<>"N/A")*(AuditItems[In Scope]="Yes"),AuditItems[Score (0-4)]*1000+ROW(AuditItems[Score (0-4)])-ROW(AuditItems[#Headers])),ROWS(M$9:M15)),1000),"")} -> 33
A16: {=IF($M16="","",INDEX(AuditItems[Pillar],$M16))} -> Sort | B16: {=IF($M16="","",INDEX(AuditItems[Score (0-4)],$M16))} -> 2 | C16: {=IF($M16="","",INDEX(AuditItems[Checklist Item],$M16))} -> Unneeded items are red-tagged and moved through a disposition process on schedule. | G16: {=IF($M16="","",INDEX(AuditItems[Action Required],$M16))} -> Set a recurring red-tag review date. | J16: {=IF($M16="","",INDEX(AuditItems[Owner],$M16)&"")} -> Area Lead | K16: {=IF($M16="","",IF(INDEX(AuditItems[Due Date],$M16)="","",INDEX(AuditItems[Due Date],$M16)))} | L16: {=IF($M16="","",INDEX(AuditItems[Status],$M16)&"")} -> Open | M16: {=IFERROR(MOD(SMALL(IF((AuditItems[Action Required]<>"")*(AuditItems[Status]<>"Closed")*(AuditItems[Status]<>"N/A")*(AuditItems[In Scope]="Yes"),AuditItems[Score (0-4)]*1000+ROW(AuditItems[Score (0-4)])-ROW(AuditItems[#Headers])),ROWS(M$9:M16)),1000),"")} -> 2
A17: {=IF($M17="","",INDEX(AuditItems[Pillar],$M17))} -> Shine | B17: {=IF($M17="","",INDEX(AuditItems[Score (0-4)],$M17))} -> 2 | C17: {=IF($M17="","",INDEX(AuditItems[Checklist Item],$M17))} -> Cleaning doubles as inspection — abnormalities are caught and logged. | G17: {=IF($M17="","",INDEX(AuditItems[Action Required],$M17))} -> Add an inspection checklist to the cleaning routine. | J17: {=IF($M17="","",INDEX(AuditItems[Owner],$M17)&"")} -> Maintenance | K17: {=IF($M17="","",IF(INDEX(AuditItems[Due Date],$M17)="","",INDEX(AuditItems[Due Date],$M17)))} | L17: {=IF($M17="","",INDEX(AuditItems[Status],$M17)&"")} -> In Progress | M17: {=IFERROR(MOD(SMALL(IF((AuditItems[Action Required]<>"")*(AuditItems[Status]<>"Closed")*(AuditItems[Status]<>"N/A")*(AuditItems[In Scope]="Yes"),AuditItems[Score (0-4)]*1000+ROW(AuditItems[Score (0-4)])-ROW(AuditItems[#Headers])),ROWS(M$9:M17)),1000),"")} -> 12
A18: {=IF($M18="","",INDEX(AuditItems[Pillar],$M18))} | B18: {=IF($M18="","",INDEX(AuditItems[Score (0-4)],$M18))} | C18: {=IF($M18="","",INDEX(AuditItems[Checklist Item],$M18))} | G18: {=IF($M18="","",INDEX(AuditItems[Action Required],$M18))} | J18: {=IF($M18="","",INDEX(AuditItems[Owner],$M18)&"")} | K18: {=IF($M18="","",IF(INDEX(AuditItems[Due Date],$M18)="","",INDEX(AuditItems[Due Date],$M18)))} | L18: {=IF($M18="","",INDEX(AuditItems[Status],$M18)&"")} | M18: {=IFERROR(MOD(SMALL(IF((AuditItems[Action Required]<>"")*(AuditItems[Status]<>"Closed")*(AuditItems[Status]<>"N/A")*(AuditItems[In Scope]="Yes"),AuditItems[Score (0-4)]*1000+ROW(AuditItems[Score (0-4)])-ROW(AuditItems[#Headers])),ROWS(M$9:M18)),1000),"")}
A19: {=IF($M19="","",INDEX(AuditItems[Pillar],$M19))} | B19: {=IF($M19="","",INDEX(AuditItems[Score (0-4)],$M19))} | C19: {=IF($M19="","",INDEX(AuditItems[Checklist Item],$M19))} | G19: {=IF($M19="","",INDEX(AuditItems[Action Required],$M19))} | J19: {=IF($M19="","",INDEX(AuditItems[Owner],$M19)&"")} | K19: {=IF($M19="","",IF(INDEX(AuditItems[Due Date],$M19)="","",INDEX(AuditItems[Due Date],$M19)))} | L19: {=IF($M19="","",INDEX(AuditItems[Status],$M19)&"")} | M19: {=IFERROR(MOD(SMALL(IF((AuditItems[Action Required]<>"")*(AuditItems[Status]<>"Closed")*(AuditItems[Status]<>"N/A")*(AuditItems[In Scope]="Yes"),AuditItems[Score (0-4)]*1000+ROW(AuditItems[Score (0-4)])-ROW(AuditItems[#Headers])),ROWS(M$9:M19)),1000),"")}
A20: {=IF($M20="","",INDEX(AuditItems[Pillar],$M20))} | B20: {=IF($M20="","",INDEX(AuditItems[Score (0-4)],$M20))} | C20: {=IF($M20="","",INDEX(AuditItems[Checklist Item],$M20))} | G20: {=IF($M20="","",INDEX(AuditItems[Action Required],$M20))} | J20: {=IF($M20="","",INDEX(AuditItems[Owner],$M20)&"")} | K20: {=IF($M20="","",IF(INDEX(AuditItems[Due Date],$M20)="","",INDEX(AuditItems[Due Date],$M20)))} | L20: {=IF($M20="","",INDEX(AuditItems[Status],$M20)&"")} | M20: {=IFERROR(MOD(SMALL(IF((AuditItems[Action Required]<>"")*(AuditItems[Status]<>"Closed")*(AuditItems[Status]<>"N/A")*(AuditItems[In Scope]="Yes"),AuditItems[Score (0-4)]*1000+ROW(AuditItems[Score (0-4)])-ROW(AuditItems[#Headers])),ROWS(M$9:M20)),1000),"")}
A21: {=IF($M21="","",INDEX(AuditItems[Pillar],$M21))} | B21: {=IF($M21="","",INDEX(AuditItems[Score (0-4)],$M21))} | C21: {=IF($M21="","",INDEX(AuditItems[Checklist Item],$M21))} | G21: {=IF($M21="","",INDEX(AuditItems[Action Required],$M21))} | J21: {=IF($M21="","",INDEX(AuditItems[Owner],$M21)&"")} | K21: {=IF($M21="","",IF(INDEX(AuditItems[Due Date],$M21)="","",INDEX(AuditItems[Due Date],$M21)))} | L21: {=IF($M21="","",INDEX(AuditItems[Status],$M21)&"")} | M21: {=IFERROR(MOD(SMALL(IF((AuditItems[Action Required]<>"")*(AuditItems[Status]<>"Closed")*(AuditItems[Status]<>"N/A")*(AuditItems[In Scope]="Yes"),AuditItems[Score (0-4)]*1000+ROW(AuditItems[Score (0-4)])-ROW(AuditItems[#Headers])),ROWS(M$9:M21)),1000),"")}
... A43: {=IF($M43="","",INDEX(AuditItems[Pillar],$M43))} | B43: {=IF($M43="","",INDEX(AuditItems[Score (0-4)],$M43))} | C43: {=IF($M43="","",INDEX(AuditItems[Checklist Item],$M43))} | G43: {=IF($M43="","",INDEX(AuditItems[Action Required],$M43))} | J43: {=IF($M43="","",INDEX(AuditItems[Owner],$M43)&"")} | K43: {=IF($M43="","",IF(INDEX(AuditItems[Due Date],$M43)="","",INDEX(AuditItems[Due Date],$M43)))} | L43: {=IF($M43="","",INDEX(AuditItems[Status],$M43)&"")} | M43: {=IFERROR(MOD(SMALL(IF((AuditItems[Action Required]<>"")*(AuditItems[Status]<>"Closed")*(AuditItems[Status]<>"N/A")*(AuditItems[In Scope]="Yes"),AuditItems[Score (0-4)]*1000+ROW(AuditItems[Score (0-4)])-ROW(AuditItems[#Headers])),ROWS(M$9:M43)),1000),"")}

Sheet Score Trend Log
A1: Score Trend Log
A2: Log one row per completed audit to build the maturity trend. The live snapshot below always reflects the current Audit Checklist.
A4: Current audit — live snapshot
A5: Audit Date | B5: Scope | C5: Overall Score (%) | D5: Maturity Band | E5: Weakest Pillar | F5: Notes (type in the log)
A6: =IF('Audit Checklist'!$C$3="","",'Audit Checklist'!$C$3) | B6: ='Audit Checklist'!$C$2 -> 7S | C6: ='Audit Checklist'!$C$55 -> 50 | D6: ='Audit Checklist'!$C$56 -> Developing | E6: ='Audit Checklist'!$C$57 -> Sustain
A7: =IF('Audit Checklist'!$C$3="","⚠ Set the audit date on the Audit Checklist before logging this audit.","Ready to log: copy A6:F6, then Paste Special ▸ Values into the next empty row of the table below and add a note.") -> ⚠ Set the audit date on the Audit Checklist before logging this audit.
A9: Trend vs target
A27: Audit history
A28: Audit Date | B28: Scope (5S/7S) | C28: Overall Score (%) | D28: Maturity Band | E28: Weakest Pillar | F28: Notes | G28: Change vs Prior (pts) | H28: Target (%)
A29: 46174 | B29: 7S | C29: 42 | D29: Developing | E29: Sustain | F29: Baseline audit after 7S launch. | G29: {=IF(ROW()-ROW(ScoreTrend[#Headers])=1,"",ScoreTrend[[#This Row],[Overall Score (%)]]-INDEX(ScoreTrend[Overall Score (%)],ROW()-ROW(ScoreTrend[#Headers])-1))} | H29: =TargetScore -> 80
A30: 46204 | B30: 7S | C30: 50 | D30: Developing | E30: Sustain | F30: Sort and Set in Order held; Sustain still lagging. | G30: {=IF(ROW()-ROW(ScoreTrend[#Headers])=1,"",ScoreTrend[[#This Row],[Overall Score (%)]]-INDEX(ScoreTrend[Overall Score (%)],ROW()-ROW(ScoreTrend[#Headers])-1))} -> 8 | H30: =TargetScore -> 80
A31: 46235 | B31: 7S | C31: 58 | D31: Developing | E31: Standardize | F31: Layered audits now consistent; standards need refresh. | G31: {=IF(ROW()-ROW(ScoreTrend[#Headers])=1,"",ScoreTrend[[#This Row],[Overall Score (%)]]-INDEX(ScoreTrend[Overall Score (%)],ROW()-ROW(ScoreTrend[#Headers])-1))} -> 8 | H31: =TargetScore -> 80
