Workbook

Sheet Dashboard
B2: QUALITY GATE DASHBOARD
B3: =IF(B17="","No releases logged yet","Latest release "&B17&" ("&K17&")")&" · Delivery data through "&IF('Delivery Metrics'!K11="","n/a",TEXT('Delivery Metrics'!K11,"mmm yyyy"))&" · "&COUNTIF(DefinitionOfDone[Required?],"Yes")&" required gates in the Definition of Done" -> Latest release v4.19 (Ship) · Delivery data through Sep 2026 · 9 required gates in the Definition of Done
B5: RELEASE QUALITY
B6: LATEST RELEASE | E6: PASS RATE · LATEST RELEASE | H6: REQUIRED FAILS · LATEST RELEASE | K6: AUTOMATION COVERAGE
B7: =IF(B17="","–",B17) -> v4.19 | E7: =IF(J17="","–",J17) -> 1 | H7: =IF(H17="","–",H17) -> 0 | K7: =IFERROR(COUNTIF(DefinitionOfDone[Gate type],"Automated")/COUNTIF(DefinitionOfDone[Gate type],"?*"),"–") -> 0.5
B8: =IF(B17="","Log a release to begin",K17&" · "&TEXT(C17,"d mmm yyyy")) -> Ship · 5 Oct 2026 | E8: =IF(B17="","",D17&" of "&(G17-F17)&" checks passed"&IF(F17>0," ("&F17&" waived)","")) -> 10 of 10 checks passed | H8: =IF(B17="","",I17&" required not logged · "&E17&" fails in total") -> 0 required not logged · 0 fails in total | K8: =COUNTIF(DefinitionOfDone[Gate type],"Automated")&" of "&COUNTIF(DefinitionOfDone[Gate type],"?*")&" Definition of Done items" -> 5 of 10 Definition of Done items
B10: DELIVERY PERFORMANCE (DORA) · latest month vs prior month
B11: DEPLOYMENTS PER WEEK | E11: MEDIAN LEAD TIME (DAYS) | H11: CHANGE FAILURE RATE | K11: MEDIAN TIME TO RESTORE (HRS)
B12: =IF('Delivery Metrics'!O6="","–",'Delivery Metrics'!O6) -> 14 | E12: =IF('Delivery Metrics'!O7="","–",'Delivery Metrics'!O7) -> 1 | H12: =IF('Delivery Metrics'!O8="","–",'Delivery Metrics'!O8) -> 0.083333333 | K12: =IF('Delivery Metrics'!O9="","–",'Delivery Metrics'!O9) -> 0.6
B13: =IF('Delivery Metrics'!O6="","",'Delivery Metrics'!Q6&" · prior "&TEXT('Delivery Metrics'!P6,"0.0")) -> Elite · prior 13.1 | E13: =IF('Delivery Metrics'!O7="","",'Delivery Metrics'!Q7&" · prior "&TEXT('Delivery Metrics'!P7,"0.0")) -> Elite · prior 1.5 | H13: =IF('Delivery Metrics'!O8="","",'Delivery Metrics'!Q8&" · prior "&TEXT('Delivery Metrics'!P8,"0.0%")) -> High · prior 8.6% | K13: =IF('Delivery Metrics'!O9="","",'Delivery Metrics'!Q9&" · prior "&TEXT('Delivery Metrics'!P9,"0.0")) -> Elite · prior 0.8
B15: RELEASE SCORECARD · latest 6 releases | O15: CHART DATA (oldest to newest; do not edit)
B16: Release | C16: Date | D16: Pass | E16: Fail | F16: Waived | G16: Checks | H16: Required fails | I16: Required not logged | J16: Pass rate | K16: Verdict | O16: Release | P16: Pass | Q16: Fail | R16: Waived
B17: {=IFERROR(_xlfn.LET(_xlpm.u,_xlfn.UNIQUE(_xlfn._xlws.FILTER(GateLog[Release],GateLog[Release]<>"")),_xlpm.d,_xlfn.MAXIFS(GateLog[Date],GateLog[Release],_xlpm.u),_xlfn.TAKE(_xlfn.SORTBY(_xlpm.u,_xlpm.d,-1),6)),"")} -> v4.19 | C17: {=IF(_xlfn.ANCHORARRAY(B17)="","",_xlfn.MAXIFS(GateLog[Date],GateLog[Release],_xlfn.ANCHORARRAY(B17)))} -> 46300 | D17: {=IF(_xlfn.ANCHORARRAY(B17)="","",COUNTIFS(GateLog[Release],_xlfn.ANCHORARRAY(B17),GateLog[Result],"Pass"))} -> 10 | E17: {=IF(_xlfn.ANCHORARRAY(B17)="","",COUNTIFS(GateLog[Release],_xlfn.ANCHORARRAY(B17),GateLog[Result],"Fail"))} -> 0 | F17: {=IF(_xlfn.ANCHORARRAY(B17)="","",COUNTIFS(GateLog[Release],_xlfn.ANCHORARRAY(B17),GateLog[Result],"Waived"))} -> 0 | G17: {=IF(_xlfn.ANCHORARRAY(B17)="","",COUNTIFS(GateLog[Release],_xlfn.ANCHORARRAY(B17)))} -> 10 | H17: {=IF(_xlfn.ANCHORARRAY(B17)="","",COUNTIFS(GateLog[Release],_xlfn.ANCHORARRAY(B17),GateLog[Result],"Fail",GateLog[Required?],"Yes"))} -> 0 | I17: {=IF(_xlfn.ANCHORARRAY(B17)="","",_xlfn.LET(_xlpm.n,COUNTIF(DefinitionOfDone[Required?],"Yes")-COUNTIFS(GateLog[Release],_xlfn.ANCHORARRAY(B17),GateLog[Required?],"Yes"),_xlpm.n*(_xlpm.n>0)))} -> 0 | J17: {=IF(_xlfn.ANCHORARRAY(B17)="","",IFERROR(_xlfn.ANCHORARRAY(D17)/(_xlfn.ANCHORARRAY(G17)-_xlfn.ANCHORARRAY(F17)),""))} -> 1 | K17: {=IF(_xlfn.ANCHORARRAY(B17)="","",IF(_xlfn.ANCHORARRAY(H17)>0,"Blocked",IF(_xlfn.ANCHORARRAY(I17)>0,"Incomplete",IF(_xlfn.ANCHORARRAY(F17)>0,"Ship with waivers","Ship"))))} -> Ship | O17: {=_xlfn.SORTBY(_xlfn.ANCHORARRAY(B17),_xlfn.ANCHORARRAY(C17),1)} -> v4.14 | P17: {=_xlfn.SORTBY(_xlfn.ANCHORARRAY(D17),_xlfn.ANCHORARRAY(C17),1)} -> 8 | Q17: {=_xlfn.SORTBY(_xlfn.ANCHORARRAY(E17),_xlfn.ANCHORARRAY(C17),1)} -> 1 | R17: {=_xlfn.SORTBY(_xlfn.ANCHORARRAY(F17),_xlfn.ANCHORARRAY(C17),1)} -> 0
B18: v4.18 | C18: 46279 | D18: 7 | E18: 2 | F18: 0 | G18: 9 | H18: 2 | I18: 0 | J18: 0.77777778 | K18: Blocked | O18: v4.15 | P18: 8 | Q18: 1 | R18: 0
B19: v4.17 | C19: 46244 | D19: 8 | E19: 1 | F19: 0 | G19: 9 | H19: 1 | I19: 0 | J19: 0.88888889 | K19: Blocked | O19: v4.16 | P19: 9 | Q19: 0 | R19: 1
B20: v4.16 | C20: 46223 | D20: 9 | E20: 0 | F20: 1 | G20: 10 | H20: 0 | I20: 0 | J20: 1 | K20: Ship with waivers | O20: v4.17 | P20: 8 | Q20: 1 | R20: 0
B21: v4.15 | C21: 46202 | D21: 8 | E21: 1 | F21: 0 | G21: 9 | H21: 1 | I21: 0 | J21: 0.88888889 | K21: Blocked | O21: v4.18 | P21: 7 | Q21: 2 | R21: 0
B22: v4.14 | C22: 46181 | D22: 8 | E22: 1 | F22: 0 | G22: 9 | H22: 1 | I22: 0 | J22: 0.88888889 | K22: Blocked | O22: v4.19 | P22: 10 | Q22: 0 | R22: 0
B24: TRENDS
B40: MOST-FAILED DEFINITION OF DONE ITEMS
B41: ID | C41: Times failed | D41: Item | K41: Required? | L41: Last result
B42: {=IFERROR(_xlfn.LET(_xlpm.id,DefinitionOfDone[ID],_xlpm.f,IF(DefinitionOfDone[Fails]="",0,DefinitionOfDone[Fails]),_xlfn.TAKE(_xlfn.SORTBY(_xlfn._xlws.FILTER(_xlpm.id,_xlpm.f>0),_xlfn._xlws.FILTER(_xlpm.f,_xlpm.f>0),-1),5)),"None failed")} -> D08 | C42: {=IF(_xlfn.ANCHORARRAY(B42)="","",IFERROR(_xlfn.XLOOKUP(_xlfn.ANCHORARRAY(B42),DefinitionOfDone[ID],DefinitionOfDone[Fails]),""))} -> 3 | D42: {=IF(_xlfn.ANCHORARRAY(B42)="","",IFERROR(_xlfn.XLOOKUP(_xlfn.ANCHORARRAY(B42),DefinitionOfDone[ID],DefinitionOfDone[Item]),""))} -> Rollback plan tested or confirmed | K42: {=IF(_xlfn.ANCHORARRAY(B42)="","",IFERROR(_xlfn.XLOOKUP(_xlfn.ANCHORARRAY(B42),DefinitionOfDone[ID],DefinitionOfDone[Required?]),""))} -> Yes | L42: {=IF(_xlfn.ANCHORARRAY(B42)="","",IFERROR(_xlfn.XLOOKUP(_xlfn.ANCHORARRAY(B42),DefinitionOfDone[ID],DefinitionOfDone[Last result]),""))} -> Pass
B43: D05 | C43: 2 | D43: Integration tests pass | K43: Yes | L43: Pass
B48: Verdict: Blocked = a required item failed · Incomplete = a required item has no result logged · Ship with waivers = no required fail but a waiver · Ship = every required item passed. DORA bands are editable on Delivery Metrics.

Sheet How-To
B1: DEFINITION OF DONE AND QUALITY GATES
B2: How to use this workbook
B4: WHAT THIS WORKBOOK IS
B5: Purpose | C5: A working set for delivery quality: a written definition of done, a release gate log that records the result of every check, and a monthly log of the four DORA delivery metrics. A dashboard rolls it up into a verdict per release.
B7: HOW TO USE IT
B8: 1 Definition of Done | C8: List the items a change or release must satisfy, whether each is automated or manual, the evidence expected, and whether it is required. Agree it with the team.
B9: 2 Release Gate Log | C9: For each release, record the result of each item as Pass, Fail or Waived, with an owner and a note. Item name and Required? look up from the Definition of Done.
B10: 3 Delivery Metrics | C10: Each month, enter deployments, failed deployments, median lead time and median time to restore. Change failure rate, deployments per week and the 3-month rolling rate calculate.
B11: 4 Dashboard | C11: Read-only summary: latest release verdict, scorecard, DORA tiles, trends and most-failed items. Everything on it is formula-driven.
B13: COLOR LEGEND
B14: Input | C14: Yellow cells are inputs. Type here.
B15: Calculated | C15: Grey cells contain formulas. Do not overwrite them.
B16: Pass / Ship | C16: Green. The check passed, or the release can ship.
B17: Waived / Ship with waivers | C17: Amber. A check was waived on purpose; record who accepted the risk in Notes.
B18: Fail / Blocked | C18: Red. A check failed, or a required item failed so the release is blocked.
B20: HOW THINGS ARE CALCULATED
B21: Release verdict | C21: Blocked if any required item has a Fail. Otherwise Incomplete if a required item has no result logged for that release. Otherwise Ship with waivers if anything was Waived. Otherwise Ship.
B22: Pass rate | C22: Passed checks divided by checks that were not waived, for each release.
B23: Row flags | C23: Release Gate Log column I flags a failed required item (Blocker), a Fail or Waived row with no note, a duplicate item in one release, and an Item ID that is not on the Definition of Done.
B24: Change failure rate | C24: Failed deployments divided by deployments. The 3-month rolling rate pools the latest three months, so a quiet month does not distort it.
B25: Deployments per week | C25: Deployments divided by the number of weeks in the month (days in month divided by 7).
B26: DORA bands | C26: Elite, High, Medium and Low cut-offs sit in the yellow cells on Delivery Metrics. Defaults approximate published DORA research; change them to your own standard.
B28: GOOD PRACTICE
B29: Define consistently | C29: DORA definitions and benchmarks have been refined over time. Define each measure the same way every month and compare mainly with your own trend.
B30: Fast feedback | C30: Use quality gates to give fast feedback. Avoid setting targets on proxies such as code coverage.
B31: Placeholders | C31: The example items, releases and months show how the formulas work. Overwrite them with your own.
B32: Release names | C32: Enter release names as text, for example v4.10, so a trailing zero is never lost.
B34: IMPORTANT
B35: Educational template | C35: It supports a software or IT team's review and planning. It is not security, legal, compliance or engineering advice and does not replace your organization's policies and controls. Avoid entering customer data, credentials or other sensitive information.

Sheet Definition of Done
A1: DEFINITION OF DONE
A2: Agree what “done” means for a change and a release. Yellow cells are inputs; grey columns calculate from the Release Gate Log. Example items are placeholders.
A3: =COUNTA(DefinitionOfDone[ID])&" items · "&COUNTIF(DefinitionOfDone[Required?],"Yes")&" required · "&COUNTIF(DefinitionOfDone[Gate type],"Automated")&" automated · "&COUNTIF(DefinitionOfDone[Gate type],"Manual")&" manual" -> 10 items · 9 required · 5 automated · 5 manual
A4: ID | B4: Item | C4: Applies to | D4: Category | E4: Gate type | F4: Evidence expected | G4: Required? | H4: Times checked | I4: Fails | J4: Last result
A5: D01 | B5: Change reviewed by at least one other engineer | C5: Change | D5: Code | E5: Manual | F5: Approved pull request | G5: Yes | H5: =IF(DefinitionOfDone[[#This Row],[ID]]="","",COUNTIFS(GateLog[Item ID],DefinitionOfDone[[#This Row],[ID]])) -> 6 | I5: =IF(DefinitionOfDone[[#This Row],[ID]]="","",COUNTIFS(GateLog[Item ID],DefinitionOfDone[[#This Row],[ID]],GateLog[Result],"Fail")) -> 0 | J5: {=IF(OR(DefinitionOfDone[[#This Row],[ID]]="",N(DefinitionOfDone[[#This Row],[Times checked]])=0),"",INDEX(GateLog[Result],MATCH(1,(GateLog[Item ID]=DefinitionOfDone[[#This Row],[ID]])*(GateLog[Date]=_xlfn.MAXIFS(GateLog[Date],GateLog[Item ID],DefinitionOfDone[[#This Row],[ID]])),0)))} -> Pass
A6: D02 | B6: Unit tests added or updated and passing | C6: Change | D6: Tests | E6: Automated | F6: CI result | G6: Yes | H6: =IF(DefinitionOfDone[[#This Row],[ID]]="","",COUNTIFS(GateLog[Item ID],DefinitionOfDone[[#This Row],[ID]])) -> 6 | I6: =IF(DefinitionOfDone[[#This Row],[ID]]="","",COUNTIFS(GateLog[Item ID],DefinitionOfDone[[#This Row],[ID]],GateLog[Result],"Fail")) -> 0 | J6: {=IF(OR(DefinitionOfDone[[#This Row],[ID]]="",N(DefinitionOfDone[[#This Row],[Times checked]])=0),"",INDEX(GateLog[Result],MATCH(1,(GateLog[Item ID]=DefinitionOfDone[[#This Row],[ID]])*(GateLog[Date]=_xlfn.MAXIFS(GateLog[Date],GateLog[Item ID],DefinitionOfDone[[#This Row],[ID]])),0)))} -> Pass
A7: D03 | B7: Static analysis has no new high-severity findings | C7: Change | D7: Code | E7: Automated | F7: CI result | G7: Yes | H7: =IF(DefinitionOfDone[[#This Row],[ID]]="","",COUNTIFS(GateLog[Item ID],DefinitionOfDone[[#This Row],[ID]])) -> 6 | I7: =IF(DefinitionOfDone[[#This Row],[ID]]="","",COUNTIFS(GateLog[Item ID],DefinitionOfDone[[#This Row],[ID]],GateLog[Result],"Fail")) -> 0 | J7: {=IF(OR(DefinitionOfDone[[#This Row],[ID]]="",N(DefinitionOfDone[[#This Row],[Times checked]])=0),"",INDEX(GateLog[Result],MATCH(1,(GateLog[Item ID]=DefinitionOfDone[[#This Row],[ID]])*(GateLog[Date]=_xlfn.MAXIFS(GateLog[Date],GateLog[Item ID],DefinitionOfDone[[#This Row],[ID]])),0)))} -> Pass
A8: D04 | B8: Dependency and secret scans pass | C8: Change | D8: Security | E8: Automated | F8: CI result | G8: Yes | H8: =IF(DefinitionOfDone[[#This Row],[ID]]="","",COUNTIFS(GateLog[Item ID],DefinitionOfDone[[#This Row],[ID]])) -> 6 | I8: =IF(DefinitionOfDone[[#This Row],[ID]]="","",COUNTIFS(GateLog[Item ID],DefinitionOfDone[[#This Row],[ID]],GateLog[Result],"Fail")) -> 0 | J8: {=IF(OR(DefinitionOfDone[[#This Row],[ID]]="",N(DefinitionOfDone[[#This Row],[Times checked]])=0),"",INDEX(GateLog[Result],MATCH(1,(GateLog[Item ID]=DefinitionOfDone[[#This Row],[ID]])*(GateLog[Date]=_xlfn.MAXIFS(GateLog[Date],GateLog[Item ID],DefinitionOfDone[[#This Row],[ID]])),0)))} -> Pass
A9: D05 | B9: Integration tests pass | C9: Release | D9: Tests | E9: Automated | F9: Pipeline result | G9: Yes | H9: =IF(DefinitionOfDone[[#This Row],[ID]]="","",COUNTIFS(GateLog[Item ID],DefinitionOfDone[[#This Row],[ID]])) -> 6 | I9: =IF(DefinitionOfDone[[#This Row],[ID]]="","",COUNTIFS(GateLog[Item ID],DefinitionOfDone[[#This Row],[ID]],GateLog[Result],"Fail")) -> 2 | J9: {=IF(OR(DefinitionOfDone[[#This Row],[ID]]="",N(DefinitionOfDone[[#This Row],[Times checked]])=0),"",INDEX(GateLog[Result],MATCH(1,(GateLog[Item ID]=DefinitionOfDone[[#This Row],[ID]])*(GateLog[Date]=_xlfn.MAXIFS(GateLog[Date],GateLog[Item ID],DefinitionOfDone[[#This Row],[ID]])),0)))} -> Pass
A10: D06 | B10: Performance check within agreed limits | C10: Release | D10: Tests | E10: Automated | F10: Pipeline result | G10: Yes | H10: =IF(DefinitionOfDone[[#This Row],[ID]]="","",COUNTIFS(GateLog[Item ID],DefinitionOfDone[[#This Row],[ID]])) -> 6 | I10: =IF(DefinitionOfDone[[#This Row],[ID]]="","",COUNTIFS(GateLog[Item ID],DefinitionOfDone[[#This Row],[ID]],GateLog[Result],"Fail")) -> 0 | J10: {=IF(OR(DefinitionOfDone[[#This Row],[ID]]="",N(DefinitionOfDone[[#This Row],[Times checked]])=0),"",INDEX(GateLog[Result],MATCH(1,(GateLog[Item ID]=DefinitionOfDone[[#This Row],[ID]])*(GateLog[Date]=_xlfn.MAXIFS(GateLog[Date],GateLog[Item ID],DefinitionOfDone[[#This Row],[ID]])),0)))} -> Pass
A11: D07 | B11: Monitoring and alerts updated for new behavior | C11: Release | D11: Operations | E11: Manual | F11: Dashboard and alert links | G11: Yes | H11: =IF(DefinitionOfDone[[#This Row],[ID]]="","",COUNTIFS(GateLog[Item ID],DefinitionOfDone[[#This Row],[ID]])) -> 6 | I11: =IF(DefinitionOfDone[[#This Row],[ID]]="","",COUNTIFS(GateLog[Item ID],DefinitionOfDone[[#This Row],[ID]],GateLog[Result],"Fail")) -> 0 | J11: {=IF(OR(DefinitionOfDone[[#This Row],[ID]]="",N(DefinitionOfDone[[#This Row],[Times checked]])=0),"",INDEX(GateLog[Result],MATCH(1,(GateLog[Item ID]=DefinitionOfDone[[#This Row],[ID]])*(GateLog[Date]=_xlfn.MAXIFS(GateLog[Date],GateLog[Item ID],DefinitionOfDone[[#This Row],[ID]])),0)))} -> Pass
A12: D08 | B12: Rollback plan tested or confirmed | C12: Release | D12: Operations | E12: Manual | F12: Runbook link | G12: Yes | H12: =IF(DefinitionOfDone[[#This Row],[ID]]="","",COUNTIFS(GateLog[Item ID],DefinitionOfDone[[#This Row],[ID]])) -> 6 | I12: =IF(DefinitionOfDone[[#This Row],[ID]]="","",COUNTIFS(GateLog[Item ID],DefinitionOfDone[[#This Row],[ID]],GateLog[Result],"Fail")) -> 3 | J12: {=IF(OR(DefinitionOfDone[[#This Row],[ID]]="",N(DefinitionOfDone[[#This Row],[Times checked]])=0),"",INDEX(GateLog[Result],MATCH(1,(GateLog[Item ID]=DefinitionOfDone[[#This Row],[ID]])*(GateLog[Date]=_xlfn.MAXIFS(GateLog[Date],GateLog[Item ID],DefinitionOfDone[[#This Row],[ID]])),0)))} -> Pass
A13: D09 | B13: Documentation and release notes updated | C13: Release | D13: Docs | E13: Manual | F13: Links | G13: Yes | H13: =IF(DefinitionOfDone[[#This Row],[ID]]="","",COUNTIFS(GateLog[Item ID],DefinitionOfDone[[#This Row],[ID]])) -> 6 | I13: =IF(DefinitionOfDone[[#This Row],[ID]]="","",COUNTIFS(GateLog[Item ID],DefinitionOfDone[[#This Row],[ID]],GateLog[Result],"Fail")) -> 0 | J13: {=IF(OR(DefinitionOfDone[[#This Row],[ID]]="",N(DefinitionOfDone[[#This Row],[Times checked]])=0),"",INDEX(GateLog[Result],MATCH(1,(GateLog[Item ID]=DefinitionOfDone[[#This Row],[ID]])*(GateLog[Date]=_xlfn.MAXIFS(GateLog[Date],GateLog[Item ID],DefinitionOfDone[[#This Row],[ID]])),0)))} -> Pass
A14: D10 | B14: Feature flag or canary configured for risky changes | C14: Release | D14: Operations | E14: Manual | F14: Configuration | G14: No | H14: =IF(DefinitionOfDone[[#This Row],[ID]]="","",COUNTIFS(GateLog[Item ID],DefinitionOfDone[[#This Row],[ID]])) -> 2 | I14: =IF(DefinitionOfDone[[#This Row],[ID]]="","",COUNTIFS(GateLog[Item ID],DefinitionOfDone[[#This Row],[ID]],GateLog[Result],"Fail")) -> 0 | J14: {=IF(OR(DefinitionOfDone[[#This Row],[ID]]="",N(DefinitionOfDone[[#This Row],[Times checked]])=0),"",INDEX(GateLog[Result],MATCH(1,(GateLog[Item ID]=DefinitionOfDone[[#This Row],[ID]])*(GateLog[Date]=_xlfn.MAXIFS(GateLog[Date],GateLog[Item ID],DefinitionOfDone[[#This Row],[ID]])),0)))} -> Pass
H15: =IF(DefinitionOfDone[[#This Row],[ID]]="","",COUNTIFS(GateLog[Item ID],DefinitionOfDone[[#This Row],[ID]])) | I15: =IF(DefinitionOfDone[[#This Row],[ID]]="","",COUNTIFS(GateLog[Item ID],DefinitionOfDone[[#This Row],[ID]],GateLog[Result],"Fail")) | J15: {=IF(OR(DefinitionOfDone[[#This Row],[ID]]="",N(DefinitionOfDone[[#This Row],[Times checked]])=0),"",INDEX(GateLog[Result],MATCH(1,(GateLog[Item ID]=DefinitionOfDone[[#This Row],[ID]])*(GateLog[Date]=_xlfn.MAXIFS(GateLog[Date],GateLog[Item ID],DefinitionOfDone[[#This Row],[ID]])),0)))}
H16: =IF(DefinitionOfDone[[#This Row],[ID]]="","",COUNTIFS(GateLog[Item ID],DefinitionOfDone[[#This Row],[ID]])) | I16: =IF(DefinitionOfDone[[#This Row],[ID]]="","",COUNTIFS(GateLog[Item ID],DefinitionOfDone[[#This Row],[ID]],GateLog[Result],"Fail")) | J16: {=IF(OR(DefinitionOfDone[[#This Row],[ID]]="",N(DefinitionOfDone[[#This Row],[Times checked]])=0),"",INDEX(GateLog[Result],MATCH(1,(GateLog[Item ID]=DefinitionOfDone[[#This Row],[ID]])*(GateLog[Date]=_xlfn.MAXIFS(GateLog[Date],GateLog[Item ID],DefinitionOfDone[[#This Row],[ID]])),0)))}
H17: =IF(DefinitionOfDone[[#This Row],[ID]]="","",COUNTIFS(GateLog[Item ID],DefinitionOfDone[[#This Row],[ID]])) | I17: =IF(DefinitionOfDone[[#This Row],[ID]]="","",COUNTIFS(GateLog[Item ID],DefinitionOfDone[[#This Row],[ID]],GateLog[Result],"Fail")) | J17: {=IF(OR(DefinitionOfDone[[#This Row],[ID]]="",N(DefinitionOfDone[[#This Row],[Times checked]])=0),"",INDEX(GateLog[Result],MATCH(1,(GateLog[Item ID]=DefinitionOfDone[[#This Row],[ID]])*(GateLog[Date]=_xlfn.MAXIFS(GateLog[Date],GateLog[Item ID],DefinitionOfDone[[#This Row],[ID]])),0)))}
H18: =IF(DefinitionOfDone[[#This Row],[ID]]="","",COUNTIFS(GateLog[Item ID],DefinitionOfDone[[#This Row],[ID]])) | I18: =IF(DefinitionOfDone[[#This Row],[ID]]="","",COUNTIFS(GateLog[Item ID],DefinitionOfDone[[#This Row],[ID]],GateLog[Result],"Fail")) | J18: {=IF(OR(DefinitionOfDone[[#This Row],[ID]]="",N(DefinitionOfDone[[#This Row],[Times checked]])=0),"",INDEX(GateLog[Result],MATCH(1,(GateLog[Item ID]=DefinitionOfDone[[#This Row],[ID]])*(GateLog[Date]=_xlfn.MAXIFS(GateLog[Date],GateLog[Item ID],DefinitionOfDone[[#This Row],[ID]])),0)))}
H19: =IF(DefinitionOfDone[[#This Row],[ID]]="","",COUNTIFS(GateLog[Item ID],DefinitionOfDone[[#This Row],[ID]])) | I19: =IF(DefinitionOfDone[[#This Row],[ID]]="","",COUNTIFS(GateLog[Item ID],DefinitionOfDone[[#This Row],[ID]],GateLog[Result],"Fail")) | J19: {=IF(OR(DefinitionOfDone[[#This Row],[ID]]="",N(DefinitionOfDone[[#This Row],[Times checked]])=0),"",INDEX(GateLog[Result],MATCH(1,(GateLog[Item ID]=DefinitionOfDone[[#This Row],[ID]])*(GateLog[Date]=_xlfn.MAXIFS(GateLog[Date],GateLog[Item ID],DefinitionOfDone[[#This Row],[ID]])),0)))}
H20: =IF(DefinitionOfDone[[#This Row],[ID]]="","",COUNTIFS(GateLog[Item ID],DefinitionOfDone[[#This Row],[ID]])) | I20: =IF(DefinitionOfDone[[#This Row],[ID]]="","",COUNTIFS(GateLog[Item ID],DefinitionOfDone[[#This Row],[ID]],GateLog[Result],"Fail")) | J20: {=IF(OR(DefinitionOfDone[[#This Row],[ID]]="",N(DefinitionOfDone[[#This Row],[Times checked]])=0),"",INDEX(GateLog[Result],MATCH(1,(GateLog[Item ID]=DefinitionOfDone[[#This Row],[ID]])*(GateLog[Date]=_xlfn.MAXIFS(GateLog[Date],GateLog[Item ID],DefinitionOfDone[[#This Row],[ID]])),0)))}
H21: =IF(DefinitionOfDone[[#This Row],[ID]]="","",COUNTIFS(GateLog[Item ID],DefinitionOfDone[[#This Row],[ID]])) | I21: =IF(DefinitionOfDone[[#This Row],[ID]]="","",COUNTIFS(GateLog[Item ID],DefinitionOfDone[[#This Row],[ID]],GateLog[Result],"Fail")) | J21: {=IF(OR(DefinitionOfDone[[#This Row],[ID]]="",N(DefinitionOfDone[[#This Row],[Times checked]])=0),"",INDEX(GateLog[Result],MATCH(1,(GateLog[Item ID]=DefinitionOfDone[[#This Row],[ID]])*(GateLog[Date]=_xlfn.MAXIFS(GateLog[Date],GateLog[Item ID],DefinitionOfDone[[#This Row],[ID]])),0)))}
H22: =IF(DefinitionOfDone[[#This Row],[ID]]="","",COUNTIFS(GateLog[Item ID],DefinitionOfDone[[#This Row],[ID]])) | I22: =IF(DefinitionOfDone[[#This Row],[ID]]="","",COUNTIFS(GateLog[Item ID],DefinitionOfDone[[#This Row],[ID]],GateLog[Result],"Fail")) | J22: {=IF(OR(DefinitionOfDone[[#This Row],[ID]]="",N(DefinitionOfDone[[#This Row],[Times checked]])=0),"",INDEX(GateLog[Result],MATCH(1,(GateLog[Item ID]=DefinitionOfDone[[#This Row],[ID]])*(GateLog[Date]=_xlfn.MAXIFS(GateLog[Date],GateLog[Item ID],DefinitionOfDone[[#This Row],[ID]])),0)))}
H23: =IF(DefinitionOfDone[[#This Row],[ID]]="","",COUNTIFS(GateLog[Item ID],DefinitionOfDone[[#This Row],[ID]])) | I23: =IF(DefinitionOfDone[[#This Row],[ID]]="","",COUNTIFS(GateLog[Item ID],DefinitionOfDone[[#This Row],[ID]],GateLog[Result],"Fail")) | J23: {=IF(OR(DefinitionOfDone[[#This Row],[ID]]="",N(DefinitionOfDone[[#This Row],[Times checked]])=0),"",INDEX(GateLog[Result],MATCH(1,(GateLog[Item ID]=DefinitionOfDone[[#This Row],[ID]])*(GateLog[Date]=_xlfn.MAXIFS(GateLog[Date],GateLog[Item ID],DefinitionOfDone[[#This Row],[ID]])),0)))}
H24: =IF(DefinitionOfDone[[#This Row],[ID]]="","",COUNTIFS(GateLog[Item ID],DefinitionOfDone[[#This Row],[ID]])) | I24: =IF(DefinitionOfDone[[#This Row],[ID]]="","",COUNTIFS(GateLog[Item ID],DefinitionOfDone[[#This Row],[ID]],GateLog[Result],"Fail")) | J24: {=IF(OR(DefinitionOfDone[[#This Row],[ID]]="",N(DefinitionOfDone[[#This Row],[Times checked]])=0),"",INDEX(GateLog[Result],MATCH(1,(GateLog[Item ID]=DefinitionOfDone[[#This Row],[ID]])*(GateLog[Date]=_xlfn.MAXIFS(GateLog[Date],GateLog[Item ID],DefinitionOfDone[[#This Row],[ID]])),0)))}
H25: =IF(DefinitionOfDone[[#This Row],[ID]]="","",COUNTIFS(GateLog[Item ID],DefinitionOfDone[[#This Row],[ID]])) | I25: =IF(DefinitionOfDone[[#This Row],[ID]]="","",COUNTIFS(GateLog[Item ID],DefinitionOfDone[[#This Row],[ID]],GateLog[Result],"Fail")) | J25: {=IF(OR(DefinitionOfDone[[#This Row],[ID]]="",N(DefinitionOfDone[[#This Row],[Times checked]])=0),"",INDEX(GateLog[Result],MATCH(1,(GateLog[Item ID]=DefinitionOfDone[[#This Row],[ID]])*(GateLog[Date]=_xlfn.MAXIFS(GateLog[Date],GateLog[Item ID],DefinitionOfDone[[#This Row],[ID]])),0)))}
H26: =IF(DefinitionOfDone[[#This Row],[ID]]="","",COUNTIFS(GateLog[Item ID],DefinitionOfDone[[#This Row],[ID]])) | I26: =IF(DefinitionOfDone[[#This Row],[ID]]="","",COUNTIFS(GateLog[Item ID],DefinitionOfDone[[#This Row],[ID]],GateLog[Result],"Fail")) | J26: {=IF(OR(DefinitionOfDone[[#This Row],[ID]]="",N(DefinitionOfDone[[#This Row],[Times checked]])=0),"",INDEX(GateLog[Result],MATCH(1,(GateLog[Item ID]=DefinitionOfDone[[#This Row],[ID]])*(GateLog[Date]=_xlfn.MAXIFS(GateLog[Date],GateLog[Item ID],DefinitionOfDone[[#This Row],[ID]])),0)))}
... H34: =IF(DefinitionOfDone[[#This Row],[ID]]="","",COUNTIFS(GateLog[Item ID],DefinitionOfDone[[#This Row],[ID]])) | I34: =IF(DefinitionOfDone[[#This Row],[ID]]="","",COUNTIFS(GateLog[Item ID],DefinitionOfDone[[#This Row],[ID]],GateLog[Result],"Fail")) | J34: {=IF(OR(DefinitionOfDone[[#This Row],[ID]]="",N(DefinitionOfDone[[#This Row],[Times checked]])=0),"",INDEX(GateLog[Result],MATCH(1,(GateLog[Item ID]=DefinitionOfDone[[#This Row],[ID]])*(GateLog[Date]=_xlfn.MAXIFS(GateLog[Date],GateLog[Item ID],DefinitionOfDone[[#This Row],[ID]])),0)))}

Sheet Release Gate Log
A1: RELEASE GATE LOG
A2: One row per item per release. Enter the Item ID from the Definition of Done; Item and Required? look up. Fails and waivers need a note. Example rows are placeholders.
A3: {=COUNTA(GateLog[Release])&" checks · "&IFERROR(ROWS(_xlfn.UNIQUE(_xlfn._xlws.FILTER(GateLog[Release],GateLog[Release]<>""))),0)&" releases · "&COUNTIF(GateLog[Result],"Fail")&" failed · "&COUNTIF(GateLog[Result],"Waived")&" waived · "&COUNTIF(GateLog[Flag],"?*")&" rows need attention"} -> 56 checks · 6 releases · 5 failed · 1 waived · 5 rows need attention
A4: Release | B4: Date | C4: Item ID | D4: Item | E4: Required? | F4: Result | G4: Owner | H4: Notes | I4: Flag | K4: VERDICT RULES
A5: v4.14 | B5: 46181 | C5: D01 | D5: =IF(GateLog[[#This Row],[Item ID]]="","",IFERROR(INDEX(DefinitionOfDone[Item],MATCH(GateLog[[#This Row],[Item ID]],DefinitionOfDone[ID],0)),"Unknown item")) -> Change reviewed by at least one other engineer | E5: =IF(GateLog[[#This Row],[Item ID]]="","",IFERROR(INDEX(DefinitionOfDone[Required?],MATCH(GateLog[[#This Row],[Item ID]],DefinitionOfDone[ID],0)),"")) -> Yes | F5: Pass | G5: Release lead | I5: =IF(GateLog[[#This Row],[Result]]="","",IF(COUNTIFS(GateLog[Release],GateLog[[#This Row],[Release]],GateLog[Item ID],GateLog[[#This Row],[Item ID]])>1,"Duplicate",IF(GateLog[[#This Row],[Item]]="Unknown item","Unknown item",IF(AND(GateLog[[#This Row],[Result]]="Fail",GateLog[[#This Row],[Required?]]="Yes"),"Blocker",IF(AND(OR(GateLog[[#This Row],[Result]]="Fail",GateLog[[#This Row],[Result]]="Waived"),GateLog[[#This Row],[Notes]]=""),"Add note",""))))) | K5: Blocked | L5: Any required item has a Fail
A6: v4.14 | B6: 46181 | C6: D02 | D6: =IF(GateLog[[#This Row],[Item ID]]="","",IFERROR(INDEX(DefinitionOfDone[Item],MATCH(GateLog[[#This Row],[Item ID]],DefinitionOfDone[ID],0)),"Unknown item")) -> Unit tests added or updated and passing | E6: =IF(GateLog[[#This Row],[Item ID]]="","",IFERROR(INDEX(DefinitionOfDone[Required?],MATCH(GateLog[[#This Row],[Item ID]],DefinitionOfDone[ID],0)),"")) -> Yes | F6: Pass | G6: Release lead | I6: =IF(GateLog[[#This Row],[Result]]="","",IF(COUNTIFS(GateLog[Release],GateLog[[#This Row],[Release]],GateLog[Item ID],GateLog[[#This Row],[Item ID]])>1,"Duplicate",IF(GateLog[[#This Row],[Item]]="Unknown item","Unknown item",IF(AND(GateLog[[#This Row],[Result]]="Fail",GateLog[[#This Row],[Required?]]="Yes"),"Blocker",IF(AND(OR(GateLog[[#This Row],[Result]]="Fail",GateLog[[#This Row],[Result]]="Waived"),GateLog[[#This Row],[Notes]]=""),"Add note",""))))) | K6: Incomplete | L6: A required item has no result logged for the release
A7: v4.14 | B7: 46181 | C7: D03 | D7: =IF(GateLog[[#This Row],[Item ID]]="","",IFERROR(INDEX(DefinitionOfDone[Item],MATCH(GateLog[[#This Row],[Item ID]],DefinitionOfDone[ID],0)),"Unknown item")) -> Static analysis has no new high-severity findings | E7: =IF(GateLog[[#This Row],[Item ID]]="","",IFERROR(INDEX(DefinitionOfDone[Required?],MATCH(GateLog[[#This Row],[Item ID]],DefinitionOfDone[ID],0)),"")) -> Yes | F7: Pass | G7: Release lead | I7: =IF(GateLog[[#This Row],[Result]]="","",IF(COUNTIFS(GateLog[Release],GateLog[[#This Row],[Release]],GateLog[Item ID],GateLog[[#This Row],[Item ID]])>1,"Duplicate",IF(GateLog[[#This Row],[Item]]="Unknown item","Unknown item",IF(AND(GateLog[[#This Row],[Result]]="Fail",GateLog[[#This Row],[Required?]]="Yes"),"Blocker",IF(AND(OR(GateLog[[#This Row],[Result]]="Fail",GateLog[[#This Row],[Result]]="Waived"),GateLog[[#This Row],[Notes]]=""),"Add note",""))))) | K7: Ship with waivers | L7: No required Fail, but at least one Waived
A8: v4.14 | B8: 46181 | C8: D04 | D8: =IF(GateLog[[#This Row],[Item ID]]="","",IFERROR(INDEX(DefinitionOfDone[Item],MATCH(GateLog[[#This Row],[Item ID]],DefinitionOfDone[ID],0)),"Unknown item")) -> Dependency and secret scans pass | E8: =IF(GateLog[[#This Row],[Item ID]]="","",IFERROR(INDEX(DefinitionOfDone[Required?],MATCH(GateLog[[#This Row],[Item ID]],DefinitionOfDone[ID],0)),"")) -> Yes | F8: Pass | G8: Release lead | I8: =IF(GateLog[[#This Row],[Result]]="","",IF(COUNTIFS(GateLog[Release],GateLog[[#This Row],[Release]],GateLog[Item ID],GateLog[[#This Row],[Item ID]])>1,"Duplicate",IF(GateLog[[#This Row],[Item]]="Unknown item","Unknown item",IF(AND(GateLog[[#This Row],[Result]]="Fail",GateLog[[#This Row],[Required?]]="Yes"),"Blocker",IF(AND(OR(GateLog[[#This Row],[Result]]="Fail",GateLog[[#This Row],[Result]]="Waived"),GateLog[[#This Row],[Notes]]=""),"Add note",""))))) | K8: Ship | L8: Every required item passed
A9: v4.14 | B9: 46181 | C9: D05 | D9: =IF(GateLog[[#This Row],[Item ID]]="","",IFERROR(INDEX(DefinitionOfDone[Item],MATCH(GateLog[[#This Row],[Item ID]],DefinitionOfDone[ID],0)),"Unknown item")) -> Integration tests pass | E9: =IF(GateLog[[#This Row],[Item ID]]="","",IFERROR(INDEX(DefinitionOfDone[Required?],MATCH(GateLog[[#This Row],[Item ID]],DefinitionOfDone[ID],0)),"")) -> Yes | F9: Pass | G9: Release lead | I9: =IF(GateLog[[#This Row],[Result]]="","",IF(COUNTIFS(GateLog[Release],GateLog[[#This Row],[Release]],GateLog[Item ID],GateLog[[#This Row],[Item ID]])>1,"Duplicate",IF(GateLog[[#This Row],[Item]]="Unknown item","Unknown item",IF(AND(GateLog[[#This Row],[Result]]="Fail",GateLog[[#This Row],[Required?]]="Yes"),"Blocker",IF(AND(OR(GateLog[[#This Row],[Result]]="Fail",GateLog[[#This Row],[Result]]="Waived"),GateLog[[#This Row],[Notes]]=""),"Add note","")))))
A10: v4.14 | B10: 46181 | C10: D06 | D10: =IF(GateLog[[#This Row],[Item ID]]="","",IFERROR(INDEX(DefinitionOfDone[Item],MATCH(GateLog[[#This Row],[Item ID]],DefinitionOfDone[ID],0)),"Unknown item")) -> Performance check within agreed limits | E10: =IF(GateLog[[#This Row],[Item ID]]="","",IFERROR(INDEX(DefinitionOfDone[Required?],MATCH(GateLog[[#This Row],[Item ID]],DefinitionOfDone[ID],0)),"")) -> Yes | F10: Pass | G10: Release lead | I10: =IF(GateLog[[#This Row],[Result]]="","",IF(COUNTIFS(GateLog[Release],GateLog[[#This Row],[Release]],GateLog[Item ID],GateLog[[#This Row],[Item ID]])>1,"Duplicate",IF(GateLog[[#This Row],[Item]]="Unknown item","Unknown item",IF(AND(GateLog[[#This Row],[Result]]="Fail",GateLog[[#This Row],[Required?]]="Yes"),"Blocker",IF(AND(OR(GateLog[[#This Row],[Result]]="Fail",GateLog[[#This Row],[Result]]="Waived"),GateLog[[#This Row],[Notes]]=""),"Add note",""))))) | K10: ROW FLAGS
A11: v4.14 | B11: 46181 | C11: D07 | D11: =IF(GateLog[[#This Row],[Item ID]]="","",IFERROR(INDEX(DefinitionOfDone[Item],MATCH(GateLog[[#This Row],[Item ID]],DefinitionOfDone[ID],0)),"Unknown item")) -> Monitoring and alerts updated for new behavior | E11: =IF(GateLog[[#This Row],[Item ID]]="","",IFERROR(INDEX(DefinitionOfDone[Required?],MATCH(GateLog[[#This Row],[Item ID]],DefinitionOfDone[ID],0)),"")) -> Yes | F11: Pass | G11: Release lead | I11: =IF(GateLog[[#This Row],[Result]]="","",IF(COUNTIFS(GateLog[Release],GateLog[[#This Row],[Release]],GateLog[Item ID],GateLog[[#This Row],[Item ID]])>1,"Duplicate",IF(GateLog[[#This Row],[Item]]="Unknown item","Unknown item",IF(AND(GateLog[[#This Row],[Result]]="Fail",GateLog[[#This Row],[Required?]]="Yes"),"Blocker",IF(AND(OR(GateLog[[#This Row],[Result]]="Fail",GateLog[[#This Row],[Result]]="Waived"),GateLog[[#This Row],[Notes]]=""),"Add note",""))))) | K11: Blocker | L11: A required item failed
A12: v4.14 | B12: 46181 | C12: D08 | D12: =IF(GateLog[[#This Row],[Item ID]]="","",IFERROR(INDEX(DefinitionOfDone[Item],MATCH(GateLog[[#This Row],[Item ID]],DefinitionOfDone[ID],0)),"Unknown item")) -> Rollback plan tested or confirmed | E12: =IF(GateLog[[#This Row],[Item ID]]="","",IFERROR(INDEX(DefinitionOfDone[Required?],MATCH(GateLog[[#This Row],[Item ID]],DefinitionOfDone[ID],0)),"")) -> Yes | F12: Fail | G12: Release lead | H12: Rollback not rehearsed in staging | I12: =IF(GateLog[[#This Row],[Result]]="","",IF(COUNTIFS(GateLog[Release],GateLog[[#This Row],[Release]],GateLog[Item ID],GateLog[[#This Row],[Item ID]])>1,"Duplicate",IF(GateLog[[#This Row],[Item]]="Unknown item","Unknown item",IF(AND(GateLog[[#This Row],[Result]]="Fail",GateLog[[#This Row],[Required?]]="Yes"),"Blocker",IF(AND(OR(GateLog[[#This Row],[Result]]="Fail",GateLog[[#This Row],[Result]]="Waived"),GateLog[[#This Row],[Notes]]=""),"Add note",""))))) -> Blocker | K12: Add note | L12: A Fail or Waived row has no note
A13: v4.14 | B13: 46181 | C13: D09 | D13: =IF(GateLog[[#This Row],[Item ID]]="","",IFERROR(INDEX(DefinitionOfDone[Item],MATCH(GateLog[[#This Row],[Item ID]],DefinitionOfDone[ID],0)),"Unknown item")) -> Documentation and release notes updated | E13: =IF(GateLog[[#This Row],[Item ID]]="","",IFERROR(INDEX(DefinitionOfDone[Required?],MATCH(GateLog[[#This Row],[Item ID]],DefinitionOfDone[ID],0)),"")) -> Yes | F13: Pass | G13: Release lead | I13: =IF(GateLog[[#This Row],[Result]]="","",IF(COUNTIFS(GateLog[Release],GateLog[[#This Row],[Release]],GateLog[Item ID],GateLog[[#This Row],[Item ID]])>1,"Duplicate",IF(GateLog[[#This Row],[Item]]="Unknown item","Unknown item",IF(AND(GateLog[[#This Row],[Result]]="Fail",GateLog[[#This Row],[Required?]]="Yes"),"Blocker",IF(AND(OR(GateLog[[#This Row],[Result]]="Fail",GateLog[[#This Row],[Result]]="Waived"),GateLog[[#This Row],[Notes]]=""),"Add note",""))))) | K13: Duplicate | L13: Same item logged twice for one release
A14: v4.15 | B14: 46202 | C14: D01 | D14: =IF(GateLog[[#This Row],[Item ID]]="","",IFERROR(INDEX(DefinitionOfDone[Item],MATCH(GateLog[[#This Row],[Item ID]],DefinitionOfDone[ID],0)),"Unknown item")) -> Change reviewed by at least one other engineer | E14: =IF(GateLog[[#This Row],[Item ID]]="","",IFERROR(INDEX(DefinitionOfDone[Required?],MATCH(GateLog[[#This Row],[Item ID]],DefinitionOfDone[ID],0)),"")) -> Yes | F14: Pass | G14: Release lead | I14: =IF(GateLog[[#This Row],[Result]]="","",IF(COUNTIFS(GateLog[Release],GateLog[[#This Row],[Release]],GateLog[Item ID],GateLog[[#This Row],[Item ID]])>1,"Duplicate",IF(GateLog[[#This Row],[Item]]="Unknown item","Unknown item",IF(AND(GateLog[[#This Row],[Result]]="Fail",GateLog[[#This Row],[Required?]]="Yes"),"Blocker",IF(AND(OR(GateLog[[#This Row],[Result]]="Fail",GateLog[[#This Row],[Result]]="Waived"),GateLog[[#This Row],[Notes]]=""),"Add note",""))))) | K14: Unknown item | L14: Item ID is not on the Definition of Done
A15: v4.15 | B15: 46202 | C15: D02 | D15: =IF(GateLog[[#This Row],[Item ID]]="","",IFERROR(INDEX(DefinitionOfDone[Item],MATCH(GateLog[[#This Row],[Item ID]],DefinitionOfDone[ID],0)),"Unknown item")) -> Unit tests added or updated and passing | E15: =IF(GateLog[[#This Row],[Item ID]]="","",IFERROR(INDEX(DefinitionOfDone[Required?],MATCH(GateLog[[#This Row],[Item ID]],DefinitionOfDone[ID],0)),"")) -> Yes | F15: Pass | G15: Release lead | I15: =IF(GateLog[[#This Row],[Result]]="","",IF(COUNTIFS(GateLog[Release],GateLog[[#This Row],[Release]],GateLog[Item ID],GateLog[[#This Row],[Item ID]])>1,"Duplicate",IF(GateLog[[#This Row],[Item]]="Unknown item","Unknown item",IF(AND(GateLog[[#This Row],[Result]]="Fail",GateLog[[#This Row],[Required?]]="Yes"),"Blocker",IF(AND(OR(GateLog[[#This Row],[Result]]="Fail",GateLog[[#This Row],[Result]]="Waived"),GateLog[[#This Row],[Notes]]=""),"Add note","")))))
A16: v4.15 | B16: 46202 | C16: D03 | D16: =IF(GateLog[[#This Row],[Item ID]]="","",IFERROR(INDEX(DefinitionOfDone[Item],MATCH(GateLog[[#This Row],[Item ID]],DefinitionOfDone[ID],0)),"Unknown item")) -> Static analysis has no new high-severity findings | E16: =IF(GateLog[[#This Row],[Item ID]]="","",IFERROR(INDEX(DefinitionOfDone[Required?],MATCH(GateLog[[#This Row],[Item ID]],DefinitionOfDone[ID],0)),"")) -> Yes | F16: Pass | G16: Release lead | I16: =IF(GateLog[[#This Row],[Result]]="","",IF(COUNTIFS(GateLog[Release],GateLog[[#This Row],[Release]],GateLog[Item ID],GateLog[[#This Row],[Item ID]])>1,"Duplicate",IF(GateLog[[#This Row],[Item]]="Unknown item","Unknown item",IF(AND(GateLog[[#This Row],[Result]]="Fail",GateLog[[#This Row],[Required?]]="Yes"),"Blocker",IF(AND(OR(GateLog[[#This Row],[Result]]="Fail",GateLog[[#This Row],[Result]]="Waived"),GateLog[[#This Row],[Notes]]=""),"Add note","")))))
A17: v4.15 | B17: 46202 | C17: D04 | D17: =IF(GateLog[[#This Row],[Item ID]]="","",IFERROR(INDEX(DefinitionOfDone[Item],MATCH(GateLog[[#This Row],[Item ID]],DefinitionOfDone[ID],0)),"Unknown item")) -> Dependency and secret scans pass | E17: =IF(GateLog[[#This Row],[Item ID]]="","",IFERROR(INDEX(DefinitionOfDone[Required?],MATCH(GateLog[[#This Row],[Item ID]],DefinitionOfDone[ID],0)),"")) -> Yes | F17: Pass | G17: Release lead | I17: =IF(GateLog[[#This Row],[Result]]="","",IF(COUNTIFS(GateLog[Release],GateLog[[#This Row],[Release]],GateLog[Item ID],GateLog[[#This Row],[Item ID]])>1,"Duplicate",IF(GateLog[[#This Row],[Item]]="Unknown item","Unknown item",IF(AND(GateLog[[#This Row],[Result]]="Fail",GateLog[[#This Row],[Required?]]="Yes"),"Blocker",IF(AND(OR(GateLog[[#This Row],[Result]]="Fail",GateLog[[#This Row],[Result]]="Waived"),GateLog[[#This Row],[Notes]]=""),"Add note","")))))
A18: v4.15 | B18: 46202 | C18: D05 | D18: =IF(GateLog[[#This Row],[Item ID]]="","",IFERROR(INDEX(DefinitionOfDone[Item],MATCH(GateLog[[#This Row],[Item ID]],DefinitionOfDone[ID],0)),"Unknown item")) -> Integration tests pass | E18: =IF(GateLog[[#This Row],[Item ID]]="","",IFERROR(INDEX(DefinitionOfDone[Required?],MATCH(GateLog[[#This Row],[Item ID]],DefinitionOfDone[ID],0)),"")) -> Yes | F18: Fail | G18: Release lead | H18: Flaky integration suite; rerun pending | I18: =IF(GateLog[[#This Row],[Result]]="","",IF(COUNTIFS(GateLog[Release],GateLog[[#This Row],[Release]],GateLog[Item ID],GateLog[[#This Row],[Item ID]])>1,"Duplicate",IF(GateLog[[#This Row],[Item]]="Unknown item","Unknown item",IF(AND(GateLog[[#This Row],[Result]]="Fail",GateLog[[#This Row],[Required?]]="Yes"),"Blocker",IF(AND(OR(GateLog[[#This Row],[Result]]="Fail",GateLog[[#This Row],[Result]]="Waived"),GateLog[[#This Row],[Notes]]=""),"Add note",""))))) -> Blocker
A19: v4.15 | B19: 46202 | C19: D06 | D19: =IF(GateLog[[#This Row],[Item ID]]="","",IFERROR(INDEX(DefinitionOfDone[Item],MATCH(GateLog[[#This Row],[Item ID]],DefinitionOfDone[ID],0)),"Unknown item")) -> Performance check within agreed limits | E19: =IF(GateLog[[#This Row],[Item ID]]="","",IFERROR(INDEX(DefinitionOfDone[Required?],MATCH(GateLog[[#This Row],[Item ID]],DefinitionOfDone[ID],0)),"")) -> Yes | F19: Pass | G19: Release lead | I19: =IF(GateLog[[#This Row],[Result]]="","",IF(COUNTIFS(GateLog[Release],GateLog[[#This Row],[Release]],GateLog[Item ID],GateLog[[#This Row],[Item ID]])>1,"Duplicate",IF(GateLog[[#This Row],[Item]]="Unknown item","Unknown item",IF(AND(GateLog[[#This Row],[Result]]="Fail",GateLog[[#This Row],[Required?]]="Yes"),"Blocker",IF(AND(OR(GateLog[[#This Row],[Result]]="Fail",GateLog[[#This Row],[Result]]="Waived"),GateLog[[#This Row],[Notes]]=""),"Add note","")))))
A20: v4.15 | B20: 46202 | C20: D07 | D20: =IF(GateLog[[#This Row],[Item ID]]="","",IFERROR(INDEX(DefinitionOfDone[Item],MATCH(GateLog[[#This Row],[Item ID]],DefinitionOfDone[ID],0)),"Unknown item")) -> Monitoring and alerts updated for new behavior | E20: =IF(GateLog[[#This Row],[Item ID]]="","",IFERROR(INDEX(DefinitionOfDone[Required?],MATCH(GateLog[[#This Row],[Item ID]],DefinitionOfDone[ID],0)),"")) -> Yes | F20: Pass | G20: Release lead | I20: =IF(GateLog[[#This Row],[Result]]="","",IF(COUNTIFS(GateLog[Release],GateLog[[#This Row],[Release]],GateLog[Item ID],GateLog[[#This Row],[Item ID]])>1,"Duplicate",IF(GateLog[[#This Row],[Item]]="Unknown item","Unknown item",IF(AND(GateLog[[#This Row],[Result]]="Fail",GateLog[[#This Row],[Required?]]="Yes"),"Blocker",IF(AND(OR(GateLog[[#This Row],[Result]]="Fail",GateLog[[#This Row],[Result]]="Waived"),GateLog[[#This Row],[Notes]]=""),"Add note","")))))
A21: v4.15 | B21: 46202 | C21: D08 | D21: =IF(GateLog[[#This Row],[Item ID]]="","",IFERROR(INDEX(DefinitionOfDone[Item],MATCH(GateLog[[#This Row],[Item ID]],DefinitionOfDone[ID],0)),"Unknown item")) -> Rollback plan tested or confirmed | E21: =IF(GateLog[[#This Row],[Item ID]]="","",IFERROR(INDEX(DefinitionOfDone[Required?],MATCH(GateLog[[#This Row],[Item ID]],DefinitionOfDone[ID],0)),"")) -> Yes | F21: Pass | G21: Release lead | I21: =IF(GateLog[[#This Row],[Result]]="","",IF(COUNTIFS(GateLog[Release],GateLog[[#This Row],[Release]],GateLog[Item ID],GateLog[[#This Row],[Item ID]])>1,"Duplicate",IF(GateLog[[#This Row],[Item]]="Unknown item","Unknown item",IF(AND(GateLog[[#This Row],[Result]]="Fail",GateLog[[#This Row],[Required?]]="Yes"),"Blocker",IF(AND(OR(GateLog[[#This Row],[Result]]="Fail",GateLog[[#This Row],[Result]]="Waived"),GateLog[[#This Row],[Notes]]=""),"Add note","")))))
A22: v4.15 | B22: 46202 | C22: D09 | D22: =IF(GateLog[[#This Row],[Item ID]]="","",IFERROR(INDEX(DefinitionOfDone[Item],MATCH(GateLog[[#This Row],[Item ID]],DefinitionOfDone[ID],0)),"Unknown item")) -> Documentation and release notes updated | E22: =IF(GateLog[[#This Row],[Item ID]]="","",IFERROR(INDEX(DefinitionOfDone[Required?],MATCH(GateLog[[#This Row],[Item ID]],DefinitionOfDone[ID],0)),"")) -> Yes | F22: Pass | G22: Release lead | I22: =IF(GateLog[[#This Row],[Result]]="","",IF(COUNTIFS(GateLog[Release],GateLog[[#This Row],[Release]],GateLog[Item ID],GateLog[[#This Row],[Item ID]])>1,"Duplicate",IF(GateLog[[#This Row],[Item]]="Unknown item","Unknown item",IF(AND(GateLog[[#This Row],[Result]]="Fail",GateLog[[#This Row],[Required?]]="Yes"),"Blocker",IF(AND(OR(GateLog[[#This Row],[Result]]="Fail",GateLog[[#This Row],[Result]]="Waived"),GateLog[[#This Row],[Notes]]=""),"Add note","")))))
A23: v4.16 | B23: 46223 | C23: D01 | D23: =IF(GateLog[[#This Row],[Item ID]]="","",IFERROR(INDEX(DefinitionOfDone[Item],MATCH(GateLog[[#This Row],[Item ID]],DefinitionOfDone[ID],0)),"Unknown item")) -> Change reviewed by at least one other engineer | E23: =IF(GateLog[[#This Row],[Item ID]]="","",IFERROR(INDEX(DefinitionOfDone[Required?],MATCH(GateLog[[#This Row],[Item ID]],DefinitionOfDone[ID],0)),"")) -> Yes | F23: Pass | G23: Release lead | I23: =IF(GateLog[[#This Row],[Result]]="","",IF(COUNTIFS(GateLog[Release],GateLog[[#This Row],[Release]],GateLog[Item ID],GateLog[[#This Row],[Item ID]])>1,"Duplicate",IF(GateLog[[#This Row],[Item]]="Unknown item","Unknown item",IF(AND(GateLog[[#This Row],[Result]]="Fail",GateLog[[#This Row],[Required?]]="Yes"),"Blocker",IF(AND(OR(GateLog[[#This Row],[Result]]="Fail",GateLog[[#This Row],[Result]]="Waived"),GateLog[[#This Row],[Notes]]=""),"Add note","")))))
A24: v4.16 | B24: 46223 | C24: D02 | D24: =IF(GateLog[[#This Row],[Item ID]]="","",IFERROR(INDEX(DefinitionOfDone[Item],MATCH(GateLog[[#This Row],[Item ID]],DefinitionOfDone[ID],0)),"Unknown item")) -> Unit tests added or updated and passing | E24: =IF(GateLog[[#This Row],[Item ID]]="","",IFERROR(INDEX(DefinitionOfDone[Required?],MATCH(GateLog[[#This Row],[Item ID]],DefinitionOfDone[ID],0)),"")) -> Yes | F24: Pass | G24: Release lead | I24: =IF(GateLog[[#This Row],[Result]]="","",IF(COUNTIFS(GateLog[Release],GateLog[[#This Row],[Release]],GateLog[Item ID],GateLog[[#This Row],[Item ID]])>1,"Duplicate",IF(GateLog[[#This Row],[Item]]="Unknown item","Unknown item",IF(AND(GateLog[[#This Row],[Result]]="Fail",GateLog[[#This Row],[Required?]]="Yes"),"Blocker",IF(AND(OR(GateLog[[#This Row],[Result]]="Fail",GateLog[[#This Row],[Result]]="Waived"),GateLog[[#This Row],[Notes]]=""),"Add note","")))))
A25: v4.16 | B25: 46223 | C25: D03 | D25: =IF(GateLog[[#This Row],[Item ID]]="","",IFERROR(INDEX(DefinitionOfDone[Item],MATCH(GateLog[[#This Row],[Item ID]],DefinitionOfDone[ID],0)),"Unknown item")) -> Static analysis has no new high-severity findings | E25: =IF(GateLog[[#This Row],[Item ID]]="","",IFERROR(INDEX(DefinitionOfDone[Required?],MATCH(GateLog[[#This Row],[Item ID]],DefinitionOfDone[ID],0)),"")) -> Yes | F25: Pass | G25: Release lead | I25: =IF(GateLog[[#This Row],[Result]]="","",IF(COUNTIFS(GateLog[Release],GateLog[[#This Row],[Release]],GateLog[Item ID],GateLog[[#This Row],[Item ID]])>1,"Duplicate",IF(GateLog[[#This Row],[Item]]="Unknown item","Unknown item",IF(AND(GateLog[[#This Row],[Result]]="Fail",GateLog[[#This Row],[Required?]]="Yes"),"Blocker",IF(AND(OR(GateLog[[#This Row],[Result]]="Fail",GateLog[[#This Row],[Result]]="Waived"),GateLog[[#This Row],[Notes]]=""),"Add note","")))))
A26: v4.16 | B26: 46223 | C26: D04 | D26: =IF(GateLog[[#This Row],[Item ID]]="","",IFERROR(INDEX(DefinitionOfDone[Item],MATCH(GateLog[[#This Row],[Item ID]],DefinitionOfDone[ID],0)),"Unknown item")) -> Dependency and secret scans pass | E26: =IF(GateLog[[#This Row],[Item ID]]="","",IFERROR(INDEX(DefinitionOfDone[Required?],MATCH(GateLog[[#This Row],[Item ID]],DefinitionOfDone[ID],0)),"")) -> Yes | F26: Pass | G26: Release lead | I26: =IF(GateLog[[#This Row],[Result]]="","",IF(COUNTIFS(GateLog[Release],GateLog[[#This Row],[Release]],GateLog[Item ID],GateLog[[#This Row],[Item ID]])>1,"Duplicate",IF(GateLog[[#This Row],[Item]]="Unknown item","Unknown item",IF(AND(GateLog[[#This Row],[Result]]="Fail",GateLog[[#This Row],[Required?]]="Yes"),"Blocker",IF(AND(OR(GateLog[[#This Row],[Result]]="Fail",GateLog[[#This Row],[Result]]="Waived"),GateLog[[#This Row],[Notes]]=""),"Add note","")))))
A27: v4.16 | B27: 46223 | C27: D05 | D27: =IF(GateLog[[#This Row],[Item ID]]="","",IFERROR(INDEX(DefinitionOfDone[Item],MATCH(GateLog[[#This Row],[Item ID]],DefinitionOfDone[ID],0)),"Unknown item")) -> Integration tests pass | E27: =IF(GateLog[[#This Row],[Item ID]]="","",IFERROR(INDEX(DefinitionOfDone[Required?],MATCH(GateLog[[#This Row],[Item ID]],DefinitionOfDone[ID],0)),"")) -> Yes | F27: Pass | G27: Release lead | I27: =IF(GateLog[[#This Row],[Result]]="","",IF(COUNTIFS(GateLog[Release],GateLog[[#This Row],[Release]],GateLog[Item ID],GateLog[[#This Row],[Item ID]])>1,"Duplicate",IF(GateLog[[#This Row],[Item]]="Unknown item","Unknown item",IF(AND(GateLog[[#This Row],[Result]]="Fail",GateLog[[#This Row],[Required?]]="Yes"),"Blocker",IF(AND(OR(GateLog[[#This Row],[Result]]="Fail",GateLog[[#This Row],[Result]]="Waived"),GateLog[[#This Row],[Notes]]=""),"Add note","")))))
A28: v4.16 | B28: 46223 | C28: D06 | D28: =IF(GateLog[[#This Row],[Item ID]]="","",IFERROR(INDEX(DefinitionOfDone[Item],MATCH(GateLog[[#This Row],[Item ID]],DefinitionOfDone[ID],0)),"Unknown item")) -> Performance check within agreed limits | E28: =IF(GateLog[[#This Row],[Item ID]]="","",IFERROR(INDEX(DefinitionOfDone[Required?],MATCH(GateLog[[#This Row],[Item ID]],DefinitionOfDone[ID],0)),"")) -> Yes | F28: Waived | G28: Release lead | H28: Perf baseline rebuild; approved by eng manager | I28: =IF(GateLog[[#This Row],[Result]]="","",IF(COUNTIFS(GateLog[Release],GateLog[[#This Row],[Release]],GateLog[Item ID],GateLog[[#This Row],[Item ID]])>1,"Duplicate",IF(GateLog[[#This Row],[Item]]="Unknown item","Unknown item",IF(AND(GateLog[[#This Row],[Result]]="Fail",GateLog[[#This Row],[Required?]]="Yes"),"Blocker",IF(AND(OR(GateLog[[#This Row],[Result]]="Fail",GateLog[[#This Row],[Result]]="Waived"),GateLog[[#This Row],[Notes]]=""),"Add note","")))))
A29: v4.16 | B29: 46223 | C29: D07 | D29: =IF(GateLog[[#This Row],[Item ID]]="","",IFERROR(INDEX(DefinitionOfDone[Item],MATCH(GateLog[[#This Row],[Item ID]],DefinitionOfDone[ID],0)),"Unknown item")) -> Monitoring and alerts updated for new behavior | E29: =IF(GateLog[[#This Row],[Item ID]]="","",IFERROR(INDEX(DefinitionOfDone[Required?],MATCH(GateLog[[#This Row],[Item ID]],DefinitionOfDone[ID],0)),"")) -> Yes | F29: Pass | G29: Release lead | I29: =IF(GateLog[[#This Row],[Result]]="","",IF(COUNTIFS(GateLog[Release],GateLog[[#This Row],[Release]],GateLog[Item ID],GateLog[[#This Row],[Item ID]])>1,"Duplicate",IF(GateLog[[#This Row],[Item]]="Unknown item","Unknown item",IF(AND(GateLog[[#This Row],[Result]]="Fail",GateLog[[#This Row],[Required?]]="Yes"),"Blocker",IF(AND(OR(GateLog[[#This Row],[Result]]="Fail",GateLog[[#This Row],[Result]]="Waived"),GateLog[[#This Row],[Notes]]=""),"Add note","")))))
A30: v4.16 | B30: 46223 | C30: D08 | D30: =IF(GateLog[[#This Row],[Item ID]]="","",IFERROR(INDEX(DefinitionOfDone[Item],MATCH(GateLog[[#This Row],[Item ID]],DefinitionOfDone[ID],0)),"Unknown item")) -> Rollback plan tested or confirmed | E30: =IF(GateLog[[#This Row],[Item ID]]="","",IFERROR(INDEX(DefinitionOfDone[Required?],MATCH(GateLog[[#This Row],[Item ID]],DefinitionOfDone[ID],0)),"")) -> Yes | F30: Pass | G30: Release lead | I30: =IF(GateLog[[#This Row],[Result]]="","",IF(COUNTIFS(GateLog[Release],GateLog[[#This Row],[Release]],GateLog[Item ID],GateLog[[#This Row],[Item ID]])>1,"Duplicate",IF(GateLog[[#This Row],[Item]]="Unknown item","Unknown item",IF(AND(GateLog[[#This Row],[Result]]="Fail",GateLog[[#This Row],[Required?]]="Yes"),"Blocker",IF(AND(OR(GateLog[[#This Row],[Result]]="Fail",GateLog[[#This Row],[Result]]="Waived"),GateLog[[#This Row],[Notes]]=""),"Add note","")))))
A31: v4.16 | B31: 46223 | C31: D09 | D31: =IF(GateLog[[#This Row],[Item ID]]="","",IFERROR(INDEX(DefinitionOfDone[Item],MATCH(GateLog[[#This Row],[Item ID]],DefinitionOfDone[ID],0)),"Unknown item")) -> Documentation and release notes updated | E31: =IF(GateLog[[#This Row],[Item ID]]="","",IFERROR(INDEX(DefinitionOfDone[Required?],MATCH(GateLog[[#This Row],[Item ID]],DefinitionOfDone[ID],0)),"")) -> Yes | F31: Pass | G31: Release lead | I31: =IF(GateLog[[#This Row],[Result]]="","",IF(COUNTIFS(GateLog[Release],GateLog[[#This Row],[Release]],GateLog[Item ID],GateLog[[#This Row],[Item ID]])>1,"Duplicate",IF(GateLog[[#This Row],[Item]]="Unknown item","Unknown item",IF(AND(GateLog[[#This Row],[Result]]="Fail",GateLog[[#This Row],[Required?]]="Yes"),"Blocker",IF(AND(OR(GateLog[[#This Row],[Result]]="Fail",GateLog[[#This Row],[Result]]="Waived"),GateLog[[#This Row],[Notes]]=""),"Add note","")))))
A32: v4.16 | B32: 46223 | C32: D10 | D32: =IF(GateLog[[#This Row],[Item ID]]="","",IFERROR(INDEX(DefinitionOfDone[Item],MATCH(GateLog[[#This Row],[Item ID]],DefinitionOfDone[ID],0)),"Unknown item")) -> Feature flag or canary configured for risky changes | E32: =IF(GateLog[[#This Row],[Item ID]]="","",IFERROR(INDEX(DefinitionOfDone[Required?],MATCH(GateLog[[#This Row],[Item ID]],DefinitionOfDone[ID],0)),"")) -> No | F32: Pass | G32: Release lead | I32: =IF(GateLog[[#This Row],[Result]]="","",IF(COUNTIFS(GateLog[Release],GateLog[[#This Row],[Release]],GateLog[Item ID],GateLog[[#This Row],[Item ID]])>1,"Duplicate",IF(GateLog[[#This Row],[Item]]="Unknown item","Unknown item",IF(AND(GateLog[[#This Row],[Result]]="Fail",GateLog[[#This Row],[Required?]]="Yes"),"Blocker",IF(AND(OR(GateLog[[#This Row],[Result]]="Fail",GateLog[[#This Row],[Result]]="Waived"),GateLog[[#This Row],[Notes]]=""),"Add note","")))))
A33: v4.17 | B33: 46244 | C33: D01 | D33: =IF(GateLog[[#This Row],[Item ID]]="","",IFERROR(INDEX(DefinitionOfDone[Item],MATCH(GateLog[[#This Row],[Item ID]],DefinitionOfDone[ID],0)),"Unknown item")) -> Change reviewed by at least one other engineer | E33: =IF(GateLog[[#This Row],[Item ID]]="","",IFERROR(INDEX(DefinitionOfDone[Required?],MATCH(GateLog[[#This Row],[Item ID]],DefinitionOfDone[ID],0)),"")) -> Yes | F33: Pass | G33: Release lead | I33: =IF(GateLog[[#This Row],[Result]]="","",IF(COUNTIFS(GateLog[Release],GateLog[[#This Row],[Release]],GateLog[Item ID],GateLog[[#This Row],[Item ID]])>1,"Duplicate",IF(GateLog[[#This Row],[Item]]="Unknown item","Unknown item",IF(AND(GateLog[[#This Row],[Result]]="Fail",GateLog[[#This Row],[Required?]]="Yes"),"Blocker",IF(AND(OR(GateLog[[#This Row],[Result]]="Fail",GateLog[[#This Row],[Result]]="Waived"),GateLog[[#This Row],[Notes]]=""),"Add note","")))))
A34: v4.17 | B34: 46244 | C34: D02 | D34: =IF(GateLog[[#This Row],[Item ID]]="","",IFERROR(INDEX(DefinitionOfDone[Item],MATCH(GateLog[[#This Row],[Item ID]],DefinitionOfDone[ID],0)),"Unknown item")) -> Unit tests added or updated and passing | E34: =IF(GateLog[[#This Row],[Item ID]]="","",IFERROR(INDEX(DefinitionOfDone[Required?],MATCH(GateLog[[#This Row],[Item ID]],DefinitionOfDone[ID],0)),"")) -> Yes | F34: Pass | G34: Release lead | I34: =IF(GateLog[[#This Row],[Result]]="","",IF(COUNTIFS(GateLog[Release],GateLog[[#This Row],[Release]],GateLog[Item ID],GateLog[[#This Row],[Item ID]])>1,"Duplicate",IF(GateLog[[#This Row],[Item]]="Unknown item","Unknown item",IF(AND(GateLog[[#This Row],[Result]]="Fail",GateLog[[#This Row],[Required?]]="Yes"),"Blocker",IF(AND(OR(GateLog[[#This Row],[Result]]="Fail",GateLog[[#This Row],[Result]]="Waived"),GateLog[[#This Row],[Notes]]=""),"Add note","")))))
A35: v4.17 | B35: 46244 | C35: D03 | D35: =IF(GateLog[[#This Row],[Item ID]]="","",IFERROR(INDEX(DefinitionOfDone[Item],MATCH(GateLog[[#This Row],[Item ID]],DefinitionOfDone[ID],0)),"Unknown item")) -> Static analysis has no new high-severity findings | E35: =IF(GateLog[[#This Row],[Item ID]]="","",IFERROR(INDEX(DefinitionOfDone[Required?],MATCH(GateLog[[#This Row],[Item ID]],DefinitionOfDone[ID],0)),"")) -> Yes | F35: Pass | G35: Release lead | I35: =IF(GateLog[[#This Row],[Result]]="","",IF(COUNTIFS(GateLog[Release],GateLog[[#This Row],[Release]],GateLog[Item ID],GateLog[[#This Row],[Item ID]])>1,"Duplicate",IF(GateLog[[#This Row],[Item]]="Unknown item","Unknown item",IF(AND(GateLog[[#This Row],[Result]]="Fail",GateLog[[#This Row],[Required?]]="Yes"),"Blocker",IF(AND(OR(GateLog[[#This Row],[Result]]="Fail",GateLog[[#This Row],[Result]]="Waived"),GateLog[[#This Row],[Notes]]=""),"Add note","")))))
A36: v4.17 | B36: 46244 | C36: D04 | D36: =IF(GateLog[[#This Row],[Item ID]]="","",IFERROR(INDEX(DefinitionOfDone[Item],MATCH(GateLog[[#This Row],[Item ID]],DefinitionOfDone[ID],0)),"Unknown item")) -> Dependency and secret scans pass | E36: =IF(GateLog[[#This Row],[Item ID]]="","",IFERROR(INDEX(DefinitionOfDone[Required?],MATCH(GateLog[[#This Row],[Item ID]],DefinitionOfDone[ID],0)),"")) -> Yes | F36: Pass | G36: Release lead | I36: =IF(GateLog[[#This Row],[Result]]="","",IF(COUNTIFS(GateLog[Release],GateLog[[#This Row],[Release]],GateLog[Item ID],GateLog[[#This Row],[Item ID]])>1,"Duplicate",IF(GateLog[[#This Row],[Item]]="Unknown item","Unknown item",IF(AND(GateLog[[#This Row],[Result]]="Fail",GateLog[[#This Row],[Required?]]="Yes"),"Blocker",IF(AND(OR(GateLog[[#This Row],[Result]]="Fail",GateLog[[#This Row],[Result]]="Waived"),GateLog[[#This Row],[Notes]]=""),"Add note","")))))
A37: v4.17 | B37: 46244 | C37: D05 | D37: =IF(GateLog[[#This Row],[Item ID]]="","",IFERROR(INDEX(DefinitionOfDone[Item],MATCH(GateLog[[#This Row],[Item ID]],DefinitionOfDone[ID],0)),"Unknown item")) -> Integration tests pass | E37: =IF(GateLog[[#This Row],[Item ID]]="","",IFERROR(INDEX(DefinitionOfDone[Required?],MATCH(GateLog[[#This Row],[Item ID]],DefinitionOfDone[ID],0)),"")) -> Yes | F37: Pass | G37: Release lead | I37: =IF(GateLog[[#This Row],[Result]]="","",IF(COUNTIFS(GateLog[Release],GateLog[[#This Row],[Release]],GateLog[Item ID],GateLog[[#This Row],[Item ID]])>1,"Duplicate",IF(GateLog[[#This Row],[Item]]="Unknown item","Unknown item",IF(AND(GateLog[[#This Row],[Result]]="Fail",GateLog[[#This Row],[Required?]]="Yes"),"Blocker",IF(AND(OR(GateLog[[#This Row],[Result]]="Fail",GateLog[[#This Row],[Result]]="Waived"),GateLog[[#This Row],[Notes]]=""),"Add note","")))))
A38: v4.17 | B38: 46244 | C38: D06 | D38: =IF(GateLog[[#This Row],[Item ID]]="","",IFERROR(INDEX(DefinitionOfDone[Item],MATCH(GateLog[[#This Row],[Item ID]],DefinitionOfDone[ID],0)),"Unknown item")) -> Performance check within agreed limits | E38: =IF(GateLog[[#This Row],[Item ID]]="","",IFERROR(INDEX(DefinitionOfDone[Required?],MATCH(GateLog[[#This Row],[Item ID]],DefinitionOfDone[ID],0)),"")) -> Yes | F38: Pass | G38: Release lead | I38: =IF(GateLog[[#This Row],[Result]]="","",IF(COUNTIFS(GateLog[Release],GateLog[[#This Row],[Release]],GateLog[Item ID],GateLog[[#This Row],[Item ID]])>1,"Duplicate",IF(GateLog[[#This Row],[Item]]="Unknown item","Unknown item",IF(AND(GateLog[[#This Row],[Result]]="Fail",GateLog[[#This Row],[Required?]]="Yes"),"Blocker",IF(AND(OR(GateLog[[#This Row],[Result]]="Fail",GateLog[[#This Row],[Result]]="Waived"),GateLog[[#This Row],[Notes]]=""),"Add note","")))))
A39: v4.17 | B39: 46244 | C39: D07 | D39: =IF(GateLog[[#This Row],[Item ID]]="","",IFERROR(INDEX(DefinitionOfDone[Item],MATCH(GateLog[[#This Row],[Item ID]],DefinitionOfDone[ID],0)),"Unknown item")) -> Monitoring and alerts updated for new behavior | E39: =IF(GateLog[[#This Row],[Item ID]]="","",IFERROR(INDEX(DefinitionOfDone[Required?],MATCH(GateLog[[#This Row],[Item ID]],DefinitionOfDone[ID],0)),"")) -> Yes | F39: Pass | G39: Release lead | I39: =IF(GateLog[[#This Row],[Result]]="","",IF(COUNTIFS(GateLog[Release],GateLog[[#This Row],[Release]],GateLog[Item ID],GateLog[[#This Row],[Item ID]])>1,"Duplicate",IF(GateLog[[#This Row],[Item]]="Unknown item","Unknown item",IF(AND(GateLog[[#This Row],[Result]]="Fail",GateLog[[#This Row],[Required?]]="Yes"),"Blocker",IF(AND(OR(GateLog[[#This Row],[Result]]="Fail",GateLog[[#This Row],[Result]]="Waived"),GateLog[[#This Row],[Notes]]=""),"Add note","")))))
A40: v4.17 | B40: 46244 | C40: D08 | D40: =IF(GateLog[[#This Row],[Item ID]]="","",IFERROR(INDEX(DefinitionOfDone[Item],MATCH(GateLog[[#This Row],[Item ID]],DefinitionOfDone[ID],0)),"Unknown item")) -> Rollback plan tested or confirmed | E40: =IF(GateLog[[#This Row],[Item ID]]="","",IFERROR(INDEX(DefinitionOfDone[Required?],MATCH(GateLog[[#This Row],[Item ID]],DefinitionOfDone[ID],0)),"")) -> Yes | F40: Fail | G40: Release lead | H40: Rollback runbook out of date | I40: =IF(GateLog[[#This Row],[Result]]="","",IF(COUNTIFS(GateLog[Release],GateLog[[#This Row],[Release]],GateLog[Item ID],GateLog[[#This Row],[Item ID]])>1,"Duplicate",IF(GateLog[[#This Row],[Item]]="Unknown item","Unknown item",IF(AND(GateLog[[#This Row],[Result]]="Fail",GateLog[[#This Row],[Required?]]="Yes"),"Blocker",IF(AND(OR(GateLog[[#This Row],[Result]]="Fail",GateLog[[#This Row],[Result]]="Waived"),GateLog[[#This Row],[Notes]]=""),"Add note",""))))) -> Blocker
A41: v4.17 | B41: 46244 | C41: D09 | D41: =IF(GateLog[[#This Row],[Item ID]]="","",IFERROR(INDEX(DefinitionOfDone[Item],MATCH(GateLog[[#This Row],[Item ID]],DefinitionOfDone[ID],0)),"Unknown item")) -> Documentation and release notes updated | E41: =IF(GateLog[[#This Row],[Item ID]]="","",IFERROR(INDEX(DefinitionOfDone[Required?],MATCH(GateLog[[#This Row],[Item ID]],DefinitionOfDone[ID],0)),"")) -> Yes | F41: Pass | G41: Release lead | I41: =IF(GateLog[[#This Row],[Result]]="","",IF(COUNTIFS(GateLog[Release],GateLog[[#This Row],[Release]],GateLog[Item ID],GateLog[[#This Row],[Item ID]])>1,"Duplicate",IF(GateLog[[#This Row],[Item]]="Unknown item","Unknown item",IF(AND(GateLog[[#This Row],[Result]]="Fail",GateLog[[#This Row],[Required?]]="Yes"),"Blocker",IF(AND(OR(GateLog[[#This Row],[Result]]="Fail",GateLog[[#This Row],[Result]]="Waived"),GateLog[[#This Row],[Notes]]=""),"Add note","")))))
A42: v4.18 | B42: 46279 | C42: D01 | D42: =IF(GateLog[[#This Row],[Item ID]]="","",IFERROR(INDEX(DefinitionOfDone[Item],MATCH(GateLog[[#This Row],[Item ID]],DefinitionOfDone[ID],0)),"Unknown item")) -> Change reviewed by at least one other engineer | E42: =IF(GateLog[[#This Row],[Item ID]]="","",IFERROR(INDEX(DefinitionOfDone[Required?],MATCH(GateLog[[#This Row],[Item ID]],DefinitionOfDone[ID],0)),"")) -> Yes | F42: Pass | G42: Release lead | I42: =IF(GateLog[[#This Row],[Result]]="","",IF(COUNTIFS(GateLog[Release],GateLog[[#This Row],[Release]],GateLog[Item ID],GateLog[[#This Row],[Item ID]])>1,"Duplicate",IF(GateLog[[#This Row],[Item]]="Unknown item","Unknown item",IF(AND(GateLog[[#This Row],[Result]]="Fail",GateLog[[#This Row],[Required?]]="Yes"),"Blocker",IF(AND(OR(GateLog[[#This Row],[Result]]="Fail",GateLog[[#This Row],[Result]]="Waived"),GateLog[[#This Row],[Notes]]=""),"Add note","")))))
A43: v4.18 | B43: 46279 | C43: D02 | D43: =IF(GateLog[[#This Row],[Item ID]]="","",IFERROR(INDEX(DefinitionOfDone[Item],MATCH(GateLog[[#This Row],[Item ID]],DefinitionOfDone[ID],0)),"Unknown item")) -> Unit tests added or updated and passing | E43: =IF(GateLog[[#This Row],[Item ID]]="","",IFERROR(INDEX(DefinitionOfDone[Required?],MATCH(GateLog[[#This Row],[Item ID]],DefinitionOfDone[ID],0)),"")) -> Yes | F43: Pass | G43: Release lead | I43: =IF(GateLog[[#This Row],[Result]]="","",IF(COUNTIFS(GateLog[Release],GateLog[[#This Row],[Release]],GateLog[Item ID],GateLog[[#This Row],[Item ID]])>1,"Duplicate",IF(GateLog[[#This Row],[Item]]="Unknown item","Unknown item",IF(AND(GateLog[[#This Row],[Result]]="Fail",GateLog[[#This Row],[Required?]]="Yes"),"Blocker",IF(AND(OR(GateLog[[#This Row],[Result]]="Fail",GateLog[[#This Row],[Result]]="Waived"),GateLog[[#This Row],[Notes]]=""),"Add note","")))))
A44: v4.18 | B44: 46279 | C44: D03 | D44: =IF(GateLog[[#This Row],[Item ID]]="","",IFERROR(INDEX(DefinitionOfDone[Item],MATCH(GateLog[[#This Row],[Item ID]],DefinitionOfDone[ID],0)),"Unknown item")) -> Static analysis has no new high-severity findings | E44: =IF(GateLog[[#This Row],[Item ID]]="","",IFERROR(INDEX(DefinitionOfDone[Required?],MATCH(GateLog[[#This Row],[Item ID]],DefinitionOfDone[ID],0)),"")) -> Yes | F44: Pass | G44: Release lead | I44: =IF(GateLog[[#This Row],[Result]]="","",IF(COUNTIFS(GateLog[Release],GateLog[[#This Row],[Release]],GateLog[Item ID],GateLog[[#This Row],[Item ID]])>1,"Duplicate",IF(GateLog[[#This Row],[Item]]="Unknown item","Unknown item",IF(AND(GateLog[[#This Row],[Result]]="Fail",GateLog[[#This Row],[Required?]]="Yes"),"Blocker",IF(AND(OR(GateLog[[#This Row],[Result]]="Fail",GateLog[[#This Row],[Result]]="Waived"),GateLog[[#This Row],[Notes]]=""),"Add note","")))))
A45: v4.18 | B45: 46279 | C45: D04 | D45: =IF(GateLog[[#This Row],[Item ID]]="","",IFERROR(INDEX(DefinitionOfDone[Item],MATCH(GateLog[[#This Row],[Item ID]],DefinitionOfDone[ID],0)),"Unknown item")) -> Dependency and secret scans pass | E45: =IF(GateLog[[#This Row],[Item ID]]="","",IFERROR(INDEX(DefinitionOfDone[Required?],MATCH(GateLog[[#This Row],[Item ID]],DefinitionOfDone[ID],0)),"")) -> Yes | F45: Pass | G45: Release lead | I45: =IF(GateLog[[#This Row],[Result]]="","",IF(COUNTIFS(GateLog[Release],GateLog[[#This Row],[Release]],GateLog[Item ID],GateLog[[#This Row],[Item ID]])>1,"Duplicate",IF(GateLog[[#This Row],[Item]]="Unknown item","Unknown item",IF(AND(GateLog[[#This Row],[Result]]="Fail",GateLog[[#This Row],[Required?]]="Yes"),"Blocker",IF(AND(OR(GateLog[[#This Row],[Result]]="Fail",GateLog[[#This Row],[Result]]="Waived"),GateLog[[#This Row],[Notes]]=""),"Add note","")))))
A46: v4.18 | B46: 46279 | C46: D05 | D46: =IF(GateLog[[#This Row],[Item ID]]="","",IFERROR(INDEX(DefinitionOfDone[Item],MATCH(GateLog[[#This Row],[Item ID]],DefinitionOfDone[ID],0)),"Unknown item")) -> Integration tests pass | E46: =IF(GateLog[[#This Row],[Item ID]]="","",IFERROR(INDEX(DefinitionOfDone[Required?],MATCH(GateLog[[#This Row],[Item ID]],DefinitionOfDone[ID],0)),"")) -> Yes | F46: Fail | G46: Release lead | H46: Integration environment unavailable | I46: =IF(GateLog[[#This Row],[Result]]="","",IF(COUNTIFS(GateLog[Release],GateLog[[#This Row],[Release]],GateLog[Item ID],GateLog[[#This Row],[Item ID]])>1,"Duplicate",IF(GateLog[[#This Row],[Item]]="Unknown item","Unknown item",IF(AND(GateLog[[#This Row],[Result]]="Fail",GateLog[[#This Row],[Required?]]="Yes"),"Blocker",IF(AND(OR(GateLog[[#This Row],[Result]]="Fail",GateLog[[#This Row],[Result]]="Waived"),GateLog[[#This Row],[Notes]]=""),"Add note",""))))) -> Blocker
A47: v4.18 | B47: 46279 | C47: D06 | D47: =IF(GateLog[[#This Row],[Item ID]]="","",IFERROR(INDEX(DefinitionOfDone[Item],MATCH(GateLog[[#This Row],[Item ID]],DefinitionOfDone[ID],0)),"Unknown item")) -> Performance check within agreed limits | E47: =IF(GateLog[[#This Row],[Item ID]]="","",IFERROR(INDEX(DefinitionOfDone[Required?],MATCH(GateLog[[#This Row],[Item ID]],DefinitionOfDone[ID],0)),"")) -> Yes | F47: Pass | G47: Release lead | I47: =IF(GateLog[[#This Row],[Result]]="","",IF(COUNTIFS(GateLog[Release],GateLog[[#This Row],[Release]],GateLog[Item ID],GateLog[[#This Row],[Item ID]])>1,"Duplicate",IF(GateLog[[#This Row],[Item]]="Unknown item","Unknown item",IF(AND(GateLog[[#This Row],[Result]]="Fail",GateLog[[#This Row],[Required?]]="Yes"),"Blocker",IF(AND(OR(GateLog[[#This Row],[Result]]="Fail",GateLog[[#This Row],[Result]]="Waived"),GateLog[[#This Row],[Notes]]=""),"Add note","")))))
A48: v4.18 | B48: 46279 | C48: D07 | D48: =IF(GateLog[[#This Row],[Item ID]]="","",IFERROR(INDEX(DefinitionOfDone[Item],MATCH(GateLog[[#This Row],[Item ID]],DefinitionOfDone[ID],0)),"Unknown item")) -> Monitoring and alerts updated for new behavior | E48: =IF(GateLog[[#This Row],[Item ID]]="","",IFERROR(INDEX(DefinitionOfDone[Required?],MATCH(GateLog[[#This Row],[Item ID]],DefinitionOfDone[ID],0)),"")) -> Yes | F48: Pass | G48: Release lead | I48: =IF(GateLog[[#This Row],[Result]]="","",IF(COUNTIFS(GateLog[Release],GateLog[[#This Row],[Release]],GateLog[Item ID],GateLog[[#This Row],[Item ID]])>1,"Duplicate",IF(GateLog[[#This Row],[Item]]="Unknown item","Unknown item",IF(AND(GateLog[[#This Row],[Result]]="Fail",GateLog[[#This Row],[Required?]]="Yes"),"Blocker",IF(AND(OR(GateLog[[#This Row],[Result]]="Fail",GateLog[[#This Row],[Result]]="Waived"),GateLog[[#This Row],[Notes]]=""),"Add note","")))))
A49: v4.18 | B49: 46279 | C49: D08 | D49: =IF(GateLog[[#This Row],[Item ID]]="","",IFERROR(INDEX(DefinitionOfDone[Item],MATCH(GateLog[[#This Row],[Item ID]],DefinitionOfDone[ID],0)),"Unknown item")) -> Rollback plan tested or confirmed | E49: =IF(GateLog[[#This Row],[Item ID]]="","",IFERROR(INDEX(DefinitionOfDone[Required?],MATCH(GateLog[[#This Row],[Item ID]],DefinitionOfDone[ID],0)),"")) -> Yes | F49: Fail | G49: Release lead | H49: Rollback runbook out of date | I49: =IF(GateLog[[#This Row],[Result]]="","",IF(COUNTIFS(GateLog[Release],GateLog[[#This Row],[Release]],GateLog[Item ID],GateLog[[#This Row],[Item ID]])>1,"Duplicate",IF(GateLog[[#This Row],[Item]]="Unknown item","Unknown item",IF(AND(GateLog[[#This Row],[Result]]="Fail",GateLog[[#This Row],[Required?]]="Yes"),"Blocker",IF(AND(OR(GateLog[[#This Row],[Result]]="Fail",GateLog[[#This Row],[Result]]="Waived"),GateLog[[#This Row],[Notes]]=""),"Add note",""))))) -> Blocker
A50: v4.18 | B50: 46279 | C50: D09 | D50: =IF(GateLog[[#This Row],[Item ID]]="","",IFERROR(INDEX(DefinitionOfDone[Item],MATCH(GateLog[[#This Row],[Item ID]],DefinitionOfDone[ID],0)),"Unknown item")) -> Documentation and release notes updated | E50: =IF(GateLog[[#This Row],[Item ID]]="","",IFERROR(INDEX(DefinitionOfDone[Required?],MATCH(GateLog[[#This Row],[Item ID]],DefinitionOfDone[ID],0)),"")) -> Yes | F50: Pass | G50: Release lead | I50: =IF(GateLog[[#This Row],[Result]]="","",IF(COUNTIFS(GateLog[Release],GateLog[[#This Row],[Release]],GateLog[Item ID],GateLog[[#This Row],[Item ID]])>1,"Duplicate",IF(GateLog[[#This Row],[Item]]="Unknown item","Unknown item",IF(AND(GateLog[[#This Row],[Result]]="Fail",GateLog[[#This Row],[Required?]]="Yes"),"Blocker",IF(AND(OR(GateLog[[#This Row],[Result]]="Fail",GateLog[[#This Row],[Result]]="Waived"),GateLog[[#This Row],[Notes]]=""),"Add note","")))))
A51: v4.19 | B51: 46300 | C51: D01 | D51: =IF(GateLog[[#This Row],[Item ID]]="","",IFERROR(INDEX(DefinitionOfDone[Item],MATCH(GateLog[[#This Row],[Item ID]],DefinitionOfDone[ID],0)),"Unknown item")) -> Change reviewed by at least one other engineer | E51: =IF(GateLog[[#This Row],[Item ID]]="","",IFERROR(INDEX(DefinitionOfDone[Required?],MATCH(GateLog[[#This Row],[Item ID]],DefinitionOfDone[ID],0)),"")) -> Yes | F51: Pass | G51: Release lead | I51: =IF(GateLog[[#This Row],[Result]]="","",IF(COUNTIFS(GateLog[Release],GateLog[[#This Row],[Release]],GateLog[Item ID],GateLog[[#This Row],[Item ID]])>1,"Duplicate",IF(GateLog[[#This Row],[Item]]="Unknown item","Unknown item",IF(AND(GateLog[[#This Row],[Result]]="Fail",GateLog[[#This Row],[Required?]]="Yes"),"Blocker",IF(AND(OR(GateLog[[#This Row],[Result]]="Fail",GateLog[[#This Row],[Result]]="Waived"),GateLog[[#This Row],[Notes]]=""),"Add note","")))))
A52: v4.19 | B52: 46300 | C52: D02 | D52: =IF(GateLog[[#This Row],[Item ID]]="","",IFERROR(INDEX(DefinitionOfDone[Item],MATCH(GateLog[[#This Row],[Item ID]],DefinitionOfDone[ID],0)),"Unknown item")) -> Unit tests added or updated and passing | E52: =IF(GateLog[[#This Row],[Item ID]]="","",IFERROR(INDEX(DefinitionOfDone[Required?],MATCH(GateLog[[#This Row],[Item ID]],DefinitionOfDone[ID],0)),"")) -> Yes | F52: Pass | G52: Release lead | I52: =IF(GateLog[[#This Row],[Result]]="","",IF(COUNTIFS(GateLog[Release],GateLog[[#This Row],[Release]],GateLog[Item ID],GateLog[[#This Row],[Item ID]])>1,"Duplicate",IF(GateLog[[#This Row],[Item]]="Unknown item","Unknown item",IF(AND(GateLog[[#This Row],[Result]]="Fail",GateLog[[#This Row],[Required?]]="Yes"),"Blocker",IF(AND(OR(GateLog[[#This Row],[Result]]="Fail",GateLog[[#This Row],[Result]]="Waived"),GateLog[[#This Row],[Notes]]=""),"Add note","")))))
A53: v4.19 | B53: 46300 | C53: D03 | D53: =IF(GateLog[[#This Row],[Item ID]]="","",IFERROR(INDEX(DefinitionOfDone[Item],MATCH(GateLog[[#This Row],[Item ID]],DefinitionOfDone[ID],0)),"Unknown item")) -> Static analysis has no new high-severity findings | E53: =IF(GateLog[[#This Row],[Item ID]]="","",IFERROR(INDEX(DefinitionOfDone[Required?],MATCH(GateLog[[#This Row],[Item ID]],DefinitionOfDone[ID],0)),"")) -> Yes | F53: Pass | G53: Release lead | I53: =IF(GateLog[[#This Row],[Result]]="","",IF(COUNTIFS(GateLog[Release],GateLog[[#This Row],[Release]],GateLog[Item ID],GateLog[[#This Row],[Item ID]])>1,"Duplicate",IF(GateLog[[#This Row],[Item]]="Unknown item","Unknown item",IF(AND(GateLog[[#This Row],[Result]]="Fail",GateLog[[#This Row],[Required?]]="Yes"),"Blocker",IF(AND(OR(GateLog[[#This Row],[Result]]="Fail",GateLog[[#This Row],[Result]]="Waived"),GateLog[[#This Row],[Notes]]=""),"Add note","")))))
A54: v4.19 | B54: 46300 | C54: D04 | D54: =IF(GateLog[[#This Row],[Item ID]]="","",IFERROR(INDEX(DefinitionOfDone[Item],MATCH(GateLog[[#This Row],[Item ID]],DefinitionOfDone[ID],0)),"Unknown item")) -> Dependency and secret scans pass | E54: =IF(GateLog[[#This Row],[Item ID]]="","",IFERROR(INDEX(DefinitionOfDone[Required?],MATCH(GateLog[[#This Row],[Item ID]],DefinitionOfDone[ID],0)),"")) -> Yes | F54: Pass | G54: Release lead | I54: =IF(GateLog[[#This Row],[Result]]="","",IF(COUNTIFS(GateLog[Release],GateLog[[#This Row],[Release]],GateLog[Item ID],GateLog[[#This Row],[Item ID]])>1,"Duplicate",IF(GateLog[[#This Row],[Item]]="Unknown item","Unknown item",IF(AND(GateLog[[#This Row],[Result]]="Fail",GateLog[[#This Row],[Required?]]="Yes"),"Blocker",IF(AND(OR(GateLog[[#This Row],[Result]]="Fail",GateLog[[#This Row],[Result]]="Waived"),GateLog[[#This Row],[Notes]]=""),"Add note","")))))
A55: v4.19 | B55: 46300 | C55: D05 | D55: =IF(GateLog[[#This Row],[Item ID]]="","",IFERROR(INDEX(DefinitionOfDone[Item],MATCH(GateLog[[#This Row],[Item ID]],DefinitionOfDone[ID],0)),"Unknown item")) -> Integration tests pass | E55: =IF(GateLog[[#This Row],[Item ID]]="","",IFERROR(INDEX(DefinitionOfDone[Required?],MATCH(GateLog[[#This Row],[Item ID]],DefinitionOfDone[ID],0)),"")) -> Yes | F55: Pass | G55: Release lead | I55: =IF(GateLog[[#This Row],[Result]]="","",IF(COUNTIFS(GateLog[Release],GateLog[[#This Row],[Release]],GateLog[Item ID],GateLog[[#This Row],[Item ID]])>1,"Duplicate",IF(GateLog[[#This Row],[Item]]="Unknown item","Unknown item",IF(AND(GateLog[[#This Row],[Result]]="Fail",GateLog[[#This Row],[Required?]]="Yes"),"Blocker",IF(AND(OR(GateLog[[#This Row],[Result]]="Fail",GateLog[[#This Row],[Result]]="Waived"),GateLog[[#This Row],[Notes]]=""),"Add note","")))))
A56: v4.19 | B56: 46300 | C56: D06 | D56: =IF(GateLog[[#This Row],[Item ID]]="","",IFERROR(INDEX(DefinitionOfDone[Item],MATCH(GateLog[[#This Row],[Item ID]],DefinitionOfDone[ID],0)),"Unknown item")) -> Performance check within agreed limits | E56: =IF(GateLog[[#This Row],[Item ID]]="","",IFERROR(INDEX(DefinitionOfDone[Required?],MATCH(GateLog[[#This Row],[Item ID]],DefinitionOfDone[ID],0)),"")) -> Yes | F56: Pass | G56: Release lead | I56: =IF(GateLog[[#This Row],[Result]]="","",IF(COUNTIFS(GateLog[Release],GateLog[[#This Row],[Release]],GateLog[Item ID],GateLog[[#This Row],[Item ID]])>1,"Duplicate",IF(GateLog[[#This Row],[Item]]="Unknown item","Unknown item",IF(AND(GateLog[[#This Row],[Result]]="Fail",GateLog[[#This Row],[Required?]]="Yes"),"Blocker",IF(AND(OR(GateLog[[#This Row],[Result]]="Fail",GateLog[[#This Row],[Result]]="Waived"),GateLog[[#This Row],[Notes]]=""),"Add note","")))))
A57: v4.19 | B57: 46300 | C57: D07 | D57: =IF(GateLog[[#This Row],[Item ID]]="","",IFERROR(INDEX(DefinitionOfDone[Item],MATCH(GateLog[[#This Row],[Item ID]],DefinitionOfDone[ID],0)),"Unknown item")) -> Monitoring and alerts updated for new behavior | E57: =IF(GateLog[[#This Row],[Item ID]]="","",IFERROR(INDEX(DefinitionOfDone[Required?],MATCH(GateLog[[#This Row],[Item ID]],DefinitionOfDone[ID],0)),"")) -> Yes | F57: Pass | G57: Release lead | I57: =IF(GateLog[[#This Row],[Result]]="","",IF(COUNTIFS(GateLog[Release],GateLog[[#This Row],[Release]],GateLog[Item ID],GateLog[[#This Row],[Item ID]])>1,"Duplicate",IF(GateLog[[#This Row],[Item]]="Unknown item","Unknown item",IF(AND(GateLog[[#This Row],[Result]]="Fail",GateLog[[#This Row],[Required?]]="Yes"),"Blocker",IF(AND(OR(GateLog[[#This Row],[Result]]="Fail",GateLog[[#This Row],[Result]]="Waived"),GateLog[[#This Row],[Notes]]=""),"Add note","")))))
A58: v4.19 | B58: 46300 | C58: D08 | D58: =IF(GateLog[[#This Row],[Item ID]]="","",IFERROR(INDEX(DefinitionOfDone[Item],MATCH(GateLog[[#This Row],[Item ID]],DefinitionOfDone[ID],0)),"Unknown item")) -> Rollback plan tested or confirmed | E58: =IF(GateLog[[#This Row],[Item ID]]="","",IFERROR(INDEX(DefinitionOfDone[Required?],MATCH(GateLog[[#This Row],[Item ID]],DefinitionOfDone[ID],0)),"")) -> Yes | F58: Pass | G58: Release lead | I58: =IF(GateLog[[#This Row],[Result]]="","",IF(COUNTIFS(GateLog[Release],GateLog[[#This Row],[Release]],GateLog[Item ID],GateLog[[#This Row],[Item ID]])>1,"Duplicate",IF(GateLog[[#This Row],[Item]]="Unknown item","Unknown item",IF(AND(GateLog[[#This Row],[Result]]="Fail",GateLog[[#This Row],[Required?]]="Yes"),"Blocker",IF(AND(OR(GateLog[[#This Row],[Result]]="Fail",GateLog[[#This Row],[Result]]="Waived"),GateLog[[#This Row],[Notes]]=""),"Add note","")))))
A59: v4.19 | B59: 46300 | C59: D09 | D59: =IF(GateLog[[#This Row],[Item ID]]="","",IFERROR(INDEX(DefinitionOfDone[Item],MATCH(GateLog[[#This Row],[Item ID]],DefinitionOfDone[ID],0)),"Unknown item")) -> Documentation and release notes updated | E59: =IF(GateLog[[#This Row],[Item ID]]="","",IFERROR(INDEX(DefinitionOfDone[Required?],MATCH(GateLog[[#This Row],[Item ID]],DefinitionOfDone[ID],0)),"")) -> Yes | F59: Pass | G59: Release lead | I59: =IF(GateLog[[#This Row],[Result]]="","",IF(COUNTIFS(GateLog[Release],GateLog[[#This Row],[Release]],GateLog[Item ID],GateLog[[#This Row],[Item ID]])>1,"Duplicate",IF(GateLog[[#This Row],[Item]]="Unknown item","Unknown item",IF(AND(GateLog[[#This Row],[Result]]="Fail",GateLog[[#This Row],[Required?]]="Yes"),"Blocker",IF(AND(OR(GateLog[[#This Row],[Result]]="Fail",GateLog[[#This Row],[Result]]="Waived"),GateLog[[#This Row],[Notes]]=""),"Add note","")))))
A60: v4.19 | B60: 46300 | C60: D10 | D60: =IF(GateLog[[#This Row],[Item ID]]="","",IFERROR(INDEX(DefinitionOfDone[Item],MATCH(GateLog[[#This Row],[Item ID]],DefinitionOfDone[ID],0)),"Unknown item")) -> Feature flag or canary configured for risky changes | E60: =IF(GateLog[[#This Row],[Item ID]]="","",IFERROR(INDEX(DefinitionOfDone[Required?],MATCH(GateLog[[#This Row],[Item ID]],DefinitionOfDone[ID],0)),"")) -> No | F60: Pass | G60: Release lead | I60: =IF(GateLog[[#This Row],[Result]]="","",IF(COUNTIFS(GateLog[Release],GateLog[[#This Row],[Release]],GateLog[Item ID],GateLog[[#This Row],[Item ID]])>1,"Duplicate",IF(GateLog[[#This Row],[Item]]="Unknown item","Unknown item",IF(AND(GateLog[[#This Row],[Result]]="Fail",GateLog[[#This Row],[Required?]]="Yes"),"Blocker",IF(AND(OR(GateLog[[#This Row],[Result]]="Fail",GateLog[[#This Row],[Result]]="Waived"),GateLog[[#This Row],[Notes]]=""),"Add note","")))))
D61: =IF(GateLog[[#This Row],[Item ID]]="","",IFERROR(INDEX(DefinitionOfDone[Item],MATCH(GateLog[[#This Row],[Item ID]],DefinitionOfDone[ID],0)),"Unknown item")) | E61: =IF(GateLog[[#This Row],[Item ID]]="","",IFERROR(INDEX(DefinitionOfDone[Required?],MATCH(GateLog[[#This Row],[Item ID]],DefinitionOfDone[ID],0)),"")) | I61: =IF(GateLog[[#This Row],[Result]]="","",IF(COUNTIFS(GateLog[Release],GateLog[[#This Row],[Release]],GateLog[Item ID],GateLog[[#This Row],[Item ID]])>1,"Duplicate",IF(GateLog[[#This Row],[Item]]="Unknown item","Unknown item",IF(AND(GateLog[[#This Row],[Result]]="Fail",GateLog[[#This Row],[Required?]]="Yes"),"Blocker",IF(AND(OR(GateLog[[#This Row],[Result]]="Fail",GateLog[[#This Row],[Result]]="Waived"),GateLog[[#This Row],[Notes]]=""),"Add note","")))))
D62: =IF(GateLog[[#This Row],[Item ID]]="","",IFERROR(INDEX(DefinitionOfDone[Item],MATCH(GateLog[[#This Row],[Item ID]],DefinitionOfDone[ID],0)),"Unknown item")) | E62: =IF(GateLog[[#This Row],[Item ID]]="","",IFERROR(INDEX(DefinitionOfDone[Required?],MATCH(GateLog[[#This Row],[Item ID]],DefinitionOfDone[ID],0)),"")) | I62: =IF(GateLog[[#This Row],[Result]]="","",IF(COUNTIFS(GateLog[Release],GateLog[[#This Row],[Release]],GateLog[Item ID],GateLog[[#This Row],[Item ID]])>1,"Duplicate",IF(GateLog[[#This Row],[Item]]="Unknown item","Unknown item",IF(AND(GateLog[[#This Row],[Result]]="Fail",GateLog[[#This Row],[Required?]]="Yes"),"Blocker",IF(AND(OR(GateLog[[#This Row],[Result]]="Fail",GateLog[[#This Row],[Result]]="Waived"),GateLog[[#This Row],[Notes]]=""),"Add note","")))))
D63: =IF(GateLog[[#This Row],[Item ID]]="","",IFERROR(INDEX(DefinitionOfDone[Item],MATCH(GateLog[[#This Row],[Item ID]],DefinitionOfDone[ID],0)),"Unknown item")) | E63: =IF(GateLog[[#This Row],[Item ID]]="","",IFERROR(INDEX(DefinitionOfDone[Required?],MATCH(GateLog[[#This Row],[Item ID]],DefinitionOfDone[ID],0)),"")) | I63: =IF(GateLog[[#This Row],[Result]]="","",IF(COUNTIFS(GateLog[Release],GateLog[[#This Row],[Release]],GateLog[Item ID],GateLog[[#This Row],[Item ID]])>1,"Duplicate",IF(GateLog[[#This Row],[Item]]="Unknown item","Unknown item",IF(AND(GateLog[[#This Row],[Result]]="Fail",GateLog[[#This Row],[Required?]]="Yes"),"Blocker",IF(AND(OR(GateLog[[#This Row],[Result]]="Fail",GateLog[[#This Row],[Result]]="Waived"),GateLog[[#This Row],[Notes]]=""),"Add note","")))))
D64: =IF(GateLog[[#This Row],[Item ID]]="","",IFERROR(INDEX(DefinitionOfDone[Item],MATCH(GateLog[[#This Row],[Item ID]],DefinitionOfDone[ID],0)),"Unknown item")) | E64: =IF(GateLog[[#This Row],[Item ID]]="","",IFERROR(INDEX(DefinitionOfDone[Required?],MATCH(GateLog[[#This Row],[Item ID]],DefinitionOfDone[ID],0)),"")) | I64: =IF(GateLog[[#This Row],[Result]]="","",IF(COUNTIFS(GateLog[Release],GateLog[[#This Row],[Release]],GateLog[Item ID],GateLog[[#This Row],[Item ID]])>1,"Duplicate",IF(GateLog[[#This Row],[Item]]="Unknown item","Unknown item",IF(AND(GateLog[[#This Row],[Result]]="Fail",GateLog[[#This Row],[Required?]]="Yes"),"Blocker",IF(AND(OR(GateLog[[#This Row],[Result]]="Fail",GateLog[[#This Row],[Result]]="Waived"),GateLog[[#This Row],[Notes]]=""),"Add note","")))))
D65: =IF(GateLog[[#This Row],[Item ID]]="","",IFERROR(INDEX(DefinitionOfDone[Item],MATCH(GateLog[[#This Row],[Item ID]],DefinitionOfDone[ID],0)),"Unknown item")) | E65: =IF(GateLog[[#This Row],[Item ID]]="","",IFERROR(INDEX(DefinitionOfDone[Required?],MATCH(GateLog[[#This Row],[Item ID]],DefinitionOfDone[ID],0)),"")) | I65: =IF(GateLog[[#This Row],[Result]]="","",IF(COUNTIFS(GateLog[Release],GateLog[[#This Row],[Release]],GateLog[Item ID],GateLog[[#This Row],[Item ID]])>1,"Duplicate",IF(GateLog[[#This Row],[Item]]="Unknown item","Unknown item",IF(AND(GateLog[[#This Row],[Result]]="Fail",GateLog[[#This Row],[Required?]]="Yes"),"Blocker",IF(AND(OR(GateLog[[#This Row],[Result]]="Fail",GateLog[[#This Row],[Result]]="Waived"),GateLog[[#This Row],[Notes]]=""),"Add note","")))))
D66: =IF(GateLog[[#This Row],[Item ID]]="","",IFERROR(INDEX(DefinitionOfDone[Item],MATCH(GateLog[[#This Row],[Item ID]],DefinitionOfDone[ID],0)),"Unknown item")) | E66: =IF(GateLog[[#This Row],[Item ID]]="","",IFERROR(INDEX(DefinitionOfDone[Required?],MATCH(GateLog[[#This Row],[Item ID]],DefinitionOfDone[ID],0)),"")) | I66: =IF(GateLog[[#This Row],[Result]]="","",IF(COUNTIFS(GateLog[Release],GateLog[[#This Row],[Release]],GateLog[Item ID],GateLog[[#This Row],[Item ID]])>1,"Duplicate",IF(GateLog[[#This Row],[Item]]="Unknown item","Unknown item",IF(AND(GateLog[[#This Row],[Result]]="Fail",GateLog[[#This Row],[Required?]]="Yes"),"Blocker",IF(AND(OR(GateLog[[#This Row],[Result]]="Fail",GateLog[[#This Row],[Result]]="Waived"),GateLog[[#This Row],[Notes]]=""),"Add note","")))))
D67: =IF(GateLog[[#This Row],[Item ID]]="","",IFERROR(INDEX(DefinitionOfDone[Item],MATCH(GateLog[[#This Row],[Item ID]],DefinitionOfDone[ID],0)),"Unknown item")) | E67: =IF(GateLog[[#This Row],[Item ID]]="","",IFERROR(INDEX(DefinitionOfDone[Required?],MATCH(GateLog[[#This Row],[Item ID]],DefinitionOfDone[ID],0)),"")) | I67: =IF(GateLog[[#This Row],[Result]]="","",IF(COUNTIFS(GateLog[Release],GateLog[[#This Row],[Release]],GateLog[Item ID],GateLog[[#This Row],[Item ID]])>1,"Duplicate",IF(GateLog[[#This Row],[Item]]="Unknown item","Unknown item",IF(AND(GateLog[[#This Row],[Result]]="Fail",GateLog[[#This Row],[Required?]]="Yes"),"Blocker",IF(AND(OR(GateLog[[#This Row],[Result]]="Fail",GateLog[[#This Row],[Result]]="Waived"),GateLog[[#This Row],[Notes]]=""),"Add note","")))))
D68: =IF(GateLog[[#This Row],[Item ID]]="","",IFERROR(INDEX(DefinitionOfDone[Item],MATCH(GateLog[[#This Row],[Item ID]],DefinitionOfDone[ID],0)),"Unknown item")) | E68: =IF(GateLog[[#This Row],[Item ID]]="","",IFERROR(INDEX(DefinitionOfDone[Required?],MATCH(GateLog[[#This Row],[Item ID]],DefinitionOfDone[ID],0)),"")) | I68: =IF(GateLog[[#This Row],[Result]]="","",IF(COUNTIFS(GateLog[Release],GateLog[[#This Row],[Release]],GateLog[Item ID],GateLog[[#This Row],[Item ID]])>1,"Duplicate",IF(GateLog[[#This Row],[Item]]="Unknown item","Unknown item",IF(AND(GateLog[[#This Row],[Result]]="Fail",GateLog[[#This Row],[Required?]]="Yes"),"Blocker",IF(AND(OR(GateLog[[#This Row],[Result]]="Fail",GateLog[[#This Row],[Result]]="Waived"),GateLog[[#This Row],[Notes]]=""),"Add note","")))))
D69: =IF(GateLog[[#This Row],[Item ID]]="","",IFERROR(INDEX(DefinitionOfDone[Item],MATCH(GateLog[[#This Row],[Item ID]],DefinitionOfDone[ID],0)),"Unknown item")) | E69: =IF(GateLog[[#This Row],[Item ID]]="","",IFERROR(INDEX(DefinitionOfDone[Required?],MATCH(GateLog[[#This Row],[Item ID]],DefinitionOfDone[ID],0)),"")) | I69: =IF(GateLog[[#This Row],[Result]]="","",IF(COUNTIFS(GateLog[Release],GateLog[[#This Row],[Release]],GateLog[Item ID],GateLog[[#This Row],[Item ID]])>1,"Duplicate",IF(GateLog[[#This Row],[Item]]="Unknown item","Unknown item",IF(AND(GateLog[[#This Row],[Result]]="Fail",GateLog[[#This Row],[Required?]]="Yes"),"Blocker",IF(AND(OR(GateLog[[#This Row],[Result]]="Fail",GateLog[[#This Row],[Result]]="Waived"),GateLog[[#This Row],[Notes]]=""),"Add note","")))))
D70: =IF(GateLog[[#This Row],[Item ID]]="","",IFERROR(INDEX(DefinitionOfDone[Item],MATCH(GateLog[[#This Row],[Item ID]],DefinitionOfDone[ID],0)),"Unknown item")) | E70: =IF(GateLog[[#This Row],[Item ID]]="","",IFERROR(INDEX(DefinitionOfDone[Required?],MATCH(GateLog[[#This Row],[Item ID]],DefinitionOfDone[ID],0)),"")) | I70: =IF(GateLog[[#This Row],[Result]]="","",IF(COUNTIFS(GateLog[Release],GateLog[[#This Row],[Release]],GateLog[Item ID],GateLog[[#This Row],[Item ID]])>1,"Duplicate",IF(GateLog[[#This Row],[Item]]="Unknown item","Unknown item",IF(AND(GateLog[[#This Row],[Result]]="Fail",GateLog[[#This Row],[Required?]]="Yes"),"Blocker",IF(AND(OR(GateLog[[#This Row],[Result]]="Fail",GateLog[[#This Row],[Result]]="Waived"),GateLog[[#This Row],[Notes]]=""),"Add note","")))))
D71: =IF(GateLog[[#This Row],[Item ID]]="","",IFERROR(INDEX(DefinitionOfDone[Item],MATCH(GateLog[[#This Row],[Item ID]],DefinitionOfDone[ID],0)),"Unknown item")) | E71: =IF(GateLog[[#This Row],[Item ID]]="","",IFERROR(INDEX(DefinitionOfDone[Required?],MATCH(GateLog[[#This Row],[Item ID]],DefinitionOfDone[ID],0)),"")) | I71: =IF(GateLog[[#This Row],[Result]]="","",IF(COUNTIFS(GateLog[Release],GateLog[[#This Row],[Release]],GateLog[Item ID],GateLog[[#This Row],[Item ID]])>1,"Duplicate",IF(GateLog[[#This Row],[Item]]="Unknown item","Unknown item",IF(AND(GateLog[[#This Row],[Result]]="Fail",GateLog[[#This Row],[Required?]]="Yes"),"Blocker",IF(AND(OR(GateLog[[#This Row],[Result]]="Fail",GateLog[[#This Row],[Result]]="Waived"),GateLog[[#This Row],[Notes]]=""),"Add note","")))))
D72: =IF(GateLog[[#This Row],[Item ID]]="","",IFERROR(INDEX(DefinitionOfDone[Item],MATCH(GateLog[[#This Row],[Item ID]],DefinitionOfDone[ID],0)),"Unknown item")) | E72: =IF(GateLog[[#This Row],[Item ID]]="","",IFERROR(INDEX(DefinitionOfDone[Required?],MATCH(GateLog[[#This Row],[Item ID]],DefinitionOfDone[ID],0)),"")) | I72: =IF(GateLog[[#This Row],[Result]]="","",IF(COUNTIFS(GateLog[Release],GateLog[[#This Row],[Release]],GateLog[Item ID],GateLog[[#This Row],[Item ID]])>1,"Duplicate",IF(GateLog[[#This Row],[Item]]="Unknown item","Unknown item",IF(AND(GateLog[[#This Row],[Result]]="Fail",GateLog[[#This Row],[Required?]]="Yes"),"Blocker",IF(AND(OR(GateLog[[#This Row],[Result]]="Fail",GateLog[[#This Row],[Result]]="Waived"),GateLog[[#This Row],[Notes]]=""),"Add note","")))))
... D204: =IF(GateLog[[#This Row],[Item ID]]="","",IFERROR(INDEX(DefinitionOfDone[Item],MATCH(GateLog[[#This Row],[Item ID]],DefinitionOfDone[ID],0)),"Unknown item")) | E204: =IF(GateLog[[#This Row],[Item ID]]="","",IFERROR(INDEX(DefinitionOfDone[Required?],MATCH(GateLog[[#This Row],[Item ID]],DefinitionOfDone[ID],0)),"")) | I204: =IF(GateLog[[#This Row],[Result]]="","",IF(COUNTIFS(GateLog[Release],GateLog[[#This Row],[Release]],GateLog[Item ID],GateLog[[#This Row],[Item ID]])>1,"Duplicate",IF(GateLog[[#This Row],[Item]]="Unknown item","Unknown item",IF(AND(GateLog[[#This Row],[Result]]="Fail",GateLog[[#This Row],[Required?]]="Yes"),"Blocker",IF(AND(OR(GateLog[[#This Row],[Result]]="Fail",GateLog[[#This Row],[Result]]="Waived"),GateLog[[#This Row],[Notes]]=""),"Add note","")))))

Sheet Delivery Metrics
A1: DELIVERY METRICS (DORA)
A2: Enter one row per month (first day of the month). Grey columns calculate. Cells are shaded by DORA performance band (see right). Example rows are placeholders.
A3: =IF($K$11="","No data yet",TEXT($K$11,"mmmm yyyy")&" latest · "&COUNT(DeliveryMetrics[Deployments])&" months logged · Overall change failure rate "&TEXT(SUM(DeliveryMetrics[Failed deployments])/SUM(DeliveryMetrics[Deployments]),"0.0%")) -> September 2026 latest · 6 months logged · Overall change failure rate 10.9%
A4: Month (first day) | B4: Deployments | C4: Failed deployments | D4: Median lead time (days) | E4: Median time to restore (hours) | F4: Change failure rate | G4: Deployments per week | H4: Change failure rate (3-mo rolling) | J4: DORA PERFORMANCE BANDS (edit thresholds in yellow)
A5: 46113 | B5: 40 | C5: 6 | D5: 3 | E5: 2 | F5: =IF(OR(A5="",NOT(ISNUMBER(B5)),B5=0),"",C5/B5) -> 0.15 | G5: =IF(OR(A5="",NOT(ISNUMBER(B5))),"",B5/(DAY(EOMONTH(A5,0))/7)) -> 9.3333333 | H5: =IF(NOT(ISNUMBER(DeliveryMetrics[[#This Row],[Deployments]])),"",IFERROR(SUMIFS(DeliveryMetrics[Failed deployments],DeliveryMetrics[Month (first day)],">"&EDATE(DeliveryMetrics[[#This Row],[Month (first day)]],-3),DeliveryMetrics[Month (first day)],"<="&DeliveryMetrics[[#This Row],[Month (first day)]])/SUMIFS(DeliveryMetrics[Deployments],DeliveryMetrics[Month (first day)],">"&EDATE(DeliveryMetrics[[#This Row],[Month (first day)]],-3),DeliveryMetrics[Month (first day)],"<="&DeliveryMetrics[[#This Row],[Month (first day)]]),"")) -> 0.15 | J5: Metric | K5: Better when | L5: Elite | M5: High | N5: Medium | O5: Latest | P5: Prior | Q5: Band
A6: 46143 | B6: 44 | C6: 6 | D6: 3 | E6: 1.8 | F6: =IF(OR(A6="",NOT(ISNUMBER(B6)),B6=0),"",C6/B6) -> 0.13636364 | G6: =IF(OR(A6="",NOT(ISNUMBER(B6))),"",B6/(DAY(EOMONTH(A6,0))/7)) -> 9.9354839 | H6: =IF(NOT(ISNUMBER(DeliveryMetrics[[#This Row],[Deployments]])),"",IFERROR(SUMIFS(DeliveryMetrics[Failed deployments],DeliveryMetrics[Month (first day)],">"&EDATE(DeliveryMetrics[[#This Row],[Month (first day)]],-3),DeliveryMetrics[Month (first day)],"<="&DeliveryMetrics[[#This Row],[Month (first day)]])/SUMIFS(DeliveryMetrics[Deployments],DeliveryMetrics[Month (first day)],">"&EDATE(DeliveryMetrics[[#This Row],[Month (first day)]],-3),DeliveryMetrics[Month (first day)],"<="&DeliveryMetrics[[#This Row],[Month (first day)]]),"")) -> 0.14285714 | J6: Deployments per week | K6: Higher | L6: 7 | M6: 1 | N6: 0.25 | O6: =IF($K$11="","",IFERROR(INDEX(DeliveryMetrics[Deployments per week],MATCH($K$11,DeliveryMetrics[Month (first day)],0)),"")) -> 14 | P6: =IF($K$12="","",IFERROR(INDEX(DeliveryMetrics[Deployments per week],MATCH($K$12,DeliveryMetrics[Month (first day)],0)),"")) -> 13.096774 | Q6: =IF(O6="","",IF(IF($K6="Higher",O6>=L6,O6<=L6),"Elite",IF(IF($K6="Higher",O6>=M6,O6<=M6),"High",IF(IF($K6="Higher",O6>=N6,O6<=N6),"Medium","Low")))) -> Elite
A7: 46174 | B7: 48 | C7: 6 | D7: 2 | E7: 1.3 | F7: =IF(OR(A7="",NOT(ISNUMBER(B7)),B7=0),"",C7/B7) -> 0.125 | G7: =IF(OR(A7="",NOT(ISNUMBER(B7))),"",B7/(DAY(EOMONTH(A7,0))/7)) -> 11.2 | H7: =IF(NOT(ISNUMBER(DeliveryMetrics[[#This Row],[Deployments]])),"",IFERROR(SUMIFS(DeliveryMetrics[Failed deployments],DeliveryMetrics[Month (first day)],">"&EDATE(DeliveryMetrics[[#This Row],[Month (first day)]],-3),DeliveryMetrics[Month (first day)],"<="&DeliveryMetrics[[#This Row],[Month (first day)]])/SUMIFS(DeliveryMetrics[Deployments],DeliveryMetrics[Month (first day)],">"&EDATE(DeliveryMetrics[[#This Row],[Month (first day)]],-3),DeliveryMetrics[Month (first day)],"<="&DeliveryMetrics[[#This Row],[Month (first day)]]),"")) -> 0.13636364 | J7: Median lead time (days) | K7: Lower | L7: 1 | M7: 7 | N7: 30 | O7: =IF($K$11="","",IFERROR(INDEX(DeliveryMetrics[Median lead time (days)],MATCH($K$11,DeliveryMetrics[Month (first day)],0)),"")) -> 1 | P7: =IF($K$12="","",IFERROR(INDEX(DeliveryMetrics[Median lead time (days)],MATCH($K$12,DeliveryMetrics[Month (first day)],0)),"")) -> 1.5 | Q7: =IF(O7="","",IF(IF($K7="Higher",O7>=L7,O7<=L7),"Elite",IF(IF($K7="Higher",O7>=M7,O7<=M7),"High",IF(IF($K7="Higher",O7>=N7,O7<=N7),"Medium","Low")))) -> Elite
A8: 46204 | B8: 52 | C8: 5 | D8: 2 | E8: 1 | F8: =IF(OR(A8="",NOT(ISNUMBER(B8)),B8=0),"",C8/B8) -> 0.096153846 | G8: =IF(OR(A8="",NOT(ISNUMBER(B8))),"",B8/(DAY(EOMONTH(A8,0))/7)) -> 11.741935 | H8: =IF(NOT(ISNUMBER(DeliveryMetrics[[#This Row],[Deployments]])),"",IFERROR(SUMIFS(DeliveryMetrics[Failed deployments],DeliveryMetrics[Month (first day)],">"&EDATE(DeliveryMetrics[[#This Row],[Month (first day)]],-3),DeliveryMetrics[Month (first day)],"<="&DeliveryMetrics[[#This Row],[Month (first day)]])/SUMIFS(DeliveryMetrics[Deployments],DeliveryMetrics[Month (first day)],">"&EDATE(DeliveryMetrics[[#This Row],[Month (first day)]],-3),DeliveryMetrics[Month (first day)],"<="&DeliveryMetrics[[#This Row],[Month (first day)]]),"")) -> 0.11805556 | J8: Change failure rate | K8: Lower | L8: 0.05 | M8: 0.1 | N8: 0.15 | O8: =IF($K$11="","",IFERROR(INDEX(DeliveryMetrics[Change failure rate],MATCH($K$11,DeliveryMetrics[Month (first day)],0)),"")) -> 0.083333333 | P8: =IF($K$12="","",IFERROR(INDEX(DeliveryMetrics[Change failure rate],MATCH($K$12,DeliveryMetrics[Month (first day)],0)),"")) -> 0.086206897 | Q8: =IF(O8="","",IF(IF($K8="Higher",O8>=L8,O8<=L8),"Elite",IF(IF($K8="Higher",O8>=M8,O8<=M8),"High",IF(IF($K8="Higher",O8>=N8,O8<=N8),"Medium","Low")))) -> High
A9: 46235 | B9: 58 | C9: 5 | D9: 1.5 | E9: 0.8 | F9: =IF(OR(A9="",NOT(ISNUMBER(B9)),B9=0),"",C9/B9) -> 0.086206897 | G9: =IF(OR(A9="",NOT(ISNUMBER(B9))),"",B9/(DAY(EOMONTH(A9,0))/7)) -> 13.096774 | H9: =IF(NOT(ISNUMBER(DeliveryMetrics[[#This Row],[Deployments]])),"",IFERROR(SUMIFS(DeliveryMetrics[Failed deployments],DeliveryMetrics[Month (first day)],">"&EDATE(DeliveryMetrics[[#This Row],[Month (first day)]],-3),DeliveryMetrics[Month (first day)],"<="&DeliveryMetrics[[#This Row],[Month (first day)]])/SUMIFS(DeliveryMetrics[Deployments],DeliveryMetrics[Month (first day)],">"&EDATE(DeliveryMetrics[[#This Row],[Month (first day)]],-3),DeliveryMetrics[Month (first day)],"<="&DeliveryMetrics[[#This Row],[Month (first day)]]),"")) -> 0.10126582 | J9: Median time to restore (hours) | K9: Lower | L9: 1 | M9: 24 | N9: 168 | O9: =IF($K$11="","",IFERROR(INDEX(DeliveryMetrics[Median time to restore (hours)],MATCH($K$11,DeliveryMetrics[Month (first day)],0)),"")) -> 0.6 | P9: =IF($K$12="","",IFERROR(INDEX(DeliveryMetrics[Median time to restore (hours)],MATCH($K$12,DeliveryMetrics[Month (first day)],0)),"")) -> 0.8 | Q9: =IF(O9="","",IF(IF($K9="Higher",O9>=L9,O9<=L9),"Elite",IF(IF($K9="Higher",O9>=M9,O9<=M9),"High",IF(IF($K9="Higher",O9>=N9,O9<=N9),"Medium","Low")))) -> Elite
A10: 46266 | B10: 60 | C10: 5 | D10: 1 | E10: 0.6 | F10: =IF(OR(A10="",NOT(ISNUMBER(B10)),B10=0),"",C10/B10) -> 0.083333333 | G10: =IF(OR(A10="",NOT(ISNUMBER(B10))),"",B10/(DAY(EOMONTH(A10,0))/7)) -> 14 | H10: =IF(NOT(ISNUMBER(DeliveryMetrics[[#This Row],[Deployments]])),"",IFERROR(SUMIFS(DeliveryMetrics[Failed deployments],DeliveryMetrics[Month (first day)],">"&EDATE(DeliveryMetrics[[#This Row],[Month (first day)]],-3),DeliveryMetrics[Month (first day)],"<="&DeliveryMetrics[[#This Row],[Month (first day)]])/SUMIFS(DeliveryMetrics[Deployments],DeliveryMetrics[Month (first day)],">"&EDATE(DeliveryMetrics[[#This Row],[Month (first day)]],-3),DeliveryMetrics[Month (first day)],"<="&DeliveryMetrics[[#This Row],[Month (first day)]]),"")) -> 0.088235294 | J10: Cut-offs: anything beyond Medium is Low. Defaults approximate DORA research; set your own standard.
F11: =IF(OR(A11="",NOT(ISNUMBER(B11)),B11=0),"",C11/B11) | G11: =IF(OR(A11="",NOT(ISNUMBER(B11))),"",B11/(DAY(EOMONTH(A11,0))/7)) | H11: =IF(NOT(ISNUMBER(DeliveryMetrics[[#This Row],[Deployments]])),"",IFERROR(SUMIFS(DeliveryMetrics[Failed deployments],DeliveryMetrics[Month (first day)],">"&EDATE(DeliveryMetrics[[#This Row],[Month (first day)]],-3),DeliveryMetrics[Month (first day)],"<="&DeliveryMetrics[[#This Row],[Month (first day)]])/SUMIFS(DeliveryMetrics[Deployments],DeliveryMetrics[Month (first day)],">"&EDATE(DeliveryMetrics[[#This Row],[Month (first day)]],-3),DeliveryMetrics[Month (first day)],"<="&DeliveryMetrics[[#This Row],[Month (first day)]]),"")) | J11: Latest month with data | K11: =IF(COUNT(DeliveryMetrics[Deployments])=0,"",_xlfn.MAXIFS(DeliveryMetrics[Month (first day)],DeliveryMetrics[Deployments],">=0")) -> 46266
F12: =IF(OR(A12="",NOT(ISNUMBER(B12)),B12=0),"",C12/B12) | G12: =IF(OR(A12="",NOT(ISNUMBER(B12))),"",B12/(DAY(EOMONTH(A12,0))/7)) | H12: =IF(NOT(ISNUMBER(DeliveryMetrics[[#This Row],[Deployments]])),"",IFERROR(SUMIFS(DeliveryMetrics[Failed deployments],DeliveryMetrics[Month (first day)],">"&EDATE(DeliveryMetrics[[#This Row],[Month (first day)]],-3),DeliveryMetrics[Month (first day)],"<="&DeliveryMetrics[[#This Row],[Month (first day)]])/SUMIFS(DeliveryMetrics[Deployments],DeliveryMetrics[Month (first day)],">"&EDATE(DeliveryMetrics[[#This Row],[Month (first day)]],-3),DeliveryMetrics[Month (first day)],"<="&DeliveryMetrics[[#This Row],[Month (first day)]]),"")) | J12: Prior month | K12: =IF(K11="","",EDATE(K11,-1)) -> 46235
F13: =IF(OR(A13="",NOT(ISNUMBER(B13)),B13=0),"",C13/B13) | G13: =IF(OR(A13="",NOT(ISNUMBER(B13))),"",B13/(DAY(EOMONTH(A13,0))/7)) | H13: =IF(NOT(ISNUMBER(DeliveryMetrics[[#This Row],[Deployments]])),"",IFERROR(SUMIFS(DeliveryMetrics[Failed deployments],DeliveryMetrics[Month (first day)],">"&EDATE(DeliveryMetrics[[#This Row],[Month (first day)]],-3),DeliveryMetrics[Month (first day)],"<="&DeliveryMetrics[[#This Row],[Month (first day)]])/SUMIFS(DeliveryMetrics[Deployments],DeliveryMetrics[Month (first day)],">"&EDATE(DeliveryMetrics[[#This Row],[Month (first day)]],-3),DeliveryMetrics[Month (first day)],"<="&DeliveryMetrics[[#This Row],[Month (first day)]]),""))
F14: =IF(OR(A14="",NOT(ISNUMBER(B14)),B14=0),"",C14/B14) | G14: =IF(OR(A14="",NOT(ISNUMBER(B14))),"",B14/(DAY(EOMONTH(A14,0))/7)) | H14: =IF(NOT(ISNUMBER(DeliveryMetrics[[#This Row],[Deployments]])),"",IFERROR(SUMIFS(DeliveryMetrics[Failed deployments],DeliveryMetrics[Month (first day)],">"&EDATE(DeliveryMetrics[[#This Row],[Month (first day)]],-3),DeliveryMetrics[Month (first day)],"<="&DeliveryMetrics[[#This Row],[Month (first day)]])/SUMIFS(DeliveryMetrics[Deployments],DeliveryMetrics[Month (first day)],">"&EDATE(DeliveryMetrics[[#This Row],[Month (first day)]],-3),DeliveryMetrics[Month (first day)],"<="&DeliveryMetrics[[#This Row],[Month (first day)]]),""))
F15: =IF(OR(A15="",NOT(ISNUMBER(B15)),B15=0),"",C15/B15) | G15: =IF(OR(A15="",NOT(ISNUMBER(B15))),"",B15/(DAY(EOMONTH(A15,0))/7)) | H15: =IF(NOT(ISNUMBER(DeliveryMetrics[[#This Row],[Deployments]])),"",IFERROR(SUMIFS(DeliveryMetrics[Failed deployments],DeliveryMetrics[Month (first day)],">"&EDATE(DeliveryMetrics[[#This Row],[Month (first day)]],-3),DeliveryMetrics[Month (first day)],"<="&DeliveryMetrics[[#This Row],[Month (first day)]])/SUMIFS(DeliveryMetrics[Deployments],DeliveryMetrics[Month (first day)],">"&EDATE(DeliveryMetrics[[#This Row],[Month (first day)]],-3),DeliveryMetrics[Month (first day)],"<="&DeliveryMetrics[[#This Row],[Month (first day)]]),""))
F16: =IF(OR(A16="",NOT(ISNUMBER(B16)),B16=0),"",C16/B16) | G16: =IF(OR(A16="",NOT(ISNUMBER(B16))),"",B16/(DAY(EOMONTH(A16,0))/7)) | H16: =IF(NOT(ISNUMBER(DeliveryMetrics[[#This Row],[Deployments]])),"",IFERROR(SUMIFS(DeliveryMetrics[Failed deployments],DeliveryMetrics[Month (first day)],">"&EDATE(DeliveryMetrics[[#This Row],[Month (first day)]],-3),DeliveryMetrics[Month (first day)],"<="&DeliveryMetrics[[#This Row],[Month (first day)]])/SUMIFS(DeliveryMetrics[Deployments],DeliveryMetrics[Month (first day)],">"&EDATE(DeliveryMetrics[[#This Row],[Month (first day)]],-3),DeliveryMetrics[Month (first day)],"<="&DeliveryMetrics[[#This Row],[Month (first day)]]),""))
F17: =IF(OR(A17="",NOT(ISNUMBER(B17)),B17=0),"",C17/B17) | G17: =IF(OR(A17="",NOT(ISNUMBER(B17))),"",B17/(DAY(EOMONTH(A17,0))/7)) | H17: =IF(NOT(ISNUMBER(DeliveryMetrics[[#This Row],[Deployments]])),"",IFERROR(SUMIFS(DeliveryMetrics[Failed deployments],DeliveryMetrics[Month (first day)],">"&EDATE(DeliveryMetrics[[#This Row],[Month (first day)]],-3),DeliveryMetrics[Month (first day)],"<="&DeliveryMetrics[[#This Row],[Month (first day)]])/SUMIFS(DeliveryMetrics[Deployments],DeliveryMetrics[Month (first day)],">"&EDATE(DeliveryMetrics[[#This Row],[Month (first day)]],-3),DeliveryMetrics[Month (first day)],"<="&DeliveryMetrics[[#This Row],[Month (first day)]]),""))
F18: =IF(OR(A18="",NOT(ISNUMBER(B18)),B18=0),"",C18/B18) | G18: =IF(OR(A18="",NOT(ISNUMBER(B18))),"",B18/(DAY(EOMONTH(A18,0))/7)) | H18: =IF(NOT(ISNUMBER(DeliveryMetrics[[#This Row],[Deployments]])),"",IFERROR(SUMIFS(DeliveryMetrics[Failed deployments],DeliveryMetrics[Month (first day)],">"&EDATE(DeliveryMetrics[[#This Row],[Month (first day)]],-3),DeliveryMetrics[Month (first day)],"<="&DeliveryMetrics[[#This Row],[Month (first day)]])/SUMIFS(DeliveryMetrics[Deployments],DeliveryMetrics[Month (first day)],">"&EDATE(DeliveryMetrics[[#This Row],[Month (first day)]],-3),DeliveryMetrics[Month (first day)],"<="&DeliveryMetrics[[#This Row],[Month (first day)]]),""))
F19: =IF(OR(A19="",NOT(ISNUMBER(B19)),B19=0),"",C19/B19) | G19: =IF(OR(A19="",NOT(ISNUMBER(B19))),"",B19/(DAY(EOMONTH(A19,0))/7)) | H19: =IF(NOT(ISNUMBER(DeliveryMetrics[[#This Row],[Deployments]])),"",IFERROR(SUMIFS(DeliveryMetrics[Failed deployments],DeliveryMetrics[Month (first day)],">"&EDATE(DeliveryMetrics[[#This Row],[Month (first day)]],-3),DeliveryMetrics[Month (first day)],"<="&DeliveryMetrics[[#This Row],[Month (first day)]])/SUMIFS(DeliveryMetrics[Deployments],DeliveryMetrics[Month (first day)],">"&EDATE(DeliveryMetrics[[#This Row],[Month (first day)]],-3),DeliveryMetrics[Month (first day)],"<="&DeliveryMetrics[[#This Row],[Month (first day)]]),""))
F20: =IF(OR(A20="",NOT(ISNUMBER(B20)),B20=0),"",C20/B20) | G20: =IF(OR(A20="",NOT(ISNUMBER(B20))),"",B20/(DAY(EOMONTH(A20,0))/7)) | H20: =IF(NOT(ISNUMBER(DeliveryMetrics[[#This Row],[Deployments]])),"",IFERROR(SUMIFS(DeliveryMetrics[Failed deployments],DeliveryMetrics[Month (first day)],">"&EDATE(DeliveryMetrics[[#This Row],[Month (first day)]],-3),DeliveryMetrics[Month (first day)],"<="&DeliveryMetrics[[#This Row],[Month (first day)]])/SUMIFS(DeliveryMetrics[Deployments],DeliveryMetrics[Month (first day)],">"&EDATE(DeliveryMetrics[[#This Row],[Month (first day)]],-3),DeliveryMetrics[Month (first day)],"<="&DeliveryMetrics[[#This Row],[Month (first day)]]),""))
F21: =IF(OR(A21="",NOT(ISNUMBER(B21)),B21=0),"",C21/B21) | G21: =IF(OR(A21="",NOT(ISNUMBER(B21))),"",B21/(DAY(EOMONTH(A21,0))/7)) | H21: =IF(NOT(ISNUMBER(DeliveryMetrics[[#This Row],[Deployments]])),"",IFERROR(SUMIFS(DeliveryMetrics[Failed deployments],DeliveryMetrics[Month (first day)],">"&EDATE(DeliveryMetrics[[#This Row],[Month (first day)]],-3),DeliveryMetrics[Month (first day)],"<="&DeliveryMetrics[[#This Row],[Month (first day)]])/SUMIFS(DeliveryMetrics[Deployments],DeliveryMetrics[Month (first day)],">"&EDATE(DeliveryMetrics[[#This Row],[Month (first day)]],-3),DeliveryMetrics[Month (first day)],"<="&DeliveryMetrics[[#This Row],[Month (first day)]]),""))
F22: =IF(OR(A22="",NOT(ISNUMBER(B22)),B22=0),"",C22/B22) | G22: =IF(OR(A22="",NOT(ISNUMBER(B22))),"",B22/(DAY(EOMONTH(A22,0))/7)) | H22: =IF(NOT(ISNUMBER(DeliveryMetrics[[#This Row],[Deployments]])),"",IFERROR(SUMIFS(DeliveryMetrics[Failed deployments],DeliveryMetrics[Month (first day)],">"&EDATE(DeliveryMetrics[[#This Row],[Month (first day)]],-3),DeliveryMetrics[Month (first day)],"<="&DeliveryMetrics[[#This Row],[Month (first day)]])/SUMIFS(DeliveryMetrics[Deployments],DeliveryMetrics[Month (first day)],">"&EDATE(DeliveryMetrics[[#This Row],[Month (first day)]],-3),DeliveryMetrics[Month (first day)],"<="&DeliveryMetrics[[#This Row],[Month (first day)]]),""))
F23: =IF(OR(A23="",NOT(ISNUMBER(B23)),B23=0),"",C23/B23) | G23: =IF(OR(A23="",NOT(ISNUMBER(B23))),"",B23/(DAY(EOMONTH(A23,0))/7)) | H23: =IF(NOT(ISNUMBER(DeliveryMetrics[[#This Row],[Deployments]])),"",IFERROR(SUMIFS(DeliveryMetrics[Failed deployments],DeliveryMetrics[Month (first day)],">"&EDATE(DeliveryMetrics[[#This Row],[Month (first day)]],-3),DeliveryMetrics[Month (first day)],"<="&DeliveryMetrics[[#This Row],[Month (first day)]])/SUMIFS(DeliveryMetrics[Deployments],DeliveryMetrics[Month (first day)],">"&EDATE(DeliveryMetrics[[#This Row],[Month (first day)]],-3),DeliveryMetrics[Month (first day)],"<="&DeliveryMetrics[[#This Row],[Month (first day)]]),""))
F24: =IF(OR(A24="",NOT(ISNUMBER(B24)),B24=0),"",C24/B24) | G24: =IF(OR(A24="",NOT(ISNUMBER(B24))),"",B24/(DAY(EOMONTH(A24,0))/7)) | H24: =IF(NOT(ISNUMBER(DeliveryMetrics[[#This Row],[Deployments]])),"",IFERROR(SUMIFS(DeliveryMetrics[Failed deployments],DeliveryMetrics[Month (first day)],">"&EDATE(DeliveryMetrics[[#This Row],[Month (first day)]],-3),DeliveryMetrics[Month (first day)],"<="&DeliveryMetrics[[#This Row],[Month (first day)]])/SUMIFS(DeliveryMetrics[Deployments],DeliveryMetrics[Month (first day)],">"&EDATE(DeliveryMetrics[[#This Row],[Month (first day)]],-3),DeliveryMetrics[Month (first day)],"<="&DeliveryMetrics[[#This Row],[Month (first day)]]),""))
... F37: =IF(OR(A37="",NOT(ISNUMBER(B37)),B37=0),"",C37/B37) | G37: =IF(OR(A37="",NOT(ISNUMBER(B37))),"",B37/(DAY(EOMONTH(A37,0))/7)) | H37: =IF(NOT(ISNUMBER(DeliveryMetrics[[#This Row],[Deployments]])),"",IFERROR(SUMIFS(DeliveryMetrics[Failed deployments],DeliveryMetrics[Month (first day)],">"&EDATE(DeliveryMetrics[[#This Row],[Month (first day)]],-3),DeliveryMetrics[Month (first day)],"<="&DeliveryMetrics[[#This Row],[Month (first day)]])/SUMIFS(DeliveryMetrics[Deployments],DeliveryMetrics[Month (first day)],">"&EDATE(DeliveryMetrics[[#This Row],[Month (first day)]],-3),DeliveryMetrics[Month (first day)],"<="&DeliveryMetrics[[#This Row],[Month (first day)]]),""))
F38: =IF(OR(A38="",NOT(ISNUMBER(B38)),B38=0),"",C38/B38) | G38: =IF(OR(A38="",NOT(ISNUMBER(B38))),"",B38/(DAY(EOMONTH(A38,0))/7)) | H38: =IF(NOT(ISNUMBER(DeliveryMetrics[[#This Row],[Deployments]])),"",IFERROR(SUMIFS(DeliveryMetrics[Failed deployments],DeliveryMetrics[Month (first day)],">"&EDATE(DeliveryMetrics[[#This Row],[Month (first day)]],-3),DeliveryMetrics[Month (first day)],"<="&DeliveryMetrics[[#This Row],[Month (first day)]])/SUMIFS(DeliveryMetrics[Deployments],DeliveryMetrics[Month (first day)],">"&EDATE(DeliveryMetrics[[#This Row],[Month (first day)]],-3),DeliveryMetrics[Month (first day)],"<="&DeliveryMetrics[[#This Row],[Month (first day)]]),"")) | J38: CHART DATA (latest 6 months, feeds the charts; do not edit)
F39: =IF(OR(A39="",NOT(ISNUMBER(B39)),B39=0),"",C39/B39) | G39: =IF(OR(A39="",NOT(ISNUMBER(B39))),"",B39/(DAY(EOMONTH(A39,0))/7)) | H39: =IF(NOT(ISNUMBER(DeliveryMetrics[[#This Row],[Deployments]])),"",IFERROR(SUMIFS(DeliveryMetrics[Failed deployments],DeliveryMetrics[Month (first day)],">"&EDATE(DeliveryMetrics[[#This Row],[Month (first day)]],-3),DeliveryMetrics[Month (first day)],"<="&DeliveryMetrics[[#This Row],[Month (first day)]])/SUMIFS(DeliveryMetrics[Deployments],DeliveryMetrics[Month (first day)],">"&EDATE(DeliveryMetrics[[#This Row],[Month (first day)]],-3),DeliveryMetrics[Month (first day)],"<="&DeliveryMetrics[[#This Row],[Month (first day)]]),"")) | J39: Month | K39: Change failure rate | L39: Change failure rate (3-mo rolling) | M39: Deployments per week | N39: Median lead time (days) | O39: Median time to restore (hours)
F40: =IF(OR(A40="",NOT(ISNUMBER(B40)),B40=0),"",C40/B40) | G40: =IF(OR(A40="",NOT(ISNUMBER(B40))),"",B40/(DAY(EOMONTH(A40,0))/7)) | H40: =IF(NOT(ISNUMBER(DeliveryMetrics[[#This Row],[Deployments]])),"",IFERROR(SUMIFS(DeliveryMetrics[Failed deployments],DeliveryMetrics[Month (first day)],">"&EDATE(DeliveryMetrics[[#This Row],[Month (first day)]],-3),DeliveryMetrics[Month (first day)],"<="&DeliveryMetrics[[#This Row],[Month (first day)]])/SUMIFS(DeliveryMetrics[Deployments],DeliveryMetrics[Month (first day)],">"&EDATE(DeliveryMetrics[[#This Row],[Month (first day)]],-3),DeliveryMetrics[Month (first day)],"<="&DeliveryMetrics[[#This Row],[Month (first day)]]),"")) | J40: =IF($K$11="","",EDATE($K$11,ROWS(J$40:J40)-6)) -> 46113 | K40: =IFERROR(1*INDEX(DeliveryMetrics[],MATCH($J40,DeliveryMetrics[Month (first day)],0),MATCH(K$39,DeliveryMetrics[#Headers],0)),NA()) -> 0.15 | L40: =IFERROR(1*INDEX(DeliveryMetrics[],MATCH($J40,DeliveryMetrics[Month (first day)],0),MATCH(L$39,DeliveryMetrics[#Headers],0)),NA()) -> 0.15 | M40: =IFERROR(1*INDEX(DeliveryMetrics[],MATCH($J40,DeliveryMetrics[Month (first day)],0),MATCH(M$39,DeliveryMetrics[#Headers],0)),NA()) -> 9.3333333 | N40: =IFERROR(1*INDEX(DeliveryMetrics[],MATCH($J40,DeliveryMetrics[Month (first day)],0),MATCH(N$39,DeliveryMetrics[#Headers],0)),NA()) -> 3 | O40: =IFERROR(1*INDEX(DeliveryMetrics[],MATCH($J40,DeliveryMetrics[Month (first day)],0),MATCH(O$39,DeliveryMetrics[#Headers],0)),NA()) -> 2
J41: =IF($K$11="","",EDATE($K$11,ROWS(J$40:J41)-6)) -> 46143 | K41: =IFERROR(1*INDEX(DeliveryMetrics[],MATCH($J41,DeliveryMetrics[Month (first day)],0),MATCH(K$39,DeliveryMetrics[#Headers],0)),NA()) -> 0.13636364 | L41: =IFERROR(1*INDEX(DeliveryMetrics[],MATCH($J41,DeliveryMetrics[Month (first day)],0),MATCH(L$39,DeliveryMetrics[#Headers],0)),NA()) -> 0.14285714 | M41: =IFERROR(1*INDEX(DeliveryMetrics[],MATCH($J41,DeliveryMetrics[Month (first day)],0),MATCH(M$39,DeliveryMetrics[#Headers],0)),NA()) -> 9.9354839 | N41: =IFERROR(1*INDEX(DeliveryMetrics[],MATCH($J41,DeliveryMetrics[Month (first day)],0),MATCH(N$39,DeliveryMetrics[#Headers],0)),NA()) -> 3 | O41: =IFERROR(1*INDEX(DeliveryMetrics[],MATCH($J41,DeliveryMetrics[Month (first day)],0),MATCH(O$39,DeliveryMetrics[#Headers],0)),NA()) -> 1.8
J42: =IF($K$11="","",EDATE($K$11,ROWS(J$40:J42)-6)) -> 46174 | K42: =IFERROR(1*INDEX(DeliveryMetrics[],MATCH($J42,DeliveryMetrics[Month (first day)],0),MATCH(K$39,DeliveryMetrics[#Headers],0)),NA()) -> 0.125 | L42: =IFERROR(1*INDEX(DeliveryMetrics[],MATCH($J42,DeliveryMetrics[Month (first day)],0),MATCH(L$39,DeliveryMetrics[#Headers],0)),NA()) -> 0.13636364 | M42: =IFERROR(1*INDEX(DeliveryMetrics[],MATCH($J42,DeliveryMetrics[Month (first day)],0),MATCH(M$39,DeliveryMetrics[#Headers],0)),NA()) -> 11.2 | N42: =IFERROR(1*INDEX(DeliveryMetrics[],MATCH($J42,DeliveryMetrics[Month (first day)],0),MATCH(N$39,DeliveryMetrics[#Headers],0)),NA()) -> 2 | O42: =IFERROR(1*INDEX(DeliveryMetrics[],MATCH($J42,DeliveryMetrics[Month (first day)],0),MATCH(O$39,DeliveryMetrics[#Headers],0)),NA()) -> 1.3
J43: =IF($K$11="","",EDATE($K$11,ROWS(J$40:J43)-6)) -> 46204 | K43: =IFERROR(1*INDEX(DeliveryMetrics[],MATCH($J43,DeliveryMetrics[Month (first day)],0),MATCH(K$39,DeliveryMetrics[#Headers],0)),NA()) -> 0.096153846 | L43: =IFERROR(1*INDEX(DeliveryMetrics[],MATCH($J43,DeliveryMetrics[Month (first day)],0),MATCH(L$39,DeliveryMetrics[#Headers],0)),NA()) -> 0.11805556 | M43: =IFERROR(1*INDEX(DeliveryMetrics[],MATCH($J43,DeliveryMetrics[Month (first day)],0),MATCH(M$39,DeliveryMetrics[#Headers],0)),NA()) -> 11.741935 | N43: =IFERROR(1*INDEX(DeliveryMetrics[],MATCH($J43,DeliveryMetrics[Month (first day)],0),MATCH(N$39,DeliveryMetrics[#Headers],0)),NA()) -> 2 | O43: =IFERROR(1*INDEX(DeliveryMetrics[],MATCH($J43,DeliveryMetrics[Month (first day)],0),MATCH(O$39,DeliveryMetrics[#Headers],0)),NA()) -> 1
J44: =IF($K$11="","",EDATE($K$11,ROWS(J$40:J44)-6)) -> 46235 | K44: =IFERROR(1*INDEX(DeliveryMetrics[],MATCH($J44,DeliveryMetrics[Month (first day)],0),MATCH(K$39,DeliveryMetrics[#Headers],0)),NA()) -> 0.086206897 | L44: =IFERROR(1*INDEX(DeliveryMetrics[],MATCH($J44,DeliveryMetrics[Month (first day)],0),MATCH(L$39,DeliveryMetrics[#Headers],0)),NA()) -> 0.10126582 | M44: =IFERROR(1*INDEX(DeliveryMetrics[],MATCH($J44,DeliveryMetrics[Month (first day)],0),MATCH(M$39,DeliveryMetrics[#Headers],0)),NA()) -> 13.096774 | N44: =IFERROR(1*INDEX(DeliveryMetrics[],MATCH($J44,DeliveryMetrics[Month (first day)],0),MATCH(N$39,DeliveryMetrics[#Headers],0)),NA()) -> 1.5 | O44: =IFERROR(1*INDEX(DeliveryMetrics[],MATCH($J44,DeliveryMetrics[Month (first day)],0),MATCH(O$39,DeliveryMetrics[#Headers],0)),NA()) -> 0.8
J45: =IF($K$11="","",EDATE($K$11,ROWS(J$40:J45)-6)) -> 46266 | K45: =IFERROR(1*INDEX(DeliveryMetrics[],MATCH($J45,DeliveryMetrics[Month (first day)],0),MATCH(K$39,DeliveryMetrics[#Headers],0)),NA()) -> 0.083333333 | L45: =IFERROR(1*INDEX(DeliveryMetrics[],MATCH($J45,DeliveryMetrics[Month (first day)],0),MATCH(L$39,DeliveryMetrics[#Headers],0)),NA()) -> 0.088235294 | M45: =IFERROR(1*INDEX(DeliveryMetrics[],MATCH($J45,DeliveryMetrics[Month (first day)],0),MATCH(M$39,DeliveryMetrics[#Headers],0)),NA()) -> 14 | N45: =IFERROR(1*INDEX(DeliveryMetrics[],MATCH($J45,DeliveryMetrics[Month (first day)],0),MATCH(N$39,DeliveryMetrics[#Headers],0)),NA()) -> 1 | O45: =IFERROR(1*INDEX(DeliveryMetrics[],MATCH($J45,DeliveryMetrics[Month (first day)],0),MATCH(O$39,DeliveryMetrics[#Headers],0)),NA()) -> 0.6
